BEGIN:VCALENDAR
VERSION:2.0
PRODID:-//EMSCES911 - ECPv6.15.20//NONSGML v1.0//EN
CALSCALE:GREGORIAN
METHOD:PUBLISH
X-WR-CALNAME:EMSCES911
X-ORIGINAL-URL:https://emsces911.org
X-WR-CALDESC:Events for EMSCES911
REFRESH-INTERVAL;VALUE=DURATION:PT1H
X-Robots-Tag:noindex
X-PUBLISHED-TTL:PT1H
BEGIN:VTIMEZONE
TZID:America/Los_Angeles
BEGIN:DAYLIGHT
TZOFFSETFROM:-0800
TZOFFSETTO:-0700
TZNAME:PDT
DTSTART:20240310T100000
END:DAYLIGHT
BEGIN:STANDARD
TZOFFSETFROM:-0700
TZOFFSETTO:-0800
TZNAME:PST
DTSTART:20241103T090000
END:STANDARD
BEGIN:DAYLIGHT
TZOFFSETFROM:-0800
TZOFFSETTO:-0700
TZNAME:PDT
DTSTART:20250309T100000
END:DAYLIGHT
BEGIN:STANDARD
TZOFFSETFROM:-0700
TZOFFSETTO:-0800
TZNAME:PST
DTSTART:20251102T090000
END:STANDARD
BEGIN:DAYLIGHT
TZOFFSETFROM:-0800
TZOFFSETTO:-0700
TZNAME:PDT
DTSTART:20260308T100000
END:DAYLIGHT
BEGIN:STANDARD
TZOFFSETFROM:-0700
TZOFFSETTO:-0800
TZNAME:PST
DTSTART:20261101T090000
END:STANDARD
END:VTIMEZONE
BEGIN:VEVENT
DTSTART;TZID=America/Los_Angeles:20251201T080000
DTEND;TZID=America/Los_Angeles:20251201T140000
DTSTAMP:20260425T092529
CREATED:20251113T000749Z
LAST-MODIFIED:20251113T000749Z
UID:13108-1764576000-1764597600@emsces911.org
SUMMARY:Advanced Cardiac Life Support Renewal Course
DESCRIPTION:Advanced Cardiac Life Support Renewal Course \nhttps://shopcpr.heart.org/acls-provider-manual or https://shopcpr.heart.org/acls-provider-manual-ebook \nFor this course you will need to have the ACLS textbook (required) and ECC handbook (optional). These item can be purchased at the link above. The pre test within the textbook must be completed and your score of 70% or greater printed and brought with you to class. \nACLS Pretest:\nhttps://elearning.heart.org/licenses/1548/38967469
URL:https://emsces911.org/event/advanced-cardiac-life-support-renewal-course-142/
LOCATION:EMSCES911\, 679 North Palora Ave #A\, Yuba City\, CA\, 95993\, United States
CATEGORIES:ACLS
END:VEVENT
BEGIN:VEVENT
DTSTART;TZID=America/Los_Angeles:20251201T180000
DTEND;TZID=America/Los_Angeles:20251201T210000
DTSTAMP:20260425T092529
CREATED:20250921T181438Z
LAST-MODIFIED:20250921T182047Z
UID:12794-1764612000-1764622800@emsces911.org
SUMMARY:EMR Training (Princeton Fire)
DESCRIPTION:EMR Training (Princeton Fire)
URL:https://emsces911.org/event/emr-training-princeton-fire-5/
LOCATION:CA
CATEGORIES:EMT Refresher
END:VEVENT
BEGIN:VEVENT
DTSTART;TZID=America/Los_Angeles:20251202T080000
DTEND;TZID=America/Los_Angeles:20251202T163000
DTSTAMP:20260425T092529
CREATED:20251127T215137Z
LAST-MODIFIED:20251127T215137Z
UID:13171-1764662400-1764693000@emsces911.org
SUMMARY:AHA PALS Provider/ Renewal Course
DESCRIPTION:AHA PALS Provider/ Renewal Course. Open to the public\nFor this course you will need the NEW PALS textbook (required). These items can be purchased at the link below. Take the pre test which is on the Website within the Textbook. Complete with a score of 70% or greater and print out the score. Please bring the printed score with you to class… \nProvider Course $201/Renewal Course $151  \nPALS Pretest Link: https://elearning.heart.org/course/427 \nPALS textbook: https://shopcpr.heart.org/pals-provider-manual
URL:https://emsces911.org/event/aha-pals-provider-renewal-course-103/
LOCATION:EMSCES911\, 679 North Palora Ave #A\, Yuba City\, CA\, 95993\, United States
CATEGORIES:PALS Classes
END:VEVENT
BEGIN:VEVENT
DTSTART;TZID=America/Los_Angeles:20251202T180000
DTEND;TZID=America/Los_Angeles:20251202T210000
DTSTAMP:20260425T092529
CREATED:20250921T182820Z
LAST-MODIFIED:20250921T182958Z
UID:12803-1764698400-1764709200@emsces911.org
SUMMARY:EMR Training (SAC. RIVER FIRE)
DESCRIPTION:EMR Training (SAC. RIVER FIRE)
URL:https://emsces911.org/event/emr-training-sac-river-fire-3/
LOCATION:CA
CATEGORIES:EMT Refresher
END:VEVENT
BEGIN:VEVENT
DTSTART;TZID=America/Los_Angeles:20251203T093000
DTEND;TZID=America/Los_Angeles:20251203T133000
DTSTAMP:20260425T092529
CREATED:20251113T003018Z
LAST-MODIFIED:20251201T181433Z
UID:13119-1764754200-1764768600@emsces911.org
SUMMARY:AHA Healthcare Provider BLS Course  2025
DESCRIPTION:AHA Healthcare Provider BLS Course  2025 \nThis is CPR for Healthcare Providers..This course is open to the public. This course is for anyone getting into the healthcare field \nTo Register Call or go to https://emsces911.org/book-now-classes/ \nBooks for this course can be purchased for $16.00. https://shopcpr.heart.org/bls-provider-manual
URL:https://emsces911.org/event/aha-healthcare-provider-bls-course-2025/
LOCATION:EMSCES911\, 679 North Palora Ave #A\, Yuba City\, CA\, 95993\, United States
CATEGORIES:Health Care Provider
END:VEVENT
BEGIN:VEVENT
DTSTART;TZID=America/Los_Angeles:20251203T130000
DTEND;TZID=America/Los_Angeles:20251203T150000
DTSTAMP:20260425T092529
CREATED:20251113T002636Z
LAST-MODIFIED:20251113T002636Z
UID:13116-1764766800-1764774000@emsces911.org
SUMMARY:CODE BLUE DRILLS (ADULT) (ASC)
DESCRIPTION:This is a CODE BLUE SESSION for SUTTER ASC.
URL:https://emsces911.org/event/code-blue-drills-adult-asc/
LOCATION:CA
CATEGORIES:RQI
END:VEVENT
BEGIN:VEVENT
DTSTART;TZID=America/Los_Angeles:20251204T110000
DTEND;TZID=America/Los_Angeles:20251204T150000
DTSTAMP:20260425T092529
CREATED:20251127T214228Z
LAST-MODIFIED:20251127T214228Z
UID:13165-1764846000-1764860400@emsces911.org
SUMMARY:AHA Healthcare Provider BLS Course  2025
DESCRIPTION:AHA Healthcare Provider BLS Course  2025 \nThis is CPR for Healthcare Providers..This course is open to the public. This course is for anyone getting into the healthcare field \nTo Register Call or go to https://emsces911.org/book-now-classes/ \nBooks for this course can be purchased for $16.00. https://shopcpr.heart.org/bls-provider-manual
URL:https://emsces911.org/event/aha-healthcare-provider-bls-course-2025-3/
LOCATION:EMSCES911\, 679 North Palora Ave #A\, Yuba City\, CA\, 95993\, United States
CATEGORIES:Health Care Provider
END:VEVENT
BEGIN:VEVENT
DTSTART;TZID=America/Los_Angeles:20251205T110000
DTEND;TZID=America/Los_Angeles:20251205T150000
DTSTAMP:20260425T092529
CREATED:20251127T214525Z
LAST-MODIFIED:20251127T214525Z
UID:13168-1764932400-1764946800@emsces911.org
SUMMARY:AHA Healthcare Provider BLS Course  2025
DESCRIPTION:AHA Healthcare Provider BLS Course  2025 \nThis is CPR for Healthcare Providers..This course is open to the public. This course is for anyone getting into the healthcare field \nTo Register Call or go to https://emsces911.org/book-now-classes/ \nBooks for this course can be purchased for $16.00. https://shopcpr.heart.org/bls-provider-manual
URL:https://emsces911.org/event/aha-healthcare-provider-bls-course-2025-4/
LOCATION:EMSCES911\, 679 North Palora Ave #A\, Yuba City\, CA\, 95993\, United States
CATEGORIES:Health Care Provider
END:VEVENT
BEGIN:VEVENT
DTSTART;TZID=America/Los_Angeles:20251206T110000
DTEND;TZID=America/Los_Angeles:20251206T150000
DTSTAMP:20260425T092529
CREATED:20251127T215809Z
LAST-MODIFIED:20251127T215809Z
UID:13178-1765018800-1765033200@emsces911.org
SUMMARY:AHA Healthcare Provider BLS Course  2025
DESCRIPTION:AHA Healthcare Provider BLS Course  2025 \nThis is CPR for Healthcare Providers..This course is open to the public. This course is for anyone getting into the healthcare field \nTo Register Call or go to https://emsces911.org/book-now-classes/ \nBooks for this course can be purchased for $16.00. https://shopcpr.heart.org/bls-provider-manual
URL:https://emsces911.org/event/aha-healthcare-provider-bls-course-2025-5/
LOCATION:EMSCES911\, 679 North Palora Ave #A\, Yuba City\, CA\, 95993\, United States
CATEGORIES:Health Care Provider
END:VEVENT
BEGIN:VEVENT
DTSTART;TZID=America/Los_Angeles:20251208T080000
DTEND;TZID=America/Los_Angeles:20251208T170000
DTSTAMP:20260425T092529
CREATED:20251113T001740Z
LAST-MODIFIED:20251113T001740Z
UID:13111-1765180800-1765213200@emsces911.org
SUMMARY:CLOSED
DESCRIPTION:CLOSED
URL:https://emsces911.org/event/closed-53/
LOCATION:CA
END:VEVENT
BEGIN:VEVENT
DTSTART;TZID=America/Los_Angeles:20251208T180000
DTEND;TZID=America/Los_Angeles:20251208T210000
DTSTAMP:20260425T092529
CREATED:20250921T184249Z
LAST-MODIFIED:20250921T184249Z
UID:12809-1765216800-1765227600@emsces911.org
SUMMARY:EMR Training (Princeton Fire)
DESCRIPTION:EMR Training (Princeton Fire)
URL:https://emsces911.org/event/emr-training-princeton-fire-7/
LOCATION:CA
CATEGORIES:EMT Refresher
END:VEVENT
BEGIN:VEVENT
DTSTART;TZID=America/Los_Angeles:20251209T180000
DTEND;TZID=America/Los_Angeles:20251209T210000
DTSTAMP:20260425T092529
CREATED:20250921T183103Z
LAST-MODIFIED:20250921T183103Z
UID:12805-1765303200-1765314000@emsces911.org
SUMMARY:EMR Training (SAC. RIVER FIRE)
DESCRIPTION:EMR Training (SAC. RIVER FIRE)
URL:https://emsces911.org/event/emr-training-sac-river-fire-4/
LOCATION:CA
CATEGORIES:EMT Refresher
END:VEVENT
BEGIN:VEVENT
DTSTART;TZID=America/Los_Angeles:20251210T123000
DTEND;TZID=America/Los_Angeles:20251210T163000
DTSTAMP:20260425T092529
CREATED:20251127T213706Z
LAST-MODIFIED:20251127T213706Z
UID:13162-1765369800-1765384200@emsces911.org
SUMMARY:AHA Healthcare Provider BLS Course  2025
DESCRIPTION:AHA Healthcare Provider BLS Course  2025 \nThis is CPR for Healthcare Providers..This course is open to the public. This course is for anyone getting into the healthcare field \nTo Register Call or go to https://emsces911.org/book-now-classes/ \nBooks for this course can be purchased for $16.00. https://shopcpr.heart.org/bls-provider-manual
URL:https://emsces911.org/event/aha-healthcare-provider-bls-course-2025-2/
LOCATION:EMSCES911\, 679 North Palora Ave #A\, Yuba City\, CA\, 95993\, United States
CATEGORIES:Health Care Provider
END:VEVENT
BEGIN:VEVENT
DTSTART;TZID=America/Los_Angeles:20251212T110000
DTEND;TZID=America/Los_Angeles:20251212T150000
DTSTAMP:20260425T092529
CREATED:20251127T220514Z
LAST-MODIFIED:20251127T220514Z
UID:13184-1765537200-1765551600@emsces911.org
SUMMARY:AHA Healthcare Provider BLS Course  2025
DESCRIPTION:AHA Healthcare Provider BLS Course  2025 \nThis is CPR for Healthcare Providers..This course is open to the public. This course is for anyone getting into the healthcare field \nTo Register Call or go to https://emsces911.org/book-now-classes/ \nBooks for this course can be purchased for $16.00. https://shopcpr.heart.org/bls-provider-manual
URL:https://emsces911.org/event/aha-healthcare-provider-bls-course-2025-7/
LOCATION:EMSCES911\, 679 North Palora Ave #A\, Yuba City\, CA\, 95993\, United States
CATEGORIES:Health Care Provider
END:VEVENT
BEGIN:VEVENT
DTSTART;TZID=America/Los_Angeles:20251213T090000
DTEND;TZID=America/Los_Angeles:20251214T193000
DTSTAMP:20260425T092529
CREATED:20251013T185405Z
LAST-MODIFIED:20251013T185405Z
UID:12933-1765616400-1765740600@emsces911.org
SUMMARY:Title 22 Public safety first aid (PSFA)
DESCRIPTION:This course is for people getting into public safety. Open to the public but fire academy and working personnel have priority. Healthcare Provider is not included in this course but we do offer this course seperatly \ngoes over \npatient assessment\nairway management\nEpi by auto injectors\nNaloxone\nStop the bleed and Resuscitation acedemy \nand more
URL:https://emsces911.org/event/title-22-public-safety-first-aid-psfa/
LOCATION:EMSCES911\, 679 North Palora Ave #A\, Yuba City\, CA\, 95993\, United States
CATEGORIES:EMT Refresher
END:VEVENT
BEGIN:VEVENT
DTSTART;TZID=America/Los_Angeles:20251215T080000
DTEND;TZID=America/Los_Angeles:20251216T170000
DTSTAMP:20260425T092529
CREATED:20251029T000046Z
LAST-MODIFIED:20251029T000046Z
UID:13051-1765785600-1765904400@emsces911.org
SUMMARY:ITLS 2 day class
DESCRIPTION:ITLS 2 day class \nThis is a closed class. For Sierra College Paramedic students only  \nThis class will be held on the Rocklin campus  \nBooks are required. 9th edition of the ITLS book.\nITLS for Emergency Care Providers – 9th Edition\nITLS for Emergency Care Providers – 9th Edition \n$69.00 \nISBN: 9780135379318 \nhttps://www.itrauma.org/product/itls-for-emergency-care-providers-9th-edition/ \nyou can get the book from Amazon too.  \nOnce registered a pretest will be sent to you.
URL:https://emsces911.org/event/itls-2-day-class/
LOCATION:CA
CATEGORIES:ITLS
END:VEVENT
BEGIN:VEVENT
DTSTART;TZID=America/Los_Angeles:20251215T180000
DTEND;TZID=America/Los_Angeles:20251215T220000
DTSTAMP:20260425T092529
CREATED:20250921T180828Z
LAST-MODIFIED:20251015T032951Z
UID:12786-1765821600-1765836000@emsces911.org
SUMMARY:EMR Training (Princeton Fire)
DESCRIPTION:EMR Training (Princeton Fire)
URL:https://emsces911.org/event/emr-training-princeton-fire/
LOCATION:CA
CATEGORIES:EMT Refresher
END:VEVENT
BEGIN:VEVENT
DTSTART;TZID=America/Los_Angeles:20251216T180000
DTEND;TZID=America/Los_Angeles:20251216T210000
DTSTAMP:20260425T092529
CREATED:20250921T183156Z
LAST-MODIFIED:20251015T033125Z
UID:12807-1765908000-1765918800@emsces911.org
SUMMARY:EMR Training (SAC. RIVER FIRE)
DESCRIPTION:EMR Training (SAC. RIVER FIRE)
URL:https://emsces911.org/event/emr-training-sac-river-fire-5/
LOCATION:CA
CATEGORIES:EMT Refresher
END:VEVENT
BEGIN:VEVENT
DTSTART;TZID=America/Los_Angeles:20251217T080000
DTEND;TZID=America/Los_Angeles:20251217T140000
DTSTAMP:20260425T092529
CREATED:20251127T222049Z
LAST-MODIFIED:20251127T222049Z
UID:13193-1765958400-1765980000@emsces911.org
SUMMARY:Advanced Cardiac Life Support Renewal Course
DESCRIPTION:Advanced Cardiac Life Support Renewal Course \nhttps://shopcpr.heart.org/acls-provider-manual or https://shopcpr.heart.org/acls-provider-manual-ebook \nFor this course you will need to have the ACLS textbook (required) and ECC handbook (optional). These item can be purchased at the link above. The pre test within the textbook must be completed and your score of 70% or greater printed and brought with you to class. \nACLS Pretest:\nhttps://elearning.heart.org/licenses/1548/38967469
URL:https://emsces911.org/event/advanced-cardiac-life-support-renewal-course-145/
LOCATION:EMSCES911\, 679 North Palora Ave #A\, Yuba City\, CA\, 95993\, United States
CATEGORIES:ACLS
END:VEVENT
BEGIN:VEVENT
DTSTART;TZID=America/Los_Angeles:20251218T110000
DTEND;TZID=America/Los_Angeles:20251218T150000
DTSTAMP:20260425T092529
CREATED:20251204T202004Z
LAST-MODIFIED:20251204T202004Z
UID:13282-1766055600-1766070000@emsces911.org
SUMMARY:AHA Healthcare Provider BLS Course  2025
DESCRIPTION:AHA Healthcare Provider BLS Course  2025 \nThis is CPR for Healthcare Providers..This course is open to the public. This course is for anyone getting into the healthcare field \nTo Register Call or go to https://emsces911.org/book-now-classes/ \nBooks for this course can be purchased for $16.00. https://shopcpr.heart.org/bls-provider-manual
URL:https://emsces911.org/event/aha-healthcare-provider-bls-course-2025-8/
LOCATION:EMSCES911\, 679 North Palora Ave #A\, Yuba City\, CA\, 95993\, United States
CATEGORIES:Health Care Provider
END:VEVENT
BEGIN:VEVENT
DTSTART;TZID=America/Los_Angeles:20251219T110000
DTEND;TZID=America/Los_Angeles:20251219T150000
DTSTAMP:20260425T092529
CREATED:20251127T221814Z
LAST-MODIFIED:20251127T221814Z
UID:13190-1766142000-1766156400@emsces911.org
SUMMARY:AHA Healthcare Provider BLS Course  2025
DESCRIPTION:AHA Healthcare Provider BLS Course  2025 \nThis is CPR for Healthcare Providers..This course is open to the public. This course is for anyone getting into the healthcare field \nTo Register Call or go to https://emsces911.org/book-now-classes/ \nBooks for this course can be purchased for $16.00. https://shopcpr.heart.org/bls-provider-manual
URL:https://emsces911.org/event/aha-healthcare-provider-bls-course-2025-9/
LOCATION:EMSCES911\, 679 North Palora Ave #A\, Yuba City\, CA\, 95993\, United States
CATEGORIES:Health Care Provider
END:VEVENT
BEGIN:VEVENT
DTSTART;TZID=America/Los_Angeles:20251222T080000
DTEND;TZID=America/Los_Angeles:20251222T163000
DTSTAMP:20260425T092529
CREATED:20251201T233637Z
LAST-MODIFIED:20251201T233637Z
UID:13236-1766390400-1766421000@emsces911.org
SUMMARY:AHA PALS Provider/ Renewal Course
DESCRIPTION:AHA PALS Provider/ Renewal Course. Open to the public\nFor this course you will need the NEW PALS textbook (required). These items can be purchased at the link below. Take the pre test which is on the Website within the Textbook. Complete with a score of 70% or greater and print out the score. Please bring the printed score with you to class… \nProvider Course $201/Renewal Course $151  \nPALS Pretest Link: https://elearning.heart.org/course/427 \nPALS textbook: https://shopcpr.heart.org/pals-provider-manual
URL:https://emsces911.org/event/aha-pals-provider-renewal-course-105/
LOCATION:EMSCES911\, 679 North Palora Ave #A\, Yuba City\, CA\, 95993\, United States
CATEGORIES:PALS Classes
END:VEVENT
BEGIN:VEVENT
DTSTART;TZID=America/Los_Angeles:20251223T080000
DTEND;TZID=America/Los_Angeles:20251223T150000
DTSTAMP:20260425T092529
CREATED:20251201T233956Z
LAST-MODIFIED:20251222T071239Z
UID:13240-1766476800-1766502000@emsces911.org
SUMMARY:Heartsaver 1st.Aid/CPR with AED Course
DESCRIPTION:Heartsaver 1st.Aid/CPR with AED This course is for anyone who is non healthcare that needs 1st.Aid and CPR training. OSHA Approved
URL:https://emsces911.org/event/heartsaver-1st-aid-cpr-with-aed-course-2/
LOCATION:EMSCES911\, 679 North Palora Ave #A\, Yuba City\, CA\, 95993\, United States
CATEGORIES:HeartSaver
END:VEVENT
BEGIN:VEVENT
DTSTART;TZID=America/Los_Angeles:20251224T080000
DTEND;TZID=America/Los_Angeles:20251224T170000
DTSTAMP:20260425T092529
CREATED:20251222T070434Z
LAST-MODIFIED:20251222T070434Z
UID:13347-1766563200-1766595600@emsces911.org
SUMMARY:CLOSED
DESCRIPTION:CLOSED
URL:https://emsces911.org/event/closed-55/
LOCATION:CA
END:VEVENT
BEGIN:VEVENT
DTSTART;VALUE=DATE:20251225
DTEND;VALUE=DATE:20251226
DTSTAMP:20260425T092529
CREATED:20251127T215333Z
LAST-MODIFIED:20251127T215333Z
UID:13175-1766620800-1766707199@emsces911.org
SUMMARY:CLOSED
DESCRIPTION:CLOSED
URL:https://emsces911.org/event/closed-54/
LOCATION:CA
END:VEVENT
BEGIN:VEVENT
DTSTART;TZID=America/Los_Angeles:20251226T110000
DTEND;TZID=America/Los_Angeles:20251226T150000
DTSTAMP:20260425T092529
CREATED:20251127T223803Z
LAST-MODIFIED:20251127T224329Z
UID:13202-1766746800-1766761200@emsces911.org
SUMMARY:AHA Healthcare Provider BLS Course  2025
DESCRIPTION:AHA Healthcare Provider BLS Course  2025 \nThis is CPR for Healthcare Providers..This course is open to the public. This course is for anyone getting into the healthcare field \nTo Register Call or go to https://emsces911.org/book-now-classes/ \nBooks for this course can be purchased for $16.00. https://shopcpr.heart.org/bls-provider-manual
URL:https://emsces911.org/event/13202/
LOCATION:CA
CATEGORIES:Health Care Provider
END:VEVENT
BEGIN:VEVENT
DTSTART;TZID=America/Los_Angeles:20251227T110000
DTEND;TZID=America/Los_Angeles:20251227T150000
DTSTAMP:20260425T092529
CREATED:20251127T225041Z
LAST-MODIFIED:20251222T162606Z
UID:13209-1766833200-1766847600@emsces911.org
SUMMARY:AHA Healthcare Provider BLS Course  2025 (CANCELED)
DESCRIPTION:AHA Healthcare Provider BLS Course  2025 THIS COURSE HAS BEEN CANCELED \nThis is CPR for Healthcare Providers..This course is open to the public. This course is for anyone getting into the healthcare field \nTo Register Call or go to https://emsces911.org/book-now-classes/ \nBooks for this course can be purchased for $16.00. https://shopcpr.heart.org/bls-provider-manual
URL:https://emsces911.org/event/13209/
LOCATION:CA
CATEGORIES:Health Care Provider
END:VEVENT
BEGIN:VEVENT
DTSTART;TZID=America/Los_Angeles:20251228T080000
DTEND;TZID=America/Los_Angeles:20251228T200000
DTSTAMP:20260425T092529
CREATED:20251127T224224Z
LAST-MODIFIED:20251127T224224Z
UID:13205-1766908800-1766952000@emsces911.org
SUMMARY:Advanced Cardiac Life Support Provider Course
DESCRIPTION:Advanced Cardiac Life Support Provider Course \nhttps://shopcpr.heart.org/acls-provider-manual or https://shopcpr.heart.org/acls-provider-manual-ebook \nFor this course you will need to have the ACLS textbook (required) and ECC handbook (optional). These item can be purchased at the link above. The pre test within the textbook must be completed and your score of 70% or greater printed and brought with you to class. \nACLS Pretest:\nhttps://elearning.heart.org/course/423
URL:https://emsces911.org/event/advanced-cardiac-life-support-provider-course-62/
LOCATION:EMSCES911\, 679 North Palora Ave #A\, Yuba City\, CA\, 95993\, United States
CATEGORIES:ACLS
END:VEVENT
BEGIN:VEVENT
DTSTART;TZID=America/Los_Angeles:20251229T080000
DTEND;TZID=America/Los_Angeles:20251229T140000
DTSTAMP:20260425T092529
CREATED:20251127T212209Z
LAST-MODIFIED:20251127T212209Z
UID:13155-1766995200-1767016800@emsces911.org
SUMMARY:Advanced Cardiac Life Support Renewal Course
DESCRIPTION:Advanced Cardiac Life Support Renewal Course \nhttps://shopcpr.heart.org/acls-provider-manual or https://shopcpr.heart.org/acls-provider-manual-ebook \nFor this course you will need to have the ACLS textbook (required) and ECC handbook (optional). These item can be purchased at the link above. The pre test within the textbook must be completed and your score of 70% or greater printed and brought with you to class. \nACLS Pretest:\nhttps://elearning.heart.org/licenses/1548/38967469
URL:https://emsces911.org/event/advanced-cardiac-life-support-renewal-course-143/
LOCATION:EMSCES911\, 679 North Palora Ave #A\, Yuba City\, CA\, 95993\, United States
CATEGORIES:ACLS
END:VEVENT
BEGIN:VEVENT
DTSTART;TZID=America/Los_Angeles:20251229T140000
DTEND;TZID=America/Los_Angeles:20251229T173000
DTSTAMP:20260425T092529
CREATED:20251222T162445Z
LAST-MODIFIED:20251222T162445Z
UID:13357-1767016800-1767029400@emsces911.org
SUMMARY:AHA Healthcare Provider BLS Course  2025
DESCRIPTION:AHA Healthcare Provider BLS Course  2025 \nThis is CPR for Healthcare Providers..This course is open to the public. This course is for anyone getting into the healthcare field \nTo Register Call or go to https://emsces911.org/book-now-classes/ \nBooks for this course can be purchased for $16.00. https://shopcpr.heart.org/bls-provider-manual
URL:https://emsces911.org/event/aha-healthcare-provider-bls-course-2025-11/
LOCATION:EMSCES911\, 679 North Palora Ave #A\, Yuba City\, CA\, 95993\, United States
CATEGORIES:Health Care Provider
END:VEVENT
END:VCALENDAR