BEGIN:VCALENDAR
VERSION:2.0
PRODID:-//EMSCES911 - ECPv6.15.20//NONSGML v1.0//EN
CALSCALE:GREGORIAN
METHOD:PUBLISH
X-ORIGINAL-URL:https://emsces911.org
X-WR-CALDESC:Events for EMSCES911
REFRESH-INTERVAL;VALUE=DURATION:PT1H
X-Robots-Tag:noindex
X-PUBLISHED-TTL:PT1H
BEGIN:VTIMEZONE
TZID:America/Los_Angeles
BEGIN:DAYLIGHT
TZOFFSETFROM:-0800
TZOFFSETTO:-0700
TZNAME:PDT
DTSTART:20250309T100000
END:DAYLIGHT
BEGIN:STANDARD
TZOFFSETFROM:-0700
TZOFFSETTO:-0800
TZNAME:PST
DTSTART:20251102T090000
END:STANDARD
BEGIN:DAYLIGHT
TZOFFSETFROM:-0800
TZOFFSETTO:-0700
TZNAME:PDT
DTSTART:20260308T100000
END:DAYLIGHT
BEGIN:STANDARD
TZOFFSETFROM:-0700
TZOFFSETTO:-0800
TZNAME:PST
DTSTART:20261101T090000
END:STANDARD
BEGIN:DAYLIGHT
TZOFFSETFROM:-0800
TZOFFSETTO:-0700
TZNAME:PDT
DTSTART:20270314T100000
END:DAYLIGHT
BEGIN:STANDARD
TZOFFSETFROM:-0700
TZOFFSETTO:-0800
TZNAME:PST
DTSTART:20271107T090000
END:STANDARD
END:VTIMEZONE
BEGIN:VEVENT
DTSTART;TZID=America/Los_Angeles:20260318T080000
DTEND;TZID=America/Los_Angeles:20260318T140000
DTSTAMP:20260425T061340
CREATED:20260211T010102Z
LAST-MODIFIED:20260211T010102Z
UID:13755-1773820800-1773842400@emsces911.org
SUMMARY:Advanced Cardiac Life Support Renewal Course
DESCRIPTION:Advanced Cardiac Life Support Renewal Course \nhttps://shopcpr.heart.org/acls-provider-manual or https://shopcpr.heart.org/acls-provider-manual-ebook \nFor this course you will need to have the ACLS textbook (required) and ECC handbook (optional). These item can be purchased at the link above. The pre test within the textbook must be completed and your score of 70% or greater printed and brought with you to class. \nACLS Pretest:\nhttps://elearning.heart.org/licenses/1548/38967469
URL:https://emsces911.org/event/advanced-cardiac-life-support-renewal-course-153/
LOCATION:EMSCES911\, 679 North Palora Ave #A\, Yuba City\, CA\, 95993\, United States
CATEGORIES:ACLS
END:VEVENT
BEGIN:VEVENT
DTSTART;VALUE=DATE:20260319
DTEND;VALUE=DATE:20260320
DTSTAMP:20260425T061340
CREATED:20260211T020341Z
LAST-MODIFIED:20260211T020341Z
UID:13777-1773878400-1773964799@emsces911.org
SUMMARY:CLOSED SKILLS WITH AMR
DESCRIPTION:CLOSED
URL:https://emsces911.org/event/closed-skills-with-amr-3/
LOCATION:CA
END:VEVENT
BEGIN:VEVENT
DTSTART;TZID=America/Los_Angeles:20260320T110000
DTEND;TZID=America/Los_Angeles:20260320T150000
DTSTAMP:20260425T061340
CREATED:20260211T020616Z
LAST-MODIFIED:20260211T020616Z
UID:13779-1774004400-1774018800@emsces911.org
SUMMARY:AHA Healthcare Provider BLS Course  2025
DESCRIPTION:AHA Healthcare Provider BLS Course  2025 \nThis is CPR for Healthcare Providers..This course is open to the public. This course is for anyone getting into the healthcare field \nTo Register Call or go to https://emsces911.org/book-now-classes/ \nBooks for this course can be purchased for $16.00. https://shopcpr.heart.org/bls-provider-manual
URL:https://emsces911.org/event/aha-healthcare-provider-bls-course-2025-31/
LOCATION:EMSCES911\, 679 North Palora Ave #A\, Yuba City\, CA\, 95993\, United States
CATEGORIES:Health Care Provider
END:VEVENT
BEGIN:VEVENT
DTSTART;TZID=America/Los_Angeles:20260321T110000
DTEND;TZID=America/Los_Angeles:20260321T150000
DTSTAMP:20260425T061340
CREATED:20260211T034918Z
LAST-MODIFIED:20260211T034918Z
UID:13793-1774090800-1774105200@emsces911.org
SUMMARY:AHA Healthcare Provider BLS Course  2025
DESCRIPTION:AHA Healthcare Provider BLS Course  2025 \nThis is CPR for Healthcare Providers..This course is open to the public. This course is for anyone getting into the healthcare field \nTo Register Call or go to https://emsces911.org/book-now-classes/ \nBooks for this course can be purchased for $16.00. https://shopcpr.heart.org/bls-provider-manual
URL:https://emsces911.org/event/aha-healthcare-provider-bls-course-2025-27/
LOCATION:EMSCES911\, 679 North Palora Ave #A\, Yuba City\, CA\, 95993\, United States
CATEGORIES:Health Care Provider
END:VEVENT
BEGIN:VEVENT
DTSTART;TZID=America/Los_Angeles:20260322T110000
DTEND;TZID=America/Los_Angeles:20260322T150000
DTSTAMP:20260425T061340
CREATED:20260320T014230Z
LAST-MODIFIED:20260320T014230Z
UID:13994-1774177200-1774191600@emsces911.org
SUMMARY:AHA Healthcare Provider BLS Course
DESCRIPTION:AHA Healthcare Provider BLS Course  2025 \nThis is CPR for Healthcare Providers..This course is open to the public. This course is for anyone getting into the healthcare field \nTo Register Call or go to https://emsces911.org/book-now-classes/ \nBooks for this course can be purchased for $16.00. https://shopcpr.heart.org/bls-provider-manual
URL:https://emsces911.org/event/aha-healthcare-provider-bls-course-342/
LOCATION:EMSCES911\, 679 North Palora Ave #A\, Yuba City\, CA\, 95993\, United States
CATEGORIES:Health Care Provider
END:VEVENT
BEGIN:VEVENT
DTSTART;VALUE=DATE:20260323
DTEND;VALUE=DATE:20260324
DTSTAMP:20260425T061340
CREATED:20260211T032901Z
LAST-MODIFIED:20260211T032901Z
UID:13787-1774224000-1774310399@emsces911.org
SUMMARY:CLOSED Skills At AMR
DESCRIPTION:CLOSED
URL:https://emsces911.org/event/closed-skills-at-amr-3/
LOCATION:CA
END:VEVENT
BEGIN:VEVENT
DTSTART;TZID=America/Los_Angeles:20260324T080000
DTEND;TZID=America/Los_Angeles:20260324T200000
DTSTAMP:20260425T061340
CREATED:20260211T035248Z
LAST-MODIFIED:20260211T035248Z
UID:13796-1774339200-1774382400@emsces911.org
SUMMARY:Advanced Cardiac Life Support Provider Course
DESCRIPTION:Advanced Cardiac Life Support Provider Course \nhttps://shopcpr.heart.org/acls-provider-manual or https://shopcpr.heart.org/acls-provider-manual-ebook \nFor this course you will need to have the ACLS textbook (required) and ECC handbook (optional). These item can be purchased at the link above. The pre test within the textbook must be completed and your score of 70% or greater printed and brought with you to class. \nACLS Pretest:\nhttps://elearning.heart.org/course/423
URL:https://emsces911.org/event/advanced-cardiac-life-support-provider-course-68/
LOCATION:EMSCES911\, 679 North Palora Ave #A\, Yuba City\, CA\, 95993\, United States
CATEGORIES:ACLS
END:VEVENT
BEGIN:VEVENT
DTSTART;TZID=America/Los_Angeles:20260325T080000
DTEND;TZID=America/Los_Angeles:20260325T140000
DTSTAMP:20260425T061340
CREATED:20260211T033132Z
LAST-MODIFIED:20260211T033132Z
UID:13789-1774425600-1774447200@emsces911.org
SUMMARY:Advanced Cardiac Life Support Renewal Course
DESCRIPTION:Advanced Cardiac Life Support Renewal Course \nhttps://shopcpr.heart.org/acls-provider-manual or https://shopcpr.heart.org/acls-provider-manual-ebook \nFor this course you will need to have the ACLS textbook (required) and ECC handbook (optional). These item can be purchased at the link above. The pre test within the textbook must be completed and your score of 70% or greater printed and brought with you to class. \nACLS Pretest:\nhttps://elearning.heart.org/licenses/1548/38967469
URL:https://emsces911.org/event/advanced-cardiac-life-support-renewal-course-155/
LOCATION:EMSCES911\, 679 North Palora Ave #A\, Yuba City\, CA\, 95993\, United States
CATEGORIES:ACLS
END:VEVENT
BEGIN:VEVENT
DTSTART;TZID=America/Los_Angeles:20260326T110000
DTEND;TZID=America/Los_Angeles:20260326T150000
DTSTAMP:20260425T061340
CREATED:20260211T032355Z
LAST-MODIFIED:20260325T152541Z
UID:13782-1774522800-1774537200@emsces911.org
SUMMARY:AHA Healthcare Provider BLS Course  2025 (CANCELED) RESCHEDULED list of dates
DESCRIPTION:AHA Healthcare Provider BLS Course  2025 \nThis is CPR for Healthcare Providers..This course is open to the public. This course is for anyone getting into the healthcare field \nTo Register Call or go to https://emsces911.org/book-now-classes/ \nBooks for this course can be purchased for $16.00. https://shopcpr.heart.org/bls-provider-manual
URL:https://emsces911.org/event/aha-healthcare-provider-bls-course-2025-32/
LOCATION:EMSCES911\, 679 North Palora Ave #A\, Yuba City\, CA\, 95993\, United States
CATEGORIES:Health Care Provider
END:VEVENT
BEGIN:VEVENT
DTSTART;VALUE=DATE:20260327
DTEND;VALUE=DATE:20260328
DTSTAMP:20260425T061340
CREATED:20260211T032533Z
LAST-MODIFIED:20260211T032548Z
UID:13785-1774569600-1774655999@emsces911.org
SUMMARY:CLOSED Skills at AMR
DESCRIPTION:CLOSED
URL:https://emsces911.org/event/closed-skills-at-amr-2/
LOCATION:CA
END:VEVENT
BEGIN:VEVENT
DTSTART;TZID=America/Los_Angeles:20260328T110000
DTEND;TZID=America/Los_Angeles:20260328T151500
DTSTAMP:20260425T061340
CREATED:20260324T212251Z
LAST-MODIFIED:20260324T212251Z
UID:14104-1774695600-1774710900@emsces911.org
SUMMARY:AHA Healthcare Provider BLS Course  2025
DESCRIPTION:AHA Healthcare Provider BLS Course  2025 \nThis is CPR for Healthcare Providers..This course is open to the public. This course is for anyone getting into the healthcare field \nTo Register Call or go to https://emsces911.org/book-now-classes/ \nBooks for this course can be purchased for $16.00. https://shopcpr.heart.org/bls-provider-manual
URL:https://emsces911.org/event/aha-healthcare-provider-bls-course-2025-47/
LOCATION:EMSCES911\, 679 North Palora Ave #A\, Yuba City\, CA\, 95993\, United States
CATEGORIES:Health Care Provider
END:VEVENT
BEGIN:VEVENT
DTSTART;TZID=America/Los_Angeles:20260329T110000
DTEND;TZID=America/Los_Angeles:20260329T150000
DTSTAMP:20260425T061340
CREATED:20260320T014706Z
LAST-MODIFIED:20260320T014738Z
UID:13997-1774782000-1774796400@emsces911.org
SUMMARY:AHA Healthcare Provider BLS Course  2025
DESCRIPTION:AHA Healthcare Provider BLS Course  2025 \nThis is CPR for Healthcare Providers..This course is open to the public. This course is for anyone getting into the healthcare field \nTo Register Call or go to https://emsces911.org/book-now-classes/ \nBooks for this course can be purchased for $16.00. https://shopcpr.heart.org/bls-provider-manual
URL:https://emsces911.org/event/aha-healthcare-provider-bls-course-2025-36/
LOCATION:EMSCES911\, 679 North Palora Ave #A\, Yuba City\, CA\, 95993\, United States
CATEGORIES:Health Care Provider
END:VEVENT
BEGIN:VEVENT
DTSTART;TZID=America/Los_Angeles:20260330T080000
DTEND;TZID=America/Los_Angeles:20260330T121500
DTSTAMP:20260425T061340
CREATED:20260325T151414Z
LAST-MODIFIED:20260325T151414Z
UID:14107-1774857600-1774872900@emsces911.org
SUMMARY:AHA Healthcare Provider BLS Course  2025
DESCRIPTION:AHA Healthcare Provider BLS Course  2025 \nThis is CPR for Healthcare Providers..This course is open to the public. This course is for anyone getting into the healthcare field \nTo Register Call or go to https://emsces911.org/book-now-classes/ \nBooks for this course can be purchased for $16.00. https://shopcpr.heart.org/bls-provider-manual
URL:https://emsces911.org/event/aha-healthcare-provider-bls-course-2025-48/
LOCATION:EMSCES911\, 679 North Palora Ave #A\, Yuba City\, CA\, 95993\, United States
CATEGORIES:Health Care Provider
END:VEVENT
BEGIN:VEVENT
DTSTART;TZID=America/Los_Angeles:20260331T080000
DTEND;TZID=America/Los_Angeles:20260331T140000
DTSTAMP:20260425T061340
CREATED:20260211T035806Z
LAST-MODIFIED:20260211T035806Z
UID:13799-1774944000-1774965600@emsces911.org
SUMMARY:Advanced Cardiac Life Support Renewal Course
DESCRIPTION:Advanced Cardiac Life Support Renewal Course \nhttps://shopcpr.heart.org/acls-provider-manual or https://shopcpr.heart.org/acls-provider-manual-ebook \nFor this course you will need to have the ACLS textbook (required) and ECC handbook (optional). These item can be purchased at the link above. The pre test within the textbook must be completed and your score of 70% or greater printed and brought with you to class. \nACLS Pretest:\nhttps://elearning.heart.org/licenses/1548/38967469
URL:https://emsces911.org/event/advanced-cardiac-life-support-renewal-course-156/
LOCATION:EMSCES911\, 679 North Palora Ave #A\, Yuba City\, CA\, 95993\, United States
CATEGORIES:ACLS
END:VEVENT
BEGIN:VEVENT
DTSTART;TZID=America/Los_Angeles:20260331T140000
DTEND;TZID=America/Los_Angeles:20260331T170000
DTSTAMP:20260425T061340
CREATED:20260211T040430Z
LAST-MODIFIED:20260211T040430Z
UID:13802-1774965600-1774976400@emsces911.org
SUMMARY:AHA Healthcare Provider BLS Renewal Only Course
DESCRIPTION:AHA Healthcare Provider BLS Course  2025 \nThis is CPR for Healthcare Providers..This course is open to the public. MUST HAVE A CURRENT BLS CARD \nTo Register Call or go to https://emsces911.org/book-now-classes/ \nBooks for this course can be purchased for $16.00. https://shopcpr.heart.org/bls-provider-manual
URL:https://emsces911.org/event/aha-healthcare-provider-bls-renewal-only-course-2/
LOCATION:EMSCES911\, 679 North Palora Ave #A\, Yuba City\, CA\, 95993\, United States
CATEGORIES:Health Care Provider
END:VEVENT
BEGIN:VEVENT
DTSTART;VALUE=DATE:20260401
DTEND;VALUE=DATE:20260402
DTSTAMP:20260425T061340
CREATED:20260324T063951Z
LAST-MODIFIED:20260324T063951Z
UID:14090-1775001600-1775087999@emsces911.org
SUMMARY:AMR SKILLS DAY
DESCRIPTION:AMR SKILLS DAY
URL:https://emsces911.org/event/amr-skills-day-3/
LOCATION:CA
END:VEVENT
BEGIN:VEVENT
DTSTART;TZID=America/Los_Angeles:20260402T110000
DTEND;TZID=America/Los_Angeles:20260402T150000
DTSTAMP:20260425T061340
CREATED:20260322T164739Z
LAST-MODIFIED:20260322T164739Z
UID:14009-1775127600-1775142000@emsces911.org
SUMMARY:AHA Healthcare Provider BLS Course
DESCRIPTION:AHA Healthcare Provider BLS Course  2025 \nThis is CPR for Healthcare Providers..This course is open to the public. This course is for anyone getting into the healthcare field \nTo Register Call or go to https://emsces911.org/book-now-classes/ \nBooks for this course can be purchased for $16.00. https://shopcpr.heart.org/bls-provider-manual
URL:https://emsces911.org/event/aha-healthcare-provider-bls-course-343/
LOCATION:EMSCES911\, 679 North Palora Ave #A\, Yuba City\, CA\, 95993\, United States
CATEGORIES:Health Care Provider
END:VEVENT
BEGIN:VEVENT
DTSTART;TZID=America/Los_Angeles:20260403T090000
DTEND;TZID=America/Los_Angeles:20260403T150000
DTSTAMP:20260425T061340
CREATED:20260217T173418Z
LAST-MODIFIED:20260217T173418Z
UID:13838-1775206800-1775228400@emsces911.org
SUMMARY:Daycare CPR/ 1st. AID
DESCRIPTION:Heartsaver pediatric 1st. Aid/CPR with AED and mandated Asthma training.
URL:https://emsces911.org/event/daycare-cpr-1st-aid/
LOCATION:EMSCES911\, 679 North Palora Ave #A\, Yuba City\, CA\, 95993\, United States
CATEGORIES:HeartSaver
END:VEVENT
BEGIN:VEVENT
DTSTART;TZID=America/Los_Angeles:20260404T110000
DTEND;TZID=America/Los_Angeles:20260404T150000
DTSTAMP:20260425T061340
CREATED:20260322T165027Z
LAST-MODIFIED:20260322T165027Z
UID:14012-1775300400-1775314800@emsces911.org
SUMMARY:AHA Healthcare Provider BLS Course  2025
DESCRIPTION:AHA Healthcare Provider BLS Course  2025 \nThis is CPR for Healthcare Providers..This course is open to the public. This course is for anyone getting into the healthcare field \nTo Register Call or go to https://emsces911.org/book-now-classes/ \nBooks for this course can be purchased for $16.00. https://shopcpr.heart.org/bls-provider-manual
URL:https://emsces911.org/event/aha-healthcare-provider-bls-course-2025-37/
LOCATION:EMSCES911\, 679 North Palora Ave #A\, Yuba City\, CA\, 95993\, United States
CATEGORIES:Health Care Provider
END:VEVENT
BEGIN:VEVENT
DTSTART;TZID=America/Los_Angeles:20260406T080000
DTEND;TZID=America/Los_Angeles:20260406T200000
DTSTAMP:20260425T061340
CREATED:20260322T165416Z
LAST-MODIFIED:20260322T165416Z
UID:14015-1775462400-1775505600@emsces911.org
SUMMARY:Advanced Cardiac Life Support Provider Course
DESCRIPTION:Advanced Cardiac Life Support Provider Course \nhttps://shopcpr.heart.org/acls-provider-manual or https://shopcpr.heart.org/acls-provider-manual-ebook \nFor this course you will need to have the ACLS textbook (required) and ECC handbook (optional). These item can be purchased at the link above. The pre test within the textbook must be completed and your score of 70% or greater printed and brought with you to class. \nACLS Pretest:\nhttps://elearning.heart.org/course/423
URL:https://emsces911.org/event/advanced-cardiac-life-support-provider-course-69/
LOCATION:EMSCES911\, 679 North Palora Ave #A\, Yuba City\, CA\, 95993\, United States
CATEGORIES:ACLS
END:VEVENT
BEGIN:VEVENT
DTSTART;VALUE=DATE:20260407
DTEND;VALUE=DATE:20260408
DTSTAMP:20260425T061340
CREATED:20260324T055046Z
LAST-MODIFIED:20260324T055046Z
UID:14081-1775520000-1775606399@emsces911.org
SUMMARY:AMR SKILLS DAY
DESCRIPTION:AMR SKILLS DAY
URL:https://emsces911.org/event/amr-skills-day/
LOCATION:CA
END:VEVENT
BEGIN:VEVENT
DTSTART;VALUE=DATE:20260408
DTEND;VALUE=DATE:20260409
DTSTAMP:20260425T061340
CREATED:20260322T165528Z
LAST-MODIFIED:20260322T165528Z
UID:14018-1775606400-1775692799@emsces911.org
SUMMARY:SSV REMACC COMMITTEE MEETING
DESCRIPTION:SSV REMACC COMMITTEE MEETING
URL:https://emsces911.org/event/ssv-remacc-committee-meeting/
LOCATION:CA
END:VEVENT
BEGIN:VEVENT
DTSTART;TZID=America/Los_Angeles:20260409T110000
DTEND;TZID=America/Los_Angeles:20260409T150000
DTSTAMP:20260425T061340
CREATED:20260322T170721Z
LAST-MODIFIED:20260322T170721Z
UID:14022-1775732400-1775746800@emsces911.org
SUMMARY:AHA Healthcare Provider BLS Course  2025
DESCRIPTION:AHA Healthcare Provider BLS Course  2025 \nThis is CPR for Healthcare Providers..This course is open to the public. This course is for anyone getting into the healthcare field \nTo Register Call or go to https://emsces911.org/book-now-classes/ \nBooks for this course can be purchased for $16.00. https://shopcpr.heart.org/bls-provider-manual
URL:https://emsces911.org/event/aha-healthcare-provider-bls-course-2025-38/
LOCATION:EMSCES911\, 679 North Palora Ave #A\, Yuba City\, CA\, 95993\, United States
CATEGORIES:Health Care Provider
END:VEVENT
BEGIN:VEVENT
DTSTART;TZID=America/Los_Angeles:20260410T110000
DTEND;TZID=America/Los_Angeles:20260410T150000
DTSTAMP:20260425T061340
CREATED:20260402T211858Z
LAST-MODIFIED:20260408T003212Z
UID:14169-1775818800-1775833200@emsces911.org
SUMMARY:AHA Healthcare Provider BLS Course  2025 (CANCELED)
DESCRIPTION:AHA Healthcare Provider BLS Course  2025 (CANCELED) \nThis is CPR for Healthcare Providers..This course is open to the public. This course is for anyone getting into the healthcare field \nTo Register Call or go to https://emsces911.org/book-now-classes/ \nBooks for this course can be purchased for $16.00. https://shopcpr.heart.org/bls-provider-manual
URL:https://emsces911.org/event/aha-healthcare-provider-bls-course-2025-50/
LOCATION:EMSCES911\, 679 North Palora Ave #A\, Yuba City\, CA\, 95993\, United States
CATEGORIES:Health Care Provider
END:VEVENT
BEGIN:VEVENT
DTSTART;TZID=America/Los_Angeles:20260411T110000
DTEND;TZID=America/Los_Angeles:20260411T151500
DTSTAMP:20260425T061340
CREATED:20260324T040501Z
LAST-MODIFIED:20260324T040501Z
UID:14044-1775905200-1775920500@emsces911.org
SUMMARY:AHA Healthcare Provider BLS Course  2025
DESCRIPTION:AHA Healthcare Provider BLS Course  2025 \nThis is CPR for Healthcare Providers..This course is open to the public. This course is for anyone getting into the healthcare field \nTo Register Call or go to https://emsces911.org/book-now-classes/ \nBooks for this course can be purchased for $16.00. https://shopcpr.heart.org/bls-provider-manual
URL:https://emsces911.org/event/aha-healthcare-provider-bls-course-2025-39/
LOCATION:EMSCES911\, 679 North Palora Ave #A\, Yuba City\, CA\, 95993\, United States
CATEGORIES:Health Care Provider
END:VEVENT
BEGIN:VEVENT
DTSTART;TZID=America/Los_Angeles:20260413T080000
DTEND;TZID=America/Los_Angeles:20260413T163000
DTSTAMP:20260425T061340
CREATED:20260324T042040Z
LAST-MODIFIED:20260408T204017Z
UID:14056-1776067200-1776097800@emsces911.org
SUMMARY:AHA PALS Provider/ Renewal Course (CANCELED)
DESCRIPTION:AHA PALS Provider/ Renewal Course. Open to the public\nFor this course you will need the NEW PALS textbook (required). These items can be purchased at the link below. Take the pre test which is on the Website within the Textbook. Complete with a score of 70% or greater and print out the score. Please bring the printed score with you to class… \nProvider Course $201/Renewal Course $151  \nPALS Pretest Link: https://elearning.heart.org/course/427 \nPALS textbook: https://shopcpr.heart.org/pals-provider-manual
URL:https://emsces911.org/event/aha-pals-provider-renewal-course-112/
LOCATION:EMSCES911\, 679 North Palora Ave #A\, Yuba City\, CA\, 95993\, United States
CATEGORIES:PALS Classes
END:VEVENT
BEGIN:VEVENT
DTSTART;TZID=America/Los_Angeles:20260414T130000
DTEND;TZID=America/Los_Angeles:20260414T180000
DTSTAMP:20260425T061340
CREATED:20260324T040817Z
LAST-MODIFIED:20260324T040817Z
UID:14047-1776171600-1776189600@emsces911.org
SUMMARY:Advanced Cardiac Life Support Renewal Course
DESCRIPTION:Advanced Cardiac Life Support Renewal Course \nhttps://shopcpr.heart.org/acls-provider-manual or https://shopcpr.heart.org/acls-provider-manual-ebook \nFor this course you will need to have the ACLS textbook (required) and ECC handbook (optional). These item can be purchased at the link above. The pre test within the textbook must be completed and your score of 70% or greater printed and brought with you to class. \nACLS Pretest:\nhttps://elearning.heart.org/licenses/1548/38967469
URL:https://emsces911.org/event/advanced-cardiac-life-support-renewal-course-159/
LOCATION:EMSCES911\, 679 North Palora Ave #A\, Yuba City\, CA\, 95993\, United States
CATEGORIES:ACLS
END:VEVENT
BEGIN:VEVENT
DTSTART;VALUE=DATE:20260415
DTEND;VALUE=DATE:20260416
DTSTAMP:20260425T061340
CREATED:20260322T165638Z
LAST-MODIFIED:20260322T165638Z
UID:14020-1776211200-1776297599@emsces911.org
SUMMARY:SSV PACC COMMITTEE MEETING
DESCRIPTION:SSV PACC COMMITTEE MEETING
URL:https://emsces911.org/event/ssv-pacc-committee-meeting/
LOCATION:CA
END:VEVENT
BEGIN:VEVENT
DTSTART;VALUE=DATE:20260416
DTEND;VALUE=DATE:20260417
DTSTAMP:20260425T061340
CREATED:20260403T191518Z
LAST-MODIFIED:20260403T191518Z
UID:14179-1776297600-1776383999@emsces911.org
SUMMARY:PARAMEDIC SKILLS Training AMR PLACER
DESCRIPTION:Paramedic SKILLS TESTING AT AMR PLACER
URL:https://emsces911.org/event/paramedic-skills-training-amr-placer/
LOCATION:CA
END:VEVENT
BEGIN:VEVENT
DTSTART;VALUE=DATE:20260417
DTEND;VALUE=DATE:20260418
DTSTAMP:20260425T061340
CREATED:20260403T193608Z
LAST-MODIFIED:20260403T193608Z
UID:14181-1776384000-1776470399@emsces911.org
SUMMARY:EMT SKILLS Training AMR PLACER
DESCRIPTION:EMT SKILLS Training AMR PLACER
URL:https://emsces911.org/event/emt-skills-training-amr-placer/
LOCATION:CA
END:VEVENT
END:VCALENDAR