BEGIN:VCALENDAR
VERSION:2.0
PRODID:-//EMSCES911 - ECPv6.15.20//NONSGML v1.0//EN
CALSCALE:GREGORIAN
METHOD:PUBLISH
X-WR-CALNAME:EMSCES911
X-ORIGINAL-URL:https://emsces911.org
X-WR-CALDESC:Events for EMSCES911
REFRESH-INTERVAL;VALUE=DURATION:PT1H
X-Robots-Tag:noindex
X-PUBLISHED-TTL:PT1H
BEGIN:VTIMEZONE
TZID:America/Los_Angeles
BEGIN:DAYLIGHT
TZOFFSETFROM:-0800
TZOFFSETTO:-0700
TZNAME:PDT
DTSTART:20250309T100000
END:DAYLIGHT
BEGIN:STANDARD
TZOFFSETFROM:-0700
TZOFFSETTO:-0800
TZNAME:PST
DTSTART:20251102T090000
END:STANDARD
BEGIN:DAYLIGHT
TZOFFSETFROM:-0800
TZOFFSETTO:-0700
TZNAME:PDT
DTSTART:20260308T100000
END:DAYLIGHT
BEGIN:STANDARD
TZOFFSETFROM:-0700
TZOFFSETTO:-0800
TZNAME:PST
DTSTART:20261101T090000
END:STANDARD
BEGIN:DAYLIGHT
TZOFFSETFROM:-0800
TZOFFSETTO:-0700
TZNAME:PDT
DTSTART:20270314T100000
END:DAYLIGHT
BEGIN:STANDARD
TZOFFSETFROM:-0700
TZOFFSETTO:-0800
TZNAME:PST
DTSTART:20271107T090000
END:STANDARD
END:VTIMEZONE
BEGIN:VEVENT
DTSTART;TZID=America/Los_Angeles:20260104T090000
DTEND;TZID=America/Los_Angeles:20260104T210000
DTSTAMP:20260425T092730
CREATED:20251229T211056Z
LAST-MODIFIED:20251229T211056Z
UID:13460-1767517200-1767560400@emsces911.org
SUMMARY:Advanced Cardiac Life Support Provider Course
DESCRIPTION:Advanced Cardiac Life Support Provider Course \nhttps://shopcpr.heart.org/acls-provider-manual or https://shopcpr.heart.org/acls-provider-manual-ebook \nFor this course you will need to have the ACLS textbook (required) and ECC handbook (optional). These item can be purchased at the link above. The pre test within the textbook must be completed and your score of 70% or greater printed and brought with you to class. \nACLS Pretest:\nhttps://elearning.heart.org/course/423
URL:https://emsces911.org/event/advanced-cardiac-life-support-provider-course-64/
LOCATION:EMSCES911\, 679 North Palora Ave #A\, Yuba City\, CA\, 95993\, United States
CATEGORIES:ACLS
END:VEVENT
BEGIN:VEVENT
DTSTART;TZID=America/Los_Angeles:20260105T080000
DTEND;TZID=America/Los_Angeles:20260105T140000
DTSTAMP:20260425T092730
CREATED:20251204T032742Z
LAST-MODIFIED:20251204T032742Z
UID:13259-1767600000-1767621600@emsces911.org
SUMMARY:Advanced Cardiac Life Support Renewal Course
DESCRIPTION:Advanced Cardiac Life Support Renewal Course \nhttps://shopcpr.heart.org/acls-provider-manual or https://shopcpr.heart.org/acls-provider-manual-ebook \nFor this course you will need to have the ACLS textbook (required) and ECC handbook (optional). These item can be purchased at the link above. The pre test within the textbook must be completed and your score of 70% or greater printed and brought with you to class. \nACLS Pretest:\nhttps://elearning.heart.org/licenses/1548/38967469
URL:https://emsces911.org/event/advanced-cardiac-life-support-renewal-course-144/
LOCATION:EMSCES911\, 679 North Palora Ave #A\, Yuba City\, CA\, 95993\, United States
CATEGORIES:ACLS
END:VEVENT
BEGIN:VEVENT
DTSTART;TZID=America/Los_Angeles:20260105T140000
DTEND;TZID=America/Los_Angeles:20260105T170000
DTSTAMP:20260425T092730
CREATED:20251204T033244Z
LAST-MODIFIED:20251204T033244Z
UID:13262-1767621600-1767632400@emsces911.org
SUMMARY:AHA Healthcare Renewal BLS Course 2025
DESCRIPTION:AHA Healthcare Renewal BLS Course 2025 \nMUST HAVE A CURRENT HCP BLS CARD  \nThis is CPR for Healthcare Providers..This course is open to the public. This course is for anyone getting into the healthcare field \nTo Register Call or go to https://emsces911.org/book-now-classes/ \nBooks for this course can be purchased for $16.00. https://shopcpr.heart.org/bls-provider-manual
URL:https://emsces911.org/event/aha-healthcare-renewal-bls-course-2025/
LOCATION:EMSCES911\, 679 North Palora Ave #A\, Yuba City\, CA\, 95993\, United States
CATEGORIES:Health Care Provider
END:VEVENT
BEGIN:VEVENT
DTSTART;TZID=America/Los_Angeles:20260106T080000
DTEND;TZID=America/Los_Angeles:20260106T163000
DTSTAMP:20260425T092730
CREATED:20251224T194102Z
LAST-MODIFIED:20251224T194102Z
UID:13405-1767686400-1767717000@emsces911.org
SUMMARY:AHA PALS Provider/ Renewal Course
DESCRIPTION:AHA PALS Provider/ Renewal Course. Open to the public\nFor this course you will need the NEW PALS textbook (required). These items can be purchased at the link below. Take the pre test which is on the Website within the Textbook. Complete with a score of 70% or greater and print out the score. Please bring the printed score with you to class… \nProvider Course $201/Renewal Course $151  \nPALS Pretest Link: https://elearning.heart.org/course/427 \nPALS textbook: https://shopcpr.heart.org/pals-provider-manual
URL:https://emsces911.org/event/aha-pals-provider-renewal-course-108/
LOCATION:EMSCES911\, 679 North Palora Ave #A\, Yuba City\, CA\, 95993\, United States
CATEGORIES:PALS Classes
END:VEVENT
BEGIN:VEVENT
DTSTART;VALUE=DATE:20260107
DTEND;VALUE=DATE:20260108
DTSTAMP:20260425T092730
CREATED:20251224T175123Z
LAST-MODIFIED:20251224T175123Z
UID:13372-1767744000-1767830399@emsces911.org
SUMMARY:CLOSED
DESCRIPTION:CLOSED
URL:https://emsces911.org/event/closed-56/
LOCATION:CA
END:VEVENT
BEGIN:VEVENT
DTSTART;TZID=America/Los_Angeles:20260108T110000
DTEND;TZID=America/Los_Angeles:20260108T150000
DTSTAMP:20260425T092730
CREATED:20251224T175433Z
LAST-MODIFIED:20251224T175433Z
UID:13374-1767870000-1767884400@emsces911.org
SUMMARY:AHA Healthcare Provider BLS Course  2025
DESCRIPTION:AHA Healthcare Provider BLS Course  2025 \nThis is CPR for Healthcare Providers..This course is open to the public. This course is for anyone getting into the healthcare field \nTo Register Call or go to https://emsces911.org/book-now-classes/ \nBooks for this course can be purchased for $16.00. https://shopcpr.heart.org/bls-provider-manual
URL:https://emsces911.org/event/aha-healthcare-provider-bls-course-2025-13/
LOCATION:EMSCES911\, 679 North Palora Ave #A\, Yuba City\, CA\, 95993\, United States
CATEGORIES:Health Care Provider
END:VEVENT
BEGIN:VEVENT
DTSTART;TZID=America/Los_Angeles:20260109T110000
DTEND;TZID=America/Los_Angeles:20260109T150000
DTSTAMP:20260425T092730
CREATED:20251224T175813Z
LAST-MODIFIED:20260109T172849Z
UID:13377-1767956400-1767970800@emsces911.org
SUMMARY:AHA Healthcare Provider BLS Course  2025 (CANCELED)
DESCRIPTION:AHA Healthcare Provider BLS Course  2025 \nThis is CPR for Healthcare Providers..This course is open to the public. This course is for anyone getting into the healthcare field \nTo Register Call or go to https://emsces911.org/book-now-classes/ \nBooks for this course can be purchased for $16.00. https://shopcpr.heart.org/bls-provider-manual \nTHIS CLASS HAS BEEN CANCELED
URL:https://emsces911.org/event/aha-healthcare-provider-bls-course-2025-14/
LOCATION:EMSCES911\, 679 North Palora Ave #A\, Yuba City\, CA\, 95993\, United States
CATEGORIES:Health Care Provider
END:VEVENT
BEGIN:VEVENT
DTSTART;TZID=America/Los_Angeles:20260110T090000
DTEND;TZID=America/Los_Angeles:20260110T210000
DTSTAMP:20260425T092730
CREATED:20251224T204139Z
LAST-MODIFIED:20251224T205526Z
UID:13439-1768035600-1768078800@emsces911.org
SUMMARY:Advanced Cardiac Life Support Provider Course
DESCRIPTION:Advanced Cardiac Life Support Provider Course \nhttps://shopcpr.heart.org/acls-provider-manual or https://shopcpr.heart.org/acls-provider-manual-ebook \nFor this course you will need to have the ACLS textbook (required) and ECC handbook (optional). These item can be purchased at the link above. The pre test within the textbook must be completed and your score of 70% or greater printed and brought with you to class. \nACLS Pretest:\nhttps://elearning.heart.org/course/423
URL:https://emsces911.org/event/advanced-cardiac-life-support-provider-course-63/
LOCATION:EMSCES911\, 679 North Palora Ave #A\, Yuba City\, CA\, 95993\, United States
CATEGORIES:ACLS
END:VEVENT
BEGIN:VEVENT
DTSTART;TZID=America/Los_Angeles:20260111T140000
DTEND;TZID=America/Los_Angeles:20260111T180000
DTSTAMP:20260425T092730
CREATED:20260109T183142Z
LAST-MODIFIED:20260109T183142Z
UID:13528-1768140000-1768154400@emsces911.org
SUMMARY:AHA Healthcare Provider BLS Course  2025
DESCRIPTION:AHA Healthcare Provider BLS Course  2025 \nThis is CPR for Healthcare Providers..This course is open to the public. This course is for anyone getting into the healthcare field \nTo Register Call or go to https://emsces911.org/book-now-classes/ \nBooks for this course can be purchased for $16.00. https://shopcpr.heart.org/bls-provider-manual
URL:https://emsces911.org/event/aha-healthcare-provider-bls-course-2025-15/
LOCATION:EMSCES911\, 679 North Palora Ave #A\, Yuba City\, CA\, 95993\, United States
CATEGORIES:Health Care Provider
END:VEVENT
BEGIN:VEVENT
DTSTART;TZID=America/Los_Angeles:20260112T080000
DTEND;TZID=America/Los_Angeles:20260112T163000
DTSTAMP:20260425T092730
CREATED:20251224T190957Z
LAST-MODIFIED:20251224T190957Z
UID:13397-1768204800-1768235400@emsces911.org
SUMMARY:AHA PALS Provider/ Renewal Course
DESCRIPTION:AHA PALS Provider/ Renewal Course. Open to the public\nFor this course you will need the NEW PALS textbook (required). These items can be purchased at the link below. Take the pre test which is on the Website within the Textbook. Complete with a score of 70% or greater and print out the score. Please bring the printed score with you to class… \nProvider Course $201/Renewal Course $151  \nPALS Pretest Link: https://elearning.heart.org/course/427 \nPALS textbook: https://shopcpr.heart.org/pals-provider-manual
URL:https://emsces911.org/event/aha-pals-provider-renewal-course-106/
LOCATION:CA
END:VEVENT
BEGIN:VEVENT
DTSTART;TZID=America/Los_Angeles:20260113T080000
DTEND;TZID=America/Los_Angeles:20260113T140000
DTSTAMP:20260425T092730
CREATED:20251224T184257Z
LAST-MODIFIED:20251224T201910Z
UID:13391-1768291200-1768312800@emsces911.org
SUMMARY:Advanced Cardiac Life Support Renewal Course
DESCRIPTION:Advanced Cardiac Life Support Renewal Course \nhttps://shopcpr.heart.org/acls-provider-manual or https://shopcpr.heart.org/acls-provider-manual-ebook \nFor this course you will need to have the ACLS textbook (required) and ECC handbook (optional). These item can be purchased at the link above. The pre test within the textbook must be completed and your score of 70% or greater printed and brought with you to class. \nACLS Pretest:\nhttps://elearning.heart.org/licenses/1548/38967469
URL:https://emsces911.org/event/advanced-cardiac-life-support-renewal-course-146/
LOCATION:EMSCES911\, 679 North Palora Ave #A\, Yuba City\, CA\, 95993\, United States
CATEGORIES:ACLS
END:VEVENT
BEGIN:VEVENT
DTSTART;TZID=America/Los_Angeles:20260114T080000
DTEND;TZID=America/Los_Angeles:20260114T120000
DTSTAMP:20260425T092730
CREATED:20251224T202709Z
LAST-MODIFIED:20251224T202709Z
UID:13435-1768377600-1768392000@emsces911.org
SUMMARY:SSV EMS meeting
DESCRIPTION:
URL:https://emsces911.org/event/ssv-ems-meeting-3/
LOCATION:CA
END:VEVENT
BEGIN:VEVENT
DTSTART;TZID=America/Los_Angeles:20260114T140000
DTEND;TZID=America/Los_Angeles:20260114T173000
DTSTAMP:20260425T092730
CREATED:20260107T070642Z
LAST-MODIFIED:20260107T070642Z
UID:13507-1768399200-1768411800@emsces911.org
SUMMARY:AHA Healthcare Renewal BLS Course Updated 2025 Class
DESCRIPTION:AHA Healthcare Renewal BLS Course 2025 \nMUST HAVE A CURRENT HCP BLS CARD  \nThis is CPR for Healthcare Providers..This course is open to the public. This course is for anyone getting into the healthcare field \nTo Register Call or go to https://emsces911.org/book-now-classes/ \nBooks for this course can be purchased for $16.00. https://shopcpr.heart.org/bls-provider-manual
URL:https://emsces911.org/event/aha-healthcare-renewal-bls-course-updated-2025-class/
LOCATION:EMSCES911\, 679 North Palora Ave #A\, Yuba City\, CA\, 95993\, United States
CATEGORIES:Health Care Provider
END:VEVENT
BEGIN:VEVENT
DTSTART;VALUE=DATE:20260115
DTEND;VALUE=DATE:20260116
DTSTAMP:20260425T092730
CREATED:20251224T194430Z
LAST-MODIFIED:20251224T194430Z
UID:13409-1768435200-1768521599@emsces911.org
SUMMARY:CLOSED
DESCRIPTION:CLOSED
URL:https://emsces911.org/event/closed-61/
LOCATION:CA
END:VEVENT
BEGIN:VEVENT
DTSTART;TZID=America/Los_Angeles:20260116T110000
DTEND;TZID=America/Los_Angeles:20260116T150000
DTSTAMP:20260425T092730
CREATED:20251224T194807Z
LAST-MODIFIED:20251224T194807Z
UID:13411-1768561200-1768575600@emsces911.org
SUMMARY:AHA Healthcare Provider BLS Course  2025
DESCRIPTION:AHA Healthcare Provider BLS Course  2025 \nThis is CPR for Healthcare Providers..This course is open to the public. This course is for anyone getting into the healthcare field \nTo Register Call or go to https://emsces911.org/book-now-classes/ \nBooks for this course can be purchased for $16.00. https://shopcpr.heart.org/bls-provider-manual
URL:https://emsces911.org/event/aha-healthcare-provider-bls-course-2025-16/
LOCATION:EMSCES911\, 679 North Palora Ave #A\, Yuba City\, CA\, 95993\, United States
CATEGORIES:Health Care Provider
END:VEVENT
BEGIN:VEVENT
DTSTART;TZID=America/Los_Angeles:20260117T110000
DTEND;TZID=America/Los_Angeles:20260117T150000
DTSTAMP:20260425T092730
CREATED:20251224T195329Z
LAST-MODIFIED:20251224T195329Z
UID:13414-1768647600-1768662000@emsces911.org
SUMMARY:AHA Healthcare Provider BLS Course  2025
DESCRIPTION:AHA Healthcare Provider BLS Course  2025 \nThis is CPR for Healthcare Providers..This course is open to the public. This course is for anyone getting into the healthcare field \nTo Register Call or go to https://emsces911.org/book-now-classes/ \nBooks for this course can be purchased for $16.00. https://shopcpr.heart.org/bls-provider-manual
URL:https://emsces911.org/event/aha-healthcare-provider-bls-course-2025-17/
LOCATION:EMSCES911\, 679 North Palora Ave #A\, Yuba City\, CA\, 95993\, United States
CATEGORIES:Health Care Provider
END:VEVENT
BEGIN:VEVENT
DTSTART;TZID=America/Los_Angeles:20260119T080000
DTEND;TZID=America/Los_Angeles:20260119T140000
DTSTAMP:20260425T092730
CREATED:20251224T184529Z
LAST-MODIFIED:20251224T203327Z
UID:13394-1768809600-1768831200@emsces911.org
SUMMARY:Advanced Cardiac Life Support Renewal Course
DESCRIPTION:Advanced Cardiac Life Support Renewal Course \nhttps://shopcpr.heart.org/acls-provider-manual or https://shopcpr.heart.org/acls-provider-manual-ebook \nFor this course you will need to have the ACLS textbook (required) and ECC handbook (optional). These item can be purchased at the link above. The pre test within the textbook must be completed and your score of 70% or greater printed and brought with you to class. \nACLS Pretest:\nhttps://elearning.heart.org/licenses/1548/38967469
URL:https://emsces911.org/event/advanced-cardiac-life-support-renewal-course-147/
LOCATION:EMSCES911\, 679 North Palora Ave #A\, Yuba City\, CA\, 95993\, United States
CATEGORIES:ACLS
END:VEVENT
BEGIN:VEVENT
DTSTART;TZID=America/Los_Angeles:20260120T080000
DTEND;TZID=America/Los_Angeles:20260120T163000
DTSTAMP:20260425T092730
CREATED:20251224T193609Z
LAST-MODIFIED:20251224T193609Z
UID:13401-1768896000-1768926600@emsces911.org
SUMMARY:AHA PALS Provider/ Renewal Course
DESCRIPTION:AHA PALS Provider/ Renewal Course. Open to the public\nFor this course you will need the NEW PALS textbook (required). These items can be purchased at the link below. Take the pre test which is on the Website within the Textbook. Complete with a score of 70% or greater and print out the score. Please bring the printed score with you to class… \nProvider Course $201/Renewal Course $151  \nPALS Pretest Link: https://elearning.heart.org/course/427 \nPALS textbook: https://shopcpr.heart.org/pals-provider-manual
URL:https://emsces911.org/event/aha-pals-provider-renewal-course-107/
LOCATION:EMSCES911\, 679 North Palora Ave #A\, Yuba City\, CA\, 95993\, United States
CATEGORIES:PALS Classes
END:VEVENT
BEGIN:VEVENT
DTSTART;TZID=America/Los_Angeles:20260121T080000
DTEND;TZID=America/Los_Angeles:20260121T120000
DTSTAMP:20260425T092730
CREATED:20251224T203402Z
LAST-MODIFIED:20251224T203615Z
UID:13437-1768982400-1768996800@emsces911.org
SUMMARY:SSV PACC Meeting
DESCRIPTION:
URL:https://emsces911.org/event/ssv-pacc-meeting/
LOCATION:CA
END:VEVENT
BEGIN:VEVENT
DTSTART;VALUE=DATE:20260122
DTEND;VALUE=DATE:20260123
DTSTAMP:20260425T092730
CREATED:20251224T183021Z
LAST-MODIFIED:20251224T183021Z
UID:13385-1769040000-1769126399@emsces911.org
SUMMARY:CLOSED
DESCRIPTION:CLOSED
URL:https://emsces911.org/event/closed-58/
LOCATION:CA
END:VEVENT
BEGIN:VEVENT
DTSTART;VALUE=DATE:20260123
DTEND;VALUE=DATE:20260124
DTSTAMP:20260425T092730
CREATED:20251224T183111Z
LAST-MODIFIED:20251224T194244Z
UID:13387-1769126400-1769212799@emsces911.org
SUMMARY:CLOSED
DESCRIPTION:CLOSED
URL:https://emsces911.org/event/closed-59/
LOCATION:CA
END:VEVENT
BEGIN:VEVENT
DTSTART;TZID=America/Los_Angeles:20260124T080000
DTEND;TZID=America/Los_Angeles:20260124T170000
DTSTAMP:20260425T092730
CREATED:20251224T205639Z
LAST-MODIFIED:20251224T205639Z
UID:13442-1769241600-1769274000@emsces911.org
SUMMARY:Dobbins CPR and Stop the Bleed day
DESCRIPTION:Dobbins CPR and Stop the Bleed day
URL:https://emsces911.org/event/dobbins-cpr-and-stop-the-bleed-day/
LOCATION:CA
END:VEVENT
BEGIN:VEVENT
DTSTART;TZID=America/Los_Angeles:20260126T080000
DTEND;TZID=America/Los_Angeles:20260126T163000
DTSTAMP:20260425T092730
CREATED:20251224T211204Z
LAST-MODIFIED:20251224T211204Z
UID:13444-1769414400-1769445000@emsces911.org
SUMMARY:AHA PALS Provider/ Renewal Course
DESCRIPTION:AHA PALS Provider/ Renewal Course. Open to the public\nFor this course you will need the NEW PALS textbook (required). These items can be purchased at the link below. Take the pre test which is on the Website within the Textbook. Complete with a score of 70% or greater and print out the score. Please bring the printed score with you to class… \nProvider Course $201/Renewal Course $151  \nPALS Pretest Link: https://elearning.heart.org/course/427 \nPALS textbook: https://shopcpr.heart.org/pals-provider-manual
URL:https://emsces911.org/event/aha-pals-provider-renewal-course-109/
LOCATION:EMSCES911\, 679 North Palora Ave #A\, Yuba City\, CA\, 95993\, United States
CATEGORIES:PALS Classes
END:VEVENT
BEGIN:VEVENT
DTSTART;VALUE=DATE:20260127
DTEND;VALUE=DATE:20260128
DTSTAMP:20260425T092730
CREATED:20251224T183158Z
LAST-MODIFIED:20251224T183158Z
UID:13389-1769472000-1769558399@emsces911.org
SUMMARY:CLOSED
DESCRIPTION:CLOSED
URL:https://emsces911.org/event/closed-60/
LOCATION:CA
END:VEVENT
BEGIN:VEVENT
DTSTART;TZID=America/Los_Angeles:20260128T080000
DTEND;TZID=America/Los_Angeles:20260128T140000
DTSTAMP:20260425T092730
CREATED:20251224T195924Z
LAST-MODIFIED:20251224T195924Z
UID:13419-1769587200-1769608800@emsces911.org
SUMMARY:Advanced Cardiac Life Support Renewal Course
DESCRIPTION:Advanced Cardiac Life Support Renewal Course \nhttps://shopcpr.heart.org/acls-provider-manual or https://shopcpr.heart.org/acls-provider-manual-ebook \nFor this course you will need to have the ACLS textbook (required) and ECC handbook (optional). These item can be purchased at the link above. The pre test within the textbook must be completed and your score of 70% or greater printed and brought with you to class. \nACLS Pretest:\nhttps://elearning.heart.org/licenses/1548/38967469
URL:https://emsces911.org/event/advanced-cardiac-life-support-renewal-course-148/
LOCATION:EMSCES911\, 679 North Palora Ave #A\, Yuba City\, CA\, 95993\, United States
CATEGORIES:ACLS
END:VEVENT
BEGIN:VEVENT
DTSTART;VALUE=DATE:20260129
DTEND;VALUE=DATE:20260130
DTSTAMP:20260425T092730
CREATED:20251224T195401Z
LAST-MODIFIED:20251224T195401Z
UID:13417-1769644800-1769731199@emsces911.org
SUMMARY:CLOSED
DESCRIPTION:CLOSED
URL:https://emsces911.org/event/closed-62/
LOCATION:CA
END:VEVENT
BEGIN:VEVENT
DTSTART;TZID=America/Los_Angeles:20260130T110000
DTEND;TZID=America/Los_Angeles:20260130T150000
DTSTAMP:20260425T092730
CREATED:20251224T201404Z
LAST-MODIFIED:20251224T201404Z
UID:13425-1769770800-1769785200@emsces911.org
SUMMARY:AHA Healthcare Provider BLS Course  2025
DESCRIPTION:AHA Healthcare Provider BLS Course  2025 \nThis is CPR for Healthcare Providers..This course is open to the public. This course is for anyone getting into the healthcare field \nTo Register Call or go to https://emsces911.org/book-now-classes/ \nBooks for this course can be purchased for $16.00. https://shopcpr.heart.org/bls-provider-manual
URL:https://emsces911.org/event/aha-healthcare-provider-bls-course-2025-18/
LOCATION:EMSCES911\, 679 North Palora Ave #A\, Yuba City\, CA\, 95993\, United States
CATEGORIES:Health Care Provider
END:VEVENT
BEGIN:VEVENT
DTSTART;TZID=America/Los_Angeles:20260131T110000
DTEND;TZID=America/Los_Angeles:20260131T150000
DTSTAMP:20260425T092730
CREATED:20251224T201734Z
LAST-MODIFIED:20251224T201734Z
UID:13428-1769857200-1769871600@emsces911.org
SUMMARY:AHA Healthcare Provider BLS Course  2025
DESCRIPTION:AHA Healthcare Provider BLS Course  2025 \nThis is CPR for Healthcare Providers..This course is open to the public. This course is for anyone getting into the healthcare field \nTo Register Call or go to https://emsces911.org/book-now-classes/ \nBooks for this course can be purchased for $16.00. https://shopcpr.heart.org/bls-provider-manual
URL:https://emsces911.org/event/aha-healthcare-provider-bls-course-2025-19/
LOCATION:EMSCES911\, 679 North Palora Ave #A\, Yuba City\, CA\, 95993\, United States
CATEGORIES:Health Care Provider
END:VEVENT
BEGIN:VEVENT
DTSTART;TZID=America/Los_Angeles:20260202T080000
DTEND;TZID=America/Los_Angeles:20260202T200000
DTSTAMP:20260425T092730
CREATED:20260121T211813Z
LAST-MODIFIED:20260121T211813Z
UID:13662-1770019200-1770062400@emsces911.org
SUMMARY:Advanced Cardiac Life Support Provider Course
DESCRIPTION:Advanced Cardiac Life Support Provider Course \nhttps://shopcpr.heart.org/acls-provider-manual or https://shopcpr.heart.org/acls-provider-manual-ebook \nFor this course you will need to have the ACLS textbook (required) and ECC handbook (optional). These item can be purchased at the link above. The pre test within the textbook must be completed and your score of 70% or greater printed and brought with you to class. \nACLS Pretest:\nhttps://elearning.heart.org/course/423
URL:https://emsces911.org/event/advanced-cardiac-life-support-provider-course-67/
LOCATION:EMSCES911\, 679 North Palora Ave #A\, Yuba City\, CA\, 95993\, United States
CATEGORIES:ACLS
END:VEVENT
BEGIN:VEVENT
DTSTART;TZID=America/Los_Angeles:20260203T150000
DTEND;TZID=America/Los_Angeles:20260203T170000
DTSTAMP:20260425T092730
CREATED:20260119T165525Z
LAST-MODIFIED:20260119T165525Z
UID:13596-1770130800-1770138000@emsces911.org
SUMMARY:Difib training
DESCRIPTION:Defib training for Sutter In Brownsville
URL:https://emsces911.org/event/difib-training/
LOCATION:CA
CATEGORIES:RQI
END:VEVENT
END:VCALENDAR