BEGIN:VCALENDAR
VERSION:2.0
PRODID:-//EMSCES911 - ECPv6.15.20//NONSGML v1.0//EN
CALSCALE:GREGORIAN
METHOD:PUBLISH
X-WR-CALNAME:EMSCES911
X-ORIGINAL-URL:https://emsces911.org
X-WR-CALDESC:Events for EMSCES911
REFRESH-INTERVAL;VALUE=DURATION:PT1H
X-Robots-Tag:noindex
X-PUBLISHED-TTL:PT1H
BEGIN:VTIMEZONE
TZID:America/Los_Angeles
BEGIN:DAYLIGHT
TZOFFSETFROM:-0800
TZOFFSETTO:-0700
TZNAME:PDT
DTSTART:20250309T100000
END:DAYLIGHT
BEGIN:STANDARD
TZOFFSETFROM:-0700
TZOFFSETTO:-0800
TZNAME:PST
DTSTART:20251102T090000
END:STANDARD
BEGIN:DAYLIGHT
TZOFFSETFROM:-0800
TZOFFSETTO:-0700
TZNAME:PDT
DTSTART:20260308T100000
END:DAYLIGHT
BEGIN:STANDARD
TZOFFSETFROM:-0700
TZOFFSETTO:-0800
TZNAME:PST
DTSTART:20261101T090000
END:STANDARD
BEGIN:DAYLIGHT
TZOFFSETFROM:-0800
TZOFFSETTO:-0700
TZNAME:PDT
DTSTART:20270314T100000
END:DAYLIGHT
BEGIN:STANDARD
TZOFFSETFROM:-0700
TZOFFSETTO:-0800
TZNAME:PST
DTSTART:20271107T090000
END:STANDARD
END:VTIMEZONE
BEGIN:VEVENT
DTSTART;VALUE=DATE:20260423
DTEND;VALUE=DATE:20260424
DTSTAMP:20260423T073006
CREATED:20260403T191339Z
LAST-MODIFIED:20260403T191339Z
UID:14177-1776902400-1776988799@emsces911.org
SUMMARY:FIELD READINESS TESTING
DESCRIPTION:FIELD READINESS TESTING AT AMR PLACER
URL:https://emsces911.org/event/field-readiness-testing/
LOCATION:CA
END:VEVENT
BEGIN:VEVENT
DTSTART;TZID=America/Los_Angeles:20260424T110000
DTEND;TZID=America/Los_Angeles:20260424T151500
DTSTAMP:20260423T073006
CREATED:20260324T045716Z
LAST-MODIFIED:20260324T045716Z
UID:14068-1777028400-1777043700@emsces911.org
SUMMARY:AHA Healthcare Provider BLS Course  2025
DESCRIPTION:AHA Healthcare Provider BLS Course  2025 \nThis is CPR for Healthcare Providers..This course is open to the public. This course is for anyone getting into the healthcare field \nTo Register Call or go to https://emsces911.org/book-now-classes/ \nBooks for this course can be purchased for $16.00. https://shopcpr.heart.org/bls-provider-manual
URL:https://emsces911.org/event/aha-healthcare-provider-bls-course-2025-42/
LOCATION:EMSCES911\, 679 North Palora Ave #A\, Yuba City\, CA\, 95993\, United States
CATEGORIES:Health Care Provider
END:VEVENT
BEGIN:VEVENT
DTSTART;TZID=America/Los_Angeles:20260425T110000
DTEND;TZID=America/Los_Angeles:20260425T151500
DTSTAMP:20260423T073006
CREATED:20260324T045936Z
LAST-MODIFIED:20260324T045936Z
UID:14071-1777114800-1777130100@emsces911.org
SUMMARY:AHA Healthcare Provider BLS Course  2025
DESCRIPTION:AHA Healthcare Provider BLS Course  2025 \nThis is CPR for Healthcare Providers..This course is open to the public. This course is for anyone getting into the healthcare field \nTo Register Call or go to https://emsces911.org/book-now-classes/ \nBooks for this course can be purchased for $16.00. https://shopcpr.heart.org/bls-provider-manual
URL:https://emsces911.org/event/aha-healthcare-provider-bls-course-2025-43/
LOCATION:EMSCES911\, 679 North Palora Ave #A\, Yuba City\, CA\, 95993\, United States
CATEGORIES:Health Care Provider
END:VEVENT
BEGIN:VEVENT
DTSTART;TZID=America/Los_Angeles:20260427T080000
DTEND;TZID=America/Los_Angeles:20260427T163000
DTSTAMP:20260423T073006
CREATED:20260324T045342Z
LAST-MODIFIED:20260324T045342Z
UID:14064-1777276800-1777307400@emsces911.org
SUMMARY:AHA PALS Provider/ Renewal Course
DESCRIPTION:AHA PALS Provider/ Renewal Course. Open to the public\nFor this course you will need the NEW PALS textbook (required). These items can be purchased at the link below. Take the pre test which is on the Website within the Textbook. Complete with a score of 70% or greater and print out the score. Please bring the printed score with you to class… \nProvider Course $201/Renewal Course $151  \nPALS Pretest Link: https://elearning.heart.org/course/427 \nPALS textbook: https://shopcpr.heart.org/pals-provider-manual
URL:https://emsces911.org/event/aha-pals-provider-renewal-course-116/
LOCATION:EMSCES911\, 679 North Palora Ave #A\, Yuba City\, CA\, 95993\, United States
CATEGORIES:PALS Classes
END:VEVENT
BEGIN:VEVENT
DTSTART;TZID=America/Los_Angeles:20260428T080000
DTEND;TZID=America/Los_Angeles:20260428T140000
DTSTAMP:20260423T073006
CREATED:20260322T171723Z
LAST-MODIFIED:20260322T171723Z
UID:14031-1777363200-1777384800@emsces911.org
SUMMARY:Advanced Cardiac Life Support Renewal Course
DESCRIPTION:Advanced Cardiac Life Support Renewal Course \nhttps://shopcpr.heart.org/acls-provider-manual or https://shopcpr.heart.org/acls-provider-manual-ebook \nFor this course you will need to have the ACLS textbook (required) and ECC handbook (optional). These item can be purchased at the link above. The pre test within the textbook must be completed and your score of 70% or greater printed and brought with you to class. \nACLS Pretest:\nhttps://elearning.heart.org/licenses/1548/38967469
URL:https://emsces911.org/event/advanced-cardiac-life-support-renewal-course-158/
LOCATION:EMSCES911\, 679 North Palora Ave #A\, Yuba City\, CA\, 95993\, United States
CATEGORIES:ACLS
END:VEVENT
BEGIN:VEVENT
DTSTART;TZID=America/Los_Angeles:20260428T140000
DTEND;TZID=America/Los_Angeles:20260428T171500
DTSTAMP:20260423T073006
CREATED:20260324T050504Z
LAST-MODIFIED:20260324T050504Z
UID:14075-1777384800-1777396500@emsces911.org
SUMMARY:AHA Healthcare Provider BLS Renewal Course
DESCRIPTION:AHA Healthcare Provider BLS Renewal Course  2025 \nThis is CPR for Healthcare Providers..This course is open to the public. MUST HAVE A CURRENT BLS CARD \nTo Register Call or go to https://emsces911.org/book-now-classes/ \nBooks for this course can be purchased for $16.00. https://shopcpr.heart.org/bls-provider-manual
URL:https://emsces911.org/event/aha-healthcare-provider-bls-renewal-course-13/
LOCATION:EMSCES911\, 679 North Palora Ave #A\, Yuba City\, CA\, 95993\, United States
CATEGORIES:Health Care Provider
END:VEVENT
BEGIN:VEVENT
DTSTART;TZID=America/Los_Angeles:20260429T080000
DTEND;TZID=America/Los_Angeles:20260429T121500
DTSTAMP:20260423T073006
CREATED:20260324T041214Z
LAST-MODIFIED:20260324T041214Z
UID:14050-1777449600-1777464900@emsces911.org
SUMMARY:AHA Healthcare Provider BLS Course  2025
DESCRIPTION:AHA Healthcare Provider BLS Course  2025 \nThis is CPR for Healthcare Providers..This course is open to the public. This course is for anyone getting into the healthcare field \nTo Register Call or go to https://emsces911.org/book-now-classes/ \nBooks for this course can be purchased for $16.00. https://shopcpr.heart.org/bls-provider-manual
URL:https://emsces911.org/event/aha-healthcare-provider-bls-course-2025-40/
LOCATION:EMSCES911\, 679 North Palora Ave #A\, Yuba City\, CA\, 95993\, United States
CATEGORIES:Health Care Provider
END:VEVENT
BEGIN:VEVENT
DTSTART;TZID=America/Los_Angeles:20260430T110000
DTEND;TZID=America/Los_Angeles:20260430T151500
DTSTAMP:20260423T073006
CREATED:20260324T041418Z
LAST-MODIFIED:20260324T041418Z
UID:14053-1777546800-1777562100@emsces911.org
SUMMARY:AHA Healthcare Provider BLS Course  2025
DESCRIPTION:AHA Healthcare Provider BLS Course  2025 \nThis is CPR for Healthcare Providers..This course is open to the public. This course is for anyone getting into the healthcare field \nTo Register Call or go to https://emsces911.org/book-now-classes/ \nBooks for this course can be purchased for $16.00. https://shopcpr.heart.org/bls-provider-manual
URL:https://emsces911.org/event/aha-healthcare-provider-bls-course-2025-41/
LOCATION:EMSCES911\, 679 North Palora Ave #A\, Yuba City\, CA\, 95993\, United States
CATEGORIES:Health Care Provider
END:VEVENT
BEGIN:VEVENT
DTSTART;TZID=America/Los_Angeles:20260501T110000
DTEND;TZID=America/Los_Angeles:20260501T151500
DTSTAMP:20260423T073006
CREATED:20260324T063840Z
LAST-MODIFIED:20260324T063840Z
UID:14087-1777633200-1777648500@emsces911.org
SUMMARY:AHA Healthcare Provider BLS Course  2025
DESCRIPTION:AHA Healthcare Provider BLS Course  2025 \nThis is CPR for Healthcare Providers..This course is open to the public. This course is for anyone getting into the healthcare field \nTo Register Call or go to https://emsces911.org/book-now-classes/ \nBooks for this course can be purchased for $16.00. https://shopcpr.heart.org/bls-provider-manual
URL:https://emsces911.org/event/aha-healthcare-provider-bls-course-2025-45/
LOCATION:EMSCES911\, 679 North Palora Ave #A\, Yuba City\, CA\, 95993\, United States
CATEGORIES:Health Care Provider
END:VEVENT
BEGIN:VEVENT
DTSTART;TZID=America/Los_Angeles:20260502T110000
DTEND;TZID=America/Los_Angeles:20260502T151500
DTSTAMP:20260423T073006
CREATED:20260327T015704Z
LAST-MODIFIED:20260327T015704Z
UID:14121-1777719600-1777734900@emsces911.org
SUMMARY:AHA Healthcare Provider BLS Course  2025
DESCRIPTION:AHA Healthcare Provider BLS Course  2025 \nThis is CPR for Healthcare Providers..This course is open to the public. This course is for anyone getting into the healthcare field \nTo Register Call or go to https://emsces911.org/book-now-classes/ \nBooks for this course can be purchased for $16.00. https://shopcpr.heart.org/bls-provider-manual
URL:https://emsces911.org/event/aha-healthcare-provider-bls-course-2025-49/
LOCATION:EMSCES911\, 679 North Palora Ave #A\, Yuba City\, CA\, 95993\, United States
CATEGORIES:Health Care Provider
END:VEVENT
BEGIN:VEVENT
DTSTART;TZID=America/Los_Angeles:20260504T080000
DTEND;TZID=America/Los_Angeles:20260504T200000
DTSTAMP:20260423T073006
CREATED:20260421T031624Z
LAST-MODIFIED:20260421T031624Z
UID:14226-1777881600-1777924800@emsces911.org
SUMMARY:Advanced Cardiac Life Support Provider Course
DESCRIPTION:Advanced Cardiac Life Support Provider Course \nhttps://shopcpr.heart.org/acls-provider-manual or https://shopcpr.heart.org/acls-provider-manual-ebook \nFor this course you will need to have the ACLS textbook (required) and ECC handbook (optional). These item can be purchased at the link above. The pre test within the textbook must be completed and your score of 70% or greater printed and brought with you to class. \nACLS Pretest:\nhttps://elearning.heart.org/course/423
URL:https://emsces911.org/event/advanced-cardiac-life-support-provider-course-70/
LOCATION:EMSCES911\, 679 North Palora Ave #A\, Yuba City\, CA\, 95993\, United States
CATEGORIES:ACLS
END:VEVENT
BEGIN:VEVENT
DTSTART;VALUE=DATE:20260505
DTEND;VALUE=DATE:20260506
DTSTAMP:20260423T073006
CREATED:20260327T015002Z
LAST-MODIFIED:20260327T015002Z
UID:14119-1777939200-1778025599@emsces911.org
SUMMARY:CLOSED
DESCRIPTION:CLOSED YEMSA TRAINING
URL:https://emsces911.org/event/closed-67/
LOCATION:CA
END:VEVENT
BEGIN:VEVENT
DTSTART;TZID=America/Los_Angeles:20260506T080000
DTEND;TZID=America/Los_Angeles:20260506T140000
DTSTAMP:20260423T073006
CREATED:20260421T031849Z
LAST-MODIFIED:20260421T031849Z
UID:14229-1778054400-1778076000@emsces911.org
SUMMARY:Advanced Cardiac Life Support Renewal Course
DESCRIPTION:Advanced Cardiac Life Support Renewal Course \nhttps://shopcpr.heart.org/acls-provider-manual or https://shopcpr.heart.org/acls-provider-manual-ebook \nFor this course you will need to have the ACLS textbook (required) and ECC handbook (optional). These item can be purchased at the link above. The pre test within the textbook must be completed and your score of 70% or greater printed and brought with you to class. \nACLS Pretest:\nhttps://elearning.heart.org/licenses/1548/38967469
URL:https://emsces911.org/event/advanced-cardiac-life-support-renewal-course-160/
LOCATION:EMSCES911\, 679 North Palora Ave #A\, Yuba City\, CA\, 95993\, United States
CATEGORIES:ACLS
END:VEVENT
BEGIN:VEVENT
DTSTART;TZID=America/Los_Angeles:20260507T110000
DTEND;TZID=America/Los_Angeles:20260507T150000
DTSTAMP:20260423T073006
CREATED:20260421T032233Z
LAST-MODIFIED:20260421T032233Z
UID:14234-1778151600-1778166000@emsces911.org
SUMMARY:AHA Healthcare Provider BLS Course
DESCRIPTION:AHA Healthcare Provider BLS Course  2025 \nThis is CPR for Healthcare Providers..This course is open to the public. This course is for anyone getting into the healthcare field \nTo Register Call or go to https://emsces911.org/book-now-classes/ \nBooks for this course can be purchased for $16.00. https://shopcpr.heart.org/bls-provider-manual
URL:https://emsces911.org/event/aha-healthcare-provider-bls-course-344/
LOCATION:EMSCES911\, 679 North Palora Ave #A\, Yuba City\, CA\, 95993\, United States
CATEGORIES:Health Care Provider
END:VEVENT
BEGIN:VEVENT
DTSTART;TZID=America/Los_Angeles:20260508T110000
DTEND;TZID=America/Los_Angeles:20260508T150000
DTSTAMP:20260423T073006
CREATED:20260421T034456Z
LAST-MODIFIED:20260421T034456Z
UID:14239-1778238000-1778252400@emsces911.org
SUMMARY:AHA Healthcare Provider BLS Course
DESCRIPTION:AHA Healthcare Provider BLS Course  2025 \nThis is CPR for Healthcare Providers..This course is open to the public. This course is for anyone getting into the healthcare field \nTo Register Call or go to https://emsces911.org/book-now-classes/ \nBooks for this course can be purchased for $16.00. https://shopcpr.heart.org/bls-provider-manual
URL:https://emsces911.org/event/aha-healthcare-provider-bls-course-345/
LOCATION:EMSCES911\, 679 North Palora Ave #A\, Yuba City\, CA\, 95993\, United States
CATEGORIES:Health Care Provider
END:VEVENT
BEGIN:VEVENT
DTSTART;TZID=America/Los_Angeles:20260509T110000
DTEND;TZID=America/Los_Angeles:20260509T150000
DTSTAMP:20260423T073006
CREATED:20260421T034702Z
LAST-MODIFIED:20260421T034702Z
UID:14242-1778324400-1778338800@emsces911.org
SUMMARY:AHA Healthcare Provider BLS Course
DESCRIPTION:AHA Healthcare Provider BLS Course  2025 \nThis is CPR for Healthcare Providers..This course is open to the public. This course is for anyone getting into the healthcare field \nTo Register Call or go to https://emsces911.org/book-now-classes/ \nBooks for this course can be purchased for $16.00. https://shopcpr.heart.org/bls-provider-manual
URL:https://emsces911.org/event/aha-healthcare-provider-bls-course-346/
LOCATION:EMSCES911\, 679 North Palora Ave #A\, Yuba City\, CA\, 95993\, United States
CATEGORIES:Health Care Provider
END:VEVENT
BEGIN:VEVENT
DTSTART;TZID=America/Los_Angeles:20260511T080000
DTEND;TZID=America/Los_Angeles:20260511T163000
DTSTAMP:20260423T073006
CREATED:20260421T043417Z
LAST-MODIFIED:20260421T043417Z
UID:14259-1778486400-1778517000@emsces911.org
SUMMARY:AHA PALS Provider/ Renewal Course
DESCRIPTION:AHA PALS Provider/ Renewal Course. Open to the public\nFor this course you will need the NEW PALS textbook (required). These items can be purchased at the link below. Take the pre test which is on the Website within the Textbook. Complete with a score of 70% or greater and print out the score. Please bring the printed score with you to class… \nProvider Course $201/Renewal Course $151  \nPALS Pretest Link: https://elearning.heart.org/course/427 \nPALS textbook: https://shopcpr.heart.org/pals-provider-manual
URL:https://emsces911.org/event/aha-pals-provider-renewal-course-114/
LOCATION:EMSCES911\, 679 North Palora Ave #A\, Yuba City\, CA\, 95993\, United States
CATEGORIES:PALS Classes
END:VEVENT
BEGIN:VEVENT
DTSTART;TZID=America/Los_Angeles:20260512T080000
DTEND;TZID=America/Los_Angeles:20260512T140000
DTSTAMP:20260423T073006
CREATED:20260421T042232Z
LAST-MODIFIED:20260421T042232Z
UID:14254-1778572800-1778594400@emsces911.org
SUMMARY:Advanced Cardiac Life Support Renewal Course
DESCRIPTION:Advanced Cardiac Life Support Renewal Course \nhttps://shopcpr.heart.org/acls-provider-manual or https://shopcpr.heart.org/acls-provider-manual-ebook \nFor this course you will need to have the ACLS textbook (required) and ECC handbook (optional). These item can be purchased at the link above. The pre test within the textbook must be completed and your score of 70% or greater printed and brought with you to class. \nACLS Pretest:\nhttps://elearning.heart.org/licenses/1548/38967469
URL:https://emsces911.org/event/advanced-cardiac-life-support-renewal-course-161/
LOCATION:EMSCES911\, 679 North Palora Ave #A\, Yuba City\, CA\, 95993\, United States
CATEGORIES:ACLS
END:VEVENT
BEGIN:VEVENT
DTSTART;TZID=America/Los_Angeles:20260512T140000
DTEND;TZID=America/Los_Angeles:20260512T171500
DTSTAMP:20260423T073006
CREATED:20260421T042611Z
LAST-MODIFIED:20260421T042728Z
UID:14256-1778594400-1778606100@emsces911.org
SUMMARY:AHA Healthcare Provider BLS Renewal Course
DESCRIPTION:AHA Healthcare Provider BLS Renewal Course  2025 \nThis is CPR for Healthcare Providers..This course is open to the public. MUST HAVE A CURRENT BLS CARD \nTo Register Call or go to https://emsces911.org/book-now-classes/ \nBooks for this course can be purchased for $16.00. https://shopcpr.heart.org/bls-provider-manual
URL:https://emsces911.org/event/aha-healthcare-provider-bls-renewal-course-14/
LOCATION:EMSCES911\, 679 North Palora Ave #A\, Yuba City\, CA\, 95993\, United States
CATEGORIES:Health Care Provider
END:VEVENT
BEGIN:VEVENT
DTSTART;VALUE=DATE:20260513
DTEND;VALUE=DATE:20260514
DTSTAMP:20260423T073006
CREATED:20260421T031958Z
LAST-MODIFIED:20260421T031958Z
UID:14232-1778630400-1778716799@emsces911.org
SUMMARY:ITLS at AMR PLACER
DESCRIPTION:ITLS closed class
URL:https://emsces911.org/event/itls-at-amr-placer/
LOCATION:CA
CATEGORIES:ITLS
END:VEVENT
BEGIN:VEVENT
DTSTART;TZID=America/Los_Angeles:20260514T110000
DTEND;TZID=America/Los_Angeles:20260514T150000
DTSTAMP:20260423T073006
CREATED:20260421T035443Z
LAST-MODIFIED:20260421T035443Z
UID:14245-1778756400-1778770800@emsces911.org
SUMMARY:AHA Healthcare Provider BLS Course
DESCRIPTION:AHA Healthcare Provider BLS Course  2025 \nThis is CPR for Healthcare Providers..This course is open to the public. This course is for anyone getting into the healthcare field \nTo Register Call or go to https://emsces911.org/book-now-classes/ \nBooks for this course can be purchased for $16.00. https://shopcpr.heart.org/bls-provider-manual
URL:https://emsces911.org/event/aha-healthcare-provider-bls-course-347/
LOCATION:EMSCES911\, 679 North Palora Ave #A\, Yuba City\, CA\, 95993\, United States
CATEGORIES:Health Care Provider
END:VEVENT
BEGIN:VEVENT
DTSTART;TZID=America/Los_Angeles:20260515T110000
DTEND;TZID=America/Los_Angeles:20260515T150000
DTSTAMP:20260423T073006
CREATED:20260421T035648Z
LAST-MODIFIED:20260421T035648Z
UID:14248-1778842800-1778857200@emsces911.org
SUMMARY:AHA Healthcare Provider BLS Course
DESCRIPTION:AHA Healthcare Provider BLS Course  2025 \nThis is CPR for Healthcare Providers..This course is open to the public. This course is for anyone getting into the healthcare field \nTo Register Call or go to https://emsces911.org/book-now-classes/ \nBooks for this course can be purchased for $16.00. https://shopcpr.heart.org/bls-provider-manual
URL:https://emsces911.org/event/aha-healthcare-provider-bls-course-348/
LOCATION:EMSCES911\, 679 North Palora Ave #A\, Yuba City\, CA\, 95993\, United States
CATEGORIES:Health Care Provider
END:VEVENT
BEGIN:VEVENT
DTSTART;TZID=America/Los_Angeles:20260516T110000
DTEND;TZID=America/Los_Angeles:20260516T150000
DTSTAMP:20260423T073006
CREATED:20260421T040017Z
LAST-MODIFIED:20260421T040017Z
UID:14251-1778929200-1778943600@emsces911.org
SUMMARY:AHA Healthcare Provider BLS Course
DESCRIPTION:AHA Healthcare Provider BLS Course  2025 \nThis is CPR for Healthcare Providers..This course is open to the public. This course is for anyone getting into the healthcare field \nTo Register Call or go to https://emsces911.org/book-now-classes/ \nBooks for this course can be purchased for $16.00. https://shopcpr.heart.org/bls-provider-manual
URL:https://emsces911.org/event/aha-healthcare-provider-bls-course-349/
LOCATION:EMSCES911\, 679 North Palora Ave #A\, Yuba City\, CA\, 95993\, United States
CATEGORIES:Health Care Provider
END:VEVENT
BEGIN:VEVENT
DTSTART;TZID=America/Los_Angeles:20260518T080000
DTEND;TZID=America/Los_Angeles:20260518T200000
DTSTAMP:20260423T073006
CREATED:20260421T045512Z
LAST-MODIFIED:20260421T045512Z
UID:14270-1779091200-1779134400@emsces911.org
SUMMARY:Advanced Cardiac Life Support Provider Course
DESCRIPTION:Advanced Cardiac Life Support Provider Course \nhttps://shopcpr.heart.org/acls-provider-manual or https://shopcpr.heart.org/acls-provider-manual-ebook \nFor this course you will need to have the ACLS textbook (required) and ECC handbook (optional). These item can be purchased at the link above. The pre test within the textbook must be completed and your score of 70% or greater printed and brought with you to class. \nACLS Pretest:\nhttps://elearning.heart.org/course/423
URL:https://emsces911.org/event/advanced-cardiac-life-support-provider-course-71/
LOCATION:EMSCES911\, 679 North Palora Ave #A\, Yuba City\, CA\, 95993\, United States
CATEGORIES:ACLS
END:VEVENT
BEGIN:VEVENT
DTSTART;TZID=America/Los_Angeles:20260519T080000
DTEND;TZID=America/Los_Angeles:20260519T163000
DTSTAMP:20260423T073006
CREATED:20260421T044238Z
LAST-MODIFIED:20260421T044238Z
UID:14263-1779177600-1779208200@emsces911.org
SUMMARY:AHA PALS Provider/ Renewal Course
DESCRIPTION:AHA PALS Provider/ Renewal Course. Open to the public\nFor this course you will need the NEW PALS textbook (required). These items can be purchased at the link below. Take the pre test which is on the Website within the Textbook. Complete with a score of 70% or greater and print out the score. Please bring the printed score with you to class… \nProvider Course $201/Renewal Course $151  \nPALS Pretest Link: https://elearning.heart.org/course/427 \nPALS textbook: https://shopcpr.heart.org/pals-provider-manual
URL:https://emsces911.org/event/aha-pals-provider-renewal-course-117/
LOCATION:EMSCES911\, 679 North Palora Ave #A\, Yuba City\, CA\, 95993\, United States
CATEGORIES:PALS Classes
END:VEVENT
BEGIN:VEVENT
DTSTART;TZID=America/Los_Angeles:20260520T080000
DTEND;TZID=America/Los_Angeles:20260520T140000
DTSTAMP:20260423T073006
CREATED:20260421T044950Z
LAST-MODIFIED:20260421T045127Z
UID:14267-1779264000-1779285600@emsces911.org
SUMMARY:Advanced Cardiac Life Support Renewal Course
DESCRIPTION:Advanced Cardiac Life Support Renewal Course \nhttps://shopcpr.heart.org/acls-provider-manual or https://shopcpr.heart.org/acls-provider-manual-ebook \nFor this course you will need to have the ACLS textbook (required) and ECC handbook (optional). These item can be purchased at the link above. The pre test within the textbook must be completed and your score of 70% or greater printed and brought with you to class. \nACLS Pretest:\nhttps://elearning.heart.org/licenses/1548/38967469
URL:https://emsces911.org/event/advanced-cardiac-life-support-renewal-course-162/
LOCATION:EMSCES911\, 679 North Palora Ave #A\, Yuba City\, CA\, 95993\, United States
CATEGORIES:ACLS
END:VEVENT
BEGIN:VEVENT
DTSTART;TZID=America/Los_Angeles:20260521T110000
DTEND;TZID=America/Los_Angeles:20260521T151500
DTSTAMP:20260423T073006
CREATED:20260421T045945Z
LAST-MODIFIED:20260421T045945Z
UID:14273-1779361200-1779376500@emsces911.org
SUMMARY:AHA Healthcare Provider BLS Course
DESCRIPTION:AHA Healthcare Provider BLS Course  2025 \nThis is CPR for Healthcare Providers..This course is open to the public. This course is for anyone getting into the healthcare field \nTo Register Call or go to https://emsces911.org/book-now-classes/ \nBooks for this course can be purchased for $16.00. https://shopcpr.heart.org/bls-provider-manual
URL:https://emsces911.org/event/aha-healthcare-provider-bls-course-350/
LOCATION:EMSCES911\, 679 North Palora Ave #A\, Yuba City\, CA\, 95993\, United States
CATEGORIES:Health Care Provider
END:VEVENT
BEGIN:VEVENT
DTSTART;TZID=America/Los_Angeles:20260522T110000
DTEND;TZID=America/Los_Angeles:20260522T151500
DTSTAMP:20260423T073006
CREATED:20260421T050255Z
LAST-MODIFIED:20260421T050255Z
UID:14276-1779447600-1779462900@emsces911.org
SUMMARY:AHA Healthcare Provider BLS Course
DESCRIPTION:AHA Healthcare Provider BLS Course  2025 \nThis is CPR for Healthcare Providers..This course is open to the public. This course is for anyone getting into the healthcare field \nTo Register Call or go to https://emsces911.org/book-now-classes/ \nBooks for this course can be purchased for $16.00. https://shopcpr.heart.org/bls-provider-manual
URL:https://emsces911.org/event/aha-healthcare-provider-bls-course-351/
LOCATION:EMSCES911\, 679 North Palora Ave #A\, Yuba City\, CA\, 95993\, United States
CATEGORIES:Health Care Provider
END:VEVENT
BEGIN:VEVENT
DTSTART;TZID=America/Los_Angeles:20260523T110000
DTEND;TZID=America/Los_Angeles:20260523T151500
DTSTAMP:20260423T073006
CREATED:20260421T050545Z
LAST-MODIFIED:20260421T050545Z
UID:14279-1779534000-1779549300@emsces911.org
SUMMARY:AHA Healthcare Provider BLS Course
DESCRIPTION:AHA Healthcare Provider BLS Course  2025 \nThis is CPR for Healthcare Providers..This course is open to the public. This course is for anyone getting into the healthcare field \nTo Register Call or go to https://emsces911.org/book-now-classes/ \nBooks for this course can be purchased for $16.00. https://shopcpr.heart.org/bls-provider-manual
URL:https://emsces911.org/event/aha-healthcare-provider-bls-course-352/
LOCATION:EMSCES911\, 679 North Palora Ave #A\, Yuba City\, CA\, 95993\, United States
CATEGORIES:Health Care Provider
END:VEVENT
BEGIN:VEVENT
DTSTART;TZID=America/Los_Angeles:20260525T080000
DTEND;TZID=America/Los_Angeles:20260525T140000
DTSTAMP:20260423T073006
CREATED:20260324T064638Z
LAST-MODIFIED:20260324T064638Z
UID:14092-1779696000-1779717600@emsces911.org
SUMMARY:Advanced Cardiac Life Support Renewal Course
DESCRIPTION:Advanced Cardiac Life Support Renewal Course \nhttps://shopcpr.heart.org/acls-provider-manual or https://shopcpr.heart.org/acls-provider-manual-ebook \nFor this course you will need to have the ACLS textbook (required) and ECC handbook (optional). These item can be purchased at the link above. The pre test within the textbook must be completed and your score of 70% or greater printed and brought with you to class. \nACLS Pretest:\nhttps://elearning.heart.org/licenses/1548/38967469
URL:https://emsces911.org/event/advanced-cardiac-life-support-renewal-course-154/
LOCATION:EMSCES911\, 679 North Palora Ave #A\, Yuba City\, CA\, 95993\, United States
CATEGORIES:ACLS
END:VEVENT
END:VCALENDAR