BEGIN:VCALENDAR
VERSION:2.0
PRODID:-//EMSCES911 - ECPv6.15.20//NONSGML v1.0//EN
CALSCALE:GREGORIAN
METHOD:PUBLISH
X-WR-CALNAME:EMSCES911
X-ORIGINAL-URL:https://emsces911.org
X-WR-CALDESC:Events for EMSCES911
REFRESH-INTERVAL;VALUE=DURATION:PT1H
X-Robots-Tag:noindex
X-PUBLISHED-TTL:PT1H
BEGIN:VTIMEZONE
TZID:America/Los_Angeles
BEGIN:DAYLIGHT
TZOFFSETFROM:-0800
TZOFFSETTO:-0700
TZNAME:PDT
DTSTART:20250309T100000
END:DAYLIGHT
BEGIN:STANDARD
TZOFFSETFROM:-0700
TZOFFSETTO:-0800
TZNAME:PST
DTSTART:20251102T090000
END:STANDARD
BEGIN:DAYLIGHT
TZOFFSETFROM:-0800
TZOFFSETTO:-0700
TZNAME:PDT
DTSTART:20260308T100000
END:DAYLIGHT
BEGIN:STANDARD
TZOFFSETFROM:-0700
TZOFFSETTO:-0800
TZNAME:PST
DTSTART:20261101T090000
END:STANDARD
BEGIN:DAYLIGHT
TZOFFSETFROM:-0800
TZOFFSETTO:-0700
TZNAME:PDT
DTSTART:20270314T100000
END:DAYLIGHT
BEGIN:STANDARD
TZOFFSETFROM:-0700
TZOFFSETTO:-0800
TZNAME:PST
DTSTART:20271107T090000
END:STANDARD
END:VTIMEZONE
BEGIN:VEVENT
DTSTART;TZID=America/Los_Angeles:20260311T080000
DTEND;TZID=America/Los_Angeles:20260314T170000
DTSTAMP:20260425T093039
CREATED:20251224T211530Z
LAST-MODIFIED:20260211T015046Z
UID:13448-1773216000-1773507600@emsces911.org
SUMMARY:CLOSED STATE OF JEFFERSON EMS CONCERENCE
DESCRIPTION:CLOSED at a conference on Oregon.
URL:https://emsces911.org/event/closed-63/
LOCATION:CA
END:VEVENT
BEGIN:VEVENT
DTSTART;TZID=America/Los_Angeles:20260311T080000
DTEND;TZID=America/Los_Angeles:20260311T120000
DTSTAMP:20260425T093039
CREATED:20260308T212128Z
LAST-MODIFIED:20260308T212128Z
UID:13952-1773216000-1773230400@emsces911.org
SUMMARY:AHA Healthcare Provider BLS Course  2025
DESCRIPTION:AHA Healthcare Provider BLS Course  2025 \nThis is CPR for Healthcare Providers..This course is open to the public. This course is for anyone getting into the healthcare field \nTo Register Call or go to https://emsces911.org/book-now-classes/ \nBooks for this course can be purchased for $16.00. https://shopcpr.heart.org/bls-provider-manual
URL:https://emsces911.org/event/aha-healthcare-provider-bls-course-2025-35/
LOCATION:EMSCES911\, 679 North Palora Ave #A\, Yuba City\, CA\, 95993\, United States
CATEGORIES:Health Care Provider
END:VEVENT
BEGIN:VEVENT
DTSTART;TZID=America/Los_Angeles:20260310T140000
DTEND;TZID=America/Los_Angeles:20260310T171500
DTSTAMP:20260425T093039
CREATED:20260211T020114Z
LAST-MODIFIED:20260211T020154Z
UID:13774-1773151200-1773162900@emsces911.org
SUMMARY:AHA Healthcare Provider BLS Renewal Only
DESCRIPTION:AHA Healthcare Provider BLS Course  2025 \nThis is CPR for Healthcare Providers..This course is open to the public. MUST HAVE A CURRENT BLS CARD \nTo Register Call or go to https://emsces911.org/book-now-classes/ \nBooks for this course can be purchased for $16.00. https://shopcpr.heart.org/bls-provider-manual
URL:https://emsces911.org/event/aha-healthcare-provider-bls-renewal-only/
LOCATION:EMSCES911\, 679 North Palora Ave #A\, Yuba City\, CA\, 95993\, United States
CATEGORIES:Health Care Provider
END:VEVENT
BEGIN:VEVENT
DTSTART;TZID=America/Los_Angeles:20260310T080000
DTEND;TZID=America/Los_Angeles:20260310T140000
DTSTAMP:20260425T093039
CREATED:20260211T005537Z
LAST-MODIFIED:20260302T211115Z
UID:13752-1773129600-1773151200@emsces911.org
SUMMARY:Advanced Cardiac Life Support Renewal Course
DESCRIPTION:Advanced Cardiac Life Support Renewal Course \nhttps://shopcpr.heart.org/acls-provider-manual or https://shopcpr.heart.org/acls-provider-manual-ebook \nFor this course you will need to have the ACLS textbook (required) and ECC handbook (optional). These item can be purchased at the link above. The pre test within the textbook must be completed and your score of 70% or greater printed and brought with you to class. \nACLS Pretest:\nhttps://elearning.heart.org/licenses/1637/40291822
URL:https://emsces911.org/event/advanced-cardiac-life-support-renewal-course-149/
LOCATION:EMSCES911\, 679 North Palora Ave #A\, Yuba City\, CA\, 95993\, United States
CATEGORIES:ACLS
END:VEVENT
BEGIN:VEVENT
DTSTART;VALUE=DATE:20260309
DTEND;VALUE=DATE:20260310
DTSTAMP:20260425T093039
CREATED:20260211T014811Z
LAST-MODIFIED:20260211T014811Z
UID:13764-1773014400-1773100799@emsces911.org
SUMMARY:CLOSED SKILLS WITH AMR
DESCRIPTION:CLOSED
URL:https://emsces911.org/event/closed-skills-with-amr/
LOCATION:CA
END:VEVENT
BEGIN:VEVENT
DTSTART;TZID=America/Los_Angeles:20260307T110000
DTEND;TZID=America/Los_Angeles:20260307T150000
DTSTAMP:20260425T093039
CREATED:20260211T005232Z
LAST-MODIFIED:20260211T005232Z
UID:13749-1772881200-1772895600@emsces911.org
SUMMARY:AHA Healthcare Provider BLS Course  2025
DESCRIPTION:AHA Healthcare Provider BLS Course  2025 \nThis is CPR for Healthcare Providers..This course is open to the public. This course is for anyone getting into the healthcare field \nTo Register Call or go to https://emsces911.org/book-now-classes/ \nBooks for this course can be purchased for $16.00. https://shopcpr.heart.org/bls-provider-manual
URL:https://emsces911.org/event/aha-healthcare-provider-bls-course-2025-26/
LOCATION:EMSCES911\, 679 North Palora Ave #A\, Yuba City\, CA\, 95993\, United States
CATEGORIES:Health Care Provider
END:VEVENT
BEGIN:VEVENT
DTSTART;TZID=America/Los_Angeles:20260305T110000
DTEND;TZID=America/Los_Angeles:20260305T150000
DTSTAMP:20260425T093039
CREATED:20260211T004925Z
LAST-MODIFIED:20260211T004925Z
UID:13746-1772708400-1772722800@emsces911.org
SUMMARY:AHA Healthcare Provider BLS Course  2025
DESCRIPTION:AHA Healthcare Provider BLS Course  2025 \nThis is CPR for Healthcare Providers..This course is open to the public. This course is for anyone getting into the healthcare field \nTo Register Call or go to https://emsces911.org/book-now-classes/ \nBooks for this course can be purchased for $16.00. https://shopcpr.heart.org/bls-provider-manual
URL:https://emsces911.org/event/aha-healthcare-provider-bls-course-2025-21/
LOCATION:EMSCES911\, 679 North Palora Ave #A\, Yuba City\, CA\, 95993\, United States
CATEGORIES:Health Care Provider
END:VEVENT
BEGIN:VEVENT
DTSTART;TZID=America/Los_Angeles:20260303T070000
DTEND;TZID=America/Los_Angeles:20260303T120000
DTSTAMP:20260425T093040
CREATED:20260217T172754Z
LAST-MODIFIED:20260217T172754Z
UID:13835-1772521200-1772539200@emsces911.org
SUMMARY:AHA Healthcare Provider BLS Course  2025
DESCRIPTION:AHA Healthcare Provider BLS Course  2025 \nThis is CPR for Healthcare Providers..This course is open to the public. This course is for anyone getting into the healthcare field \nTo Register Call or go to https://emsces911.org/book-now-classes/ \nBooks for this course can be purchased for $16.00. https://shopcpr.heart.org/bls-provider-manual
URL:https://emsces911.org/event/aha-healthcare-provider-bls-course-2025-33/
LOCATION:EMSCES911\, 679 North Palora Ave #A\, Yuba City\, CA\, 95993\, United States
CATEGORIES:Health Care Provider
END:VEVENT
BEGIN:VEVENT
DTSTART;TZID=America/Los_Angeles:20260302T080000
DTEND;TZID=America/Los_Angeles:20260302T200000
DTSTAMP:20260425T093040
CREATED:20260211T013158Z
LAST-MODIFIED:20260211T013158Z
UID:13761-1772438400-1772481600@emsces911.org
SUMMARY:Advanced Cardiac Life Support Provider Course
DESCRIPTION:Advanced Cardiac Life Support Provider Course \nhttps://shopcpr.heart.org/acls-provider-manual or https://shopcpr.heart.org/acls-provider-manual-ebook \nFor this course you will need to have the ACLS textbook (required) and ECC handbook (optional). These item can be purchased at the link above. The pre test within the textbook must be completed and your score of 70% or greater printed and brought with you to class. \nACLS Pretest:\nhttps://elearning.heart.org/course/423
URL:https://emsces911.org/event/advanced-cardiac-life-support-provider-course-65/
LOCATION:EMSCES911\, 679 North Palora Ave #A\, Yuba City\, CA\, 95993\, United States
CATEGORIES:ACLS
END:VEVENT
BEGIN:VEVENT
DTSTART;TZID=America/Los_Angeles:20260301T110000
DTEND;TZID=America/Los_Angeles:20260301T150000
DTSTAMP:20260425T093040
CREATED:20260223T195153Z
LAST-MODIFIED:20260223T195153Z
UID:13873-1772362800-1772377200@emsces911.org
SUMMARY:AHA Healthcare Provider BLS Course
DESCRIPTION:AHA Healthcare Provider BLS Course   \nThis is CPR for Healthcare Providers..This course is open to the public. This course is for anyone getting into the healthcare field \nTo Register Call or go to https://emsces911.org/book-now-classes/ \nBooks for this course can be purchased for $16.00. https://shopcpr.heart.org/bls-provider-manual
URL:https://emsces911.org/event/aha-healthcare-provider-bls-course-340/
LOCATION:EMSCES911\, 679 North Palora Ave #A\, Yuba City\, CA\, 95993\, United States
CATEGORIES:Health Care Provider
END:VEVENT
BEGIN:VEVENT
DTSTART;TZID=America/Los_Angeles:20260228T110000
DTEND;TZID=America/Los_Angeles:20260228T150000
DTSTAMP:20260425T093040
CREATED:20260223T194854Z
LAST-MODIFIED:20260223T194854Z
UID:13870-1772276400-1772290800@emsces911.org
SUMMARY:AHA Healthcare Provider BLS Course  2025
DESCRIPTION:AHA Healthcare Provider BLS Course  2025 \nThis is CPR for Healthcare Providers..This course is open to the public. This course is for anyone getting into the healthcare field \nTo Register Call or go to https://emsces911.org/book-now-classes/ \nBooks for this course can be purchased for $16.00. https://shopcpr.heart.org/bls-provider-manual
URL:https://emsces911.org/event/aha-healthcare-provider-bls-course-2025-34/
LOCATION:EMSCES911\, 679 North Palora Ave #A\, Yuba City\, CA\, 95993\, United States
CATEGORIES:Health Care Provider
END:VEVENT
BEGIN:VEVENT
DTSTART;VALUE=DATE:20260227
DTEND;VALUE=DATE:20260228
DTSTAMP:20260425T093040
CREATED:20260130T191304Z
LAST-MODIFIED:20260130T191304Z
UID:13699-1772150400-1772236799@emsces911.org
SUMMARY:CLOSED
DESCRIPTION:CLOSED
URL:https://emsces911.org/event/closed-66/
LOCATION:CA
END:VEVENT
BEGIN:VEVENT
DTSTART;VALUE=DATE:20260226
DTEND;VALUE=DATE:20260227
DTSTAMP:20260425T093040
CREATED:20260109T221902Z
LAST-MODIFIED:20260109T221902Z
UID:13540-1772064000-1772150399@emsces911.org
SUMMARY:CLOSED
DESCRIPTION:CLOSED
URL:https://emsces911.org/event/closed-65/
LOCATION:CA
END:VEVENT
BEGIN:VEVENT
DTSTART;TZID=America/Los_Angeles:20260225T140000
DTEND;TZID=America/Los_Angeles:20260225T160000
DTSTAMP:20260425T093040
CREATED:20260119T180516Z
LAST-MODIFIED:20260119T180516Z
UID:13644-1772028000-1772035200@emsces911.org
SUMMARY:Code Blue Drills Pediatric
DESCRIPTION:Code Blue Drill for Sutter ACE (Pediatric)
URL:https://emsces911.org/event/code-blue-drills-pediatric/
LOCATION:CA
CATEGORIES:RQI
END:VEVENT
BEGIN:VEVENT
DTSTART;TZID=America/Los_Angeles:20260225T073000
DTEND;TZID=America/Los_Angeles:20260225T133000
DTSTAMP:20260425T093040
CREATED:20260119T172500Z
LAST-MODIFIED:20260119T172500Z
UID:13619-1772004600-1772026200@emsces911.org
SUMMARY:Advanced Cardiac Life Support Renewal Course
DESCRIPTION:Advanced Cardiac Life Support Renewal Course \nhttps://shopcpr.heart.org/acls-provider-manual or https://shopcpr.heart.org/acls-provider-manual-ebook \nFor this course you will need to have the ACLS textbook (required) and ECC handbook (optional). These item can be purchased at the link above. The pre test within the textbook must be completed and your score of 70% or greater printed and brought with you to class. \nACLS Pretest:\nhttps://elearning.heart.org/licenses/1548/38967469
URL:https://emsces911.org/event/advanced-cardiac-life-support-renewal-course-152/
LOCATION:EMSCES911\, 679 North Palora Ave #A\, Yuba City\, CA\, 95993\, United States
CATEGORIES:ACLS
END:VEVENT
BEGIN:VEVENT
DTSTART;TZID=America/Los_Angeles:20260224T080000
DTEND;TZID=America/Los_Angeles:20260224T200000
DTSTAMP:20260425T093040
CREATED:20260119T180042Z
LAST-MODIFIED:20260119T180133Z
UID:13641-1771920000-1771963200@emsces911.org
SUMMARY:Advanced Cardiac Life Support Provider Course
DESCRIPTION:Advanced Cardiac Life Support Provider Course \nhttps://shopcpr.heart.org/acls-provider-manual or https://shopcpr.heart.org/acls-provider-manual-ebook \nFor this course you will need to have the ACLS textbook (required) and ECC handbook (optional). These item can be purchased at the link above. The pre test within the textbook must be completed and your score of 70% or greater printed and brought with you to class. \nACLS Pretest:\nhttps://elearning.heart.org/course/423
URL:https://emsces911.org/event/advanced-cardiac-life-support-provider-course-66/
LOCATION:EMSCES911\, 679 North Palora Ave #A\, Yuba City\, CA\, 95993\, United States
CATEGORIES:ACLS
END:VEVENT
BEGIN:VEVENT
DTSTART;TZID=America/Los_Angeles:20260223T080000
DTEND;TZID=America/Los_Angeles:20260223T163000
DTSTAMP:20260425T093040
CREATED:20260119T174511Z
LAST-MODIFIED:20260119T174511Z
UID:13628-1771833600-1771864200@emsces911.org
SUMMARY:AHA PALS Provider/ Renewal Course
DESCRIPTION:AHA PALS Provider/ Renewal Course. Open to the public\nFor this course you will need the NEW PALS textbook (required). These items can be purchased at the link below. Take the pre test which is on the Website within the Textbook. Complete with a score of 70% or greater and print out the score. Please bring the printed score with you to class… \nProvider Course $201/Renewal Course $151  \nPALS Pretest Link: https://elearning.heart.org/course/427 \nPALS textbook: https://shopcpr.heart.org/pals-provider-manual
URL:https://emsces911.org/event/aha-pals-provider-renewal-course-111/
LOCATION:EMSCES911\, 679 North Palora Ave #A\, Yuba City\, CA\, 95993\, United States
CATEGORIES:PALS Classes
END:VEVENT
BEGIN:VEVENT
DTSTART;TZID=America/Los_Angeles:20260220T180000
DTEND;TZID=America/Los_Angeles:20260222T180000
DTSTAMP:20260425T093040
CREATED:20250922T190853Z
LAST-MODIFIED:20250922T190853Z
UID:12819-1771610400-1771783200@emsces911.org
SUMMARY:EMT Refresher
DESCRIPTION:EMT Refresher\nThis course is limited seating for the public.  \nThis course will give you 24 hours of CEUs and your California EMT skill sign off completed.
URL:https://emsces911.org/event/emt-refresher-5/
LOCATION:Arbuckle Fire Department\, 506 Lucas Street\, Arbuckle\, 95912\, United States
CATEGORIES:EMT Refresher
END:VEVENT
BEGIN:VEVENT
DTSTART;TZID=America/Los_Angeles:20260220T110000
DTEND;TZID=America/Los_Angeles:20260220T150000
DTSTAMP:20260425T093040
CREATED:20260210T192647Z
LAST-MODIFIED:20260210T192814Z
UID:13737-1771585200-1771599600@emsces911.org
SUMMARY:AHA Healthcare Provider BLS Course
DESCRIPTION:AHA Healthcare Provider BLS Course  2025 \nThis is CPR for Healthcare Providers..This course is open to the public. This course is for anyone getting into the healthcare field \nTo Register Call or go to https://emsces911.org/book-now-classes/ \nBooks for this course can be purchased for $16.00. https://shopcpr.heart.org/bls-provider-manual
URL:https://emsces911.org/event/aha-healthcare-provider-bls-course-339/
LOCATION:EMSCES911\, 679 North Palora Ave #A\, Yuba City\, CA\, 95993\, United States
CATEGORIES:Health Care Provider
END:VEVENT
BEGIN:VEVENT
DTSTART;TZID=America/Los_Angeles:20260219T110000
DTEND;TZID=America/Los_Angeles:20260219T151500
DTSTAMP:20260425T093040
CREATED:20260119T171501Z
LAST-MODIFIED:20260119T171501Z
UID:13610-1771498800-1771514100@emsces911.org
SUMMARY:AHA Healthcare Provider BLS Course  2025
DESCRIPTION:AHA Healthcare Provider BLS Course  2025 \nThis is CPR for Healthcare Providers..This course is open to the public. This course is for anyone getting into the healthcare field \nTo Register Call or go to https://emsces911.org/book-now-classes/ \nBooks for this course can be purchased for $16.00. https://shopcpr.heart.org/bls-provider-manual
URL:https://emsces911.org/event/aha-healthcare-provider-bls-course-2025-25/
LOCATION:EMSCES911\, 679 North Palora Ave #A\, Yuba City\, CA\, 95993\, United States
CATEGORIES:Health Care Provider
END:VEVENT
BEGIN:VEVENT
DTSTART;VALUE=DATE:20260218
DTEND;VALUE=DATE:20260219
DTSTAMP:20260425T093040
CREATED:20260109T221826Z
LAST-MODIFIED:20260109T221826Z
UID:13538-1771372800-1771459199@emsces911.org
SUMMARY:CLOSED
DESCRIPTION:CLOSED
URL:https://emsces911.org/event/closed-64/
LOCATION:CA
END:VEVENT
BEGIN:VEVENT
DTSTART;TZID=America/Los_Angeles:20260216T080000
DTEND;TZID=America/Los_Angeles:20260216T140000
DTSTAMP:20260425T093040
CREATED:20260119T170242Z
LAST-MODIFIED:20260203T065955Z
UID:13601-1771228800-1771250400@emsces911.org
SUMMARY:Advanced Cardiac Life Support Renewal Course
DESCRIPTION:Advanced Cardiac Life Support Renewal Course \nhttps://shopcpr.heart.org/acls-provider-manual or https://shopcpr.heart.org/acls-provider-manual-ebook \nFor this course you will need to have the ACLS textbook (required) and ECC handbook (optional). These item can be purchased at the link above. The pre test within the textbook must be completed and your score of 70% or greater printed and brought with you to class. \nACLS Pretest:\nhttps://elearning.heart.org/licenses/1548/38967469
URL:https://emsces911.org/event/advanced-cardiac-life-support-renewal-course-151/
LOCATION:EMSCES911\, 679 North Palora Ave #A\, Yuba City\, CA\, 95993\, United States
CATEGORIES:ACLS
END:VEVENT
BEGIN:VEVENT
DTSTART;TZID=America/Los_Angeles:20260214T110000
DTEND;TZID=America/Los_Angeles:20260214T151500
DTSTAMP:20260425T093040
CREATED:20260119T175703Z
LAST-MODIFIED:20260119T175703Z
UID:13638-1771066800-1771082100@emsces911.org
SUMMARY:AHA Healthcare Provider BLS Course  2025
DESCRIPTION:AHA Healthcare Provider BLS Course  2025 \nThis is CPR for Healthcare Providers..This course is open to the public. This course is for anyone getting into the healthcare field \nTo Register Call or go to https://emsces911.org/book-now-classes/ \nBooks for this course can be purchased for $16.00. https://shopcpr.heart.org/bls-provider-manual
URL:https://emsces911.org/event/aha-healthcare-provider-bls-course-2025-30/
LOCATION:EMSCES911\, 679 North Palora Ave #A\, Yuba City\, CA\, 95993\, United States
CATEGORIES:Health Care Provider
END:VEVENT
BEGIN:VEVENT
DTSTART;TZID=America/Los_Angeles:20260213T110000
DTEND;TZID=America/Los_Angeles:20260213T151500
DTSTAMP:20260425T093040
CREATED:20260119T175451Z
LAST-MODIFIED:20260119T175451Z
UID:13635-1770980400-1770995700@emsces911.org
SUMMARY:AHA Healthcare Provider BLS Course  2025
DESCRIPTION:AHA Healthcare Provider BLS Course  2025 \nThis is CPR for Healthcare Providers..This course is open to the public. This course is for anyone getting into the healthcare field \nTo Register Call or go to https://emsces911.org/book-now-classes/ \nBooks for this course can be purchased for $16.00. https://shopcpr.heart.org/bls-provider-manual
URL:https://emsces911.org/event/aha-healthcare-provider-bls-course-2025-29/
LOCATION:EMSCES911\, 679 North Palora Ave #A\, Yuba City\, CA\, 95993\, United States
CATEGORIES:Health Care Provider
END:VEVENT
BEGIN:VEVENT
DTSTART;TZID=America/Los_Angeles:20260212T110000
DTEND;TZID=America/Los_Angeles:20260212T151500
DTSTAMP:20260425T093040
CREATED:20260119T175142Z
LAST-MODIFIED:20260119T175142Z
UID:13632-1770894000-1770909300@emsces911.org
SUMMARY:AHA Healthcare Provider BLS Course  2025
DESCRIPTION:AHA Healthcare Provider BLS Course  2025 \nThis is CPR for Healthcare Providers..This course is open to the public. This course is for anyone getting into the healthcare field \nTo Register Call or go to https://emsces911.org/book-now-classes/ \nBooks for this course can be purchased for $16.00. https://shopcpr.heart.org/bls-provider-manual
URL:https://emsces911.org/event/aha-healthcare-provider-bls-course-2025-28/
LOCATION:EMSCES911\, 679 North Palora Ave #A\, Yuba City\, CA\, 95993\, United States
CATEGORIES:Health Care Provider
END:VEVENT
BEGIN:VEVENT
DTSTART;TZID=America/Los_Angeles:20260211T080000
DTEND;TZID=America/Los_Angeles:20260211T140000
DTSTAMP:20260425T093040
CREATED:20260119T165859Z
LAST-MODIFIED:20260119T165859Z
UID:13598-1770796800-1770818400@emsces911.org
SUMMARY:Advanced Cardiac Life Support Renewal Course
DESCRIPTION:Advanced Cardiac Life Support Renewal Course \nhttps://shopcpr.heart.org/acls-provider-manual or https://shopcpr.heart.org/acls-provider-manual-ebook \nFor this course you will need to have the ACLS textbook (required) and ECC handbook (optional). These item can be purchased at the link above. The pre test within the textbook must be completed and your score of 70% or greater printed and brought with you to class. \nACLS Pretest:\nhttps://elearning.heart.org/licenses/1548/38967469
URL:https://emsces911.org/event/advanced-cardiac-life-support-renewal-course-150/
LOCATION:EMSCES911\, 679 North Palora Ave #A\, Yuba City\, CA\, 95993\, United States
CATEGORIES:ACLS
END:VEVENT
BEGIN:VEVENT
DTSTART;TZID=America/Los_Angeles:20260210T083000
DTEND;TZID=America/Los_Angeles:20260210T110000
DTSTAMP:20260425T093040
CREATED:20260204T064342Z
LAST-MODIFIED:20260204T064342Z
UID:13713-1770712200-1770721200@emsces911.org
SUMMARY:Heartsaver CPR with AED
DESCRIPTION:Heartsaver CPR with AED
URL:https://emsces911.org/event/heartsaver-cpr-with-aed-4/
LOCATION:EMSCES911\, 679 North Palora Ave #A\, Yuba City\, CA\, 95993\, United States
CATEGORIES:HeartSaver
END:VEVENT
BEGIN:VEVENT
DTSTART;TZID=America/Los_Angeles:20260210T060000
DTEND;TZID=America/Los_Angeles:20260210T210000
DTSTAMP:20260425T093040
CREATED:20260119T165307Z
LAST-MODIFIED:20260119T165307Z
UID:13594-1770703200-1770757200@emsces911.org
SUMMARY:CODE BLUE DRILLS (SUTTER SURGICAL)
DESCRIPTION:CODE BLUE DRILLS
URL:https://emsces911.org/event/code-blue-drills-sutter-surgical-4/
LOCATION:CA
CATEGORIES:RQI
END:VEVENT
BEGIN:VEVENT
DTSTART;TZID=America/Los_Angeles:20260209T080000
DTEND;TZID=America/Los_Angeles:20260209T163000
DTSTAMP:20260425T093040
CREATED:20260119T173713Z
LAST-MODIFIED:20260119T173713Z
UID:13622-1770624000-1770654600@emsces911.org
SUMMARY:AHA PALS Provider/ Renewal Course
DESCRIPTION:AHA PALS Provider/ Renewal Course. Open to the public\nFor this course you will need the NEW PALS textbook (required). These items can be purchased at the link below. Take the pre test which is on the Website within the Textbook. Complete with a score of 70% or greater and print out the score. Please bring the printed score with you to class… \nProvider Course $201/Renewal Course $151  \nPALS Pretest Link: https://elearning.heart.org/course/427 \nPALS textbook: https://shopcpr.heart.org/pals-provider-manual
URL:https://emsces911.org/event/aha-pals-provider-renewal-course-110/
LOCATION:EMSCES911\, 679 North Palora Ave #A\, Yuba City\, CA\, 95993\, United States
CATEGORIES:PALS Classes
END:VEVENT
BEGIN:VEVENT
DTSTART;TZID=America/Los_Angeles:20260207T110000
DTEND;TZID=America/Los_Angeles:20260207T150000
DTSTAMP:20260425T093040
CREATED:20260119T170828Z
LAST-MODIFIED:20260119T170828Z
UID:13604-1770462000-1770476400@emsces911.org
SUMMARY:AHA Healthcare Provider BLS Course  2025
DESCRIPTION:AHA Healthcare Provider BLS Course  2025 \nThis is CPR for Healthcare Providers..This course is open to the public. This course is for anyone getting into the healthcare field \nTo Register Call or go to https://emsces911.org/book-now-classes/ \nBooks for this course can be purchased for $16.00. https://shopcpr.heart.org/bls-provider-manual
URL:https://emsces911.org/event/aha-healthcare-provider-bls-course-2025-24/
LOCATION:EMSCES911\, 679 North Palora Ave #A\, Yuba City\, CA\, 95993\, United States
CATEGORIES:Health Care Provider
END:VEVENT
END:VCALENDAR