BEGIN:VCALENDAR
VERSION:2.0
PRODID:-//EMSCES911 - ECPv6.15.20//NONSGML v1.0//EN
CALSCALE:GREGORIAN
METHOD:PUBLISH
X-WR-CALNAME:EMSCES911
X-ORIGINAL-URL:https://emsces911.org
X-WR-CALDESC:Events for EMSCES911
REFRESH-INTERVAL;VALUE=DURATION:PT1H
X-Robots-Tag:noindex
X-PUBLISHED-TTL:PT1H
BEGIN:VTIMEZONE
TZID:America/Los_Angeles
BEGIN:DAYLIGHT
TZOFFSETFROM:-0800
TZOFFSETTO:-0700
TZNAME:PDT
DTSTART:20240310T100000
END:DAYLIGHT
BEGIN:STANDARD
TZOFFSETFROM:-0700
TZOFFSETTO:-0800
TZNAME:PST
DTSTART:20241103T090000
END:STANDARD
BEGIN:DAYLIGHT
TZOFFSETFROM:-0800
TZOFFSETTO:-0700
TZNAME:PDT
DTSTART:20250309T100000
END:DAYLIGHT
BEGIN:STANDARD
TZOFFSETFROM:-0700
TZOFFSETTO:-0800
TZNAME:PST
DTSTART:20251102T090000
END:STANDARD
BEGIN:DAYLIGHT
TZOFFSETFROM:-0800
TZOFFSETTO:-0700
TZNAME:PDT
DTSTART:20260308T100000
END:DAYLIGHT
BEGIN:STANDARD
TZOFFSETFROM:-0700
TZOFFSETTO:-0800
TZNAME:PST
DTSTART:20261101T090000
END:STANDARD
END:VTIMEZONE
BEGIN:VEVENT
DTSTART;TZID=America/Los_Angeles:20251018T110000
DTEND;TZID=America/Los_Angeles:20251018T150000
DTSTAMP:20260425T171606
CREATED:20250829T053853Z
LAST-MODIFIED:20250829T053853Z
UID:12675-1760785200-1760799600@emsces911.org
SUMMARY:AHA Healthcare Provider BLS Course
DESCRIPTION:AHA Healthcare Provider BLS Course   \nThis is CPR for Healthcare Providers..This course is open to the public. This course is for anyone getting into the healthcare field \nTo Register Call or go to https://emsces911.org/book-now-classes/ \nBooks for this course can be purchased for $16.00. https://shopcpr.heart.org/bls-provider-manual
URL:https://emsces911.org/event/aha-healthcare-provider-bls-course-333/
LOCATION:EMSCES911\, 679 North Palora Ave #A\, Yuba City\, CA\, 95993\, United States
CATEGORIES:Health Care Provider
END:VEVENT
BEGIN:VEVENT
DTSTART;TZID=America/Los_Angeles:20251017T110000
DTEND;TZID=America/Los_Angeles:20251017T150000
DTSTAMP:20260425T171606
CREATED:20250829T033335Z
LAST-MODIFIED:20250829T033335Z
UID:12672-1760698800-1760713200@emsces911.org
SUMMARY:AHA Healthcare Provider BLS Course
DESCRIPTION:AHA Healthcare Provider BLS Course   \nThis is CPR for Healthcare Providers..This course is open to the public. This course is for anyone getting into the healthcare field \nTo Register Call or go to https://emsces911.org/book-now-classes/ \nBooks for this course can be purchased for $16.00. https://shopcpr.heart.org/bls-provider-manual
URL:https://emsces911.org/event/aha-healthcare-provider-bls-course-332/
LOCATION:EMSCES911\, 679 North Palora Ave #A\, Yuba City\, CA\, 95993\, United States
CATEGORIES:Health Care Provider
END:VEVENT
BEGIN:VEVENT
DTSTART;TZID=America/Los_Angeles:20251016T110000
DTEND;TZID=America/Los_Angeles:20251016T150000
DTSTAMP:20260425T171606
CREATED:20250829T032426Z
LAST-MODIFIED:20250829T032426Z
UID:12669-1760612400-1760626800@emsces911.org
SUMMARY:AHA Healthcare Provider BLS Course
DESCRIPTION:AHA Healthcare Provider BLS Course   \nThis is CPR for Healthcare Providers..This course is open to the public. This course is for anyone getting into the healthcare field \nTo Register Call or go to https://emsces911.org/book-now-classes/ \nBooks for this course can be purchased for $16.00. https://shopcpr.heart.org/bls-provider-manual
URL:https://emsces911.org/event/aha-healthcare-provider-bls-course-331/
LOCATION:EMSCES911\, 679 North Palora Ave #A\, Yuba City\, CA\, 95993\, United States
CATEGORIES:Health Care Provider
END:VEVENT
BEGIN:VEVENT
DTSTART;TZID=America/Los_Angeles:20251015T080000
DTEND;TZID=America/Los_Angeles:20251015T140000
DTSTAMP:20260425T171606
CREATED:20250829T031026Z
LAST-MODIFIED:20250829T031026Z
UID:12662-1760515200-1760536800@emsces911.org
SUMMARY:Advanced Cardiac Life Support Renewal Course
DESCRIPTION:Advanced Cardiac Life Support Renewal Course \nhttps://shopcpr.heart.org/acls-provider-manual or https://shopcpr.heart.org/acls-provider-manual-ebook \nFor this course you will need to have the ACLS textbook (required) and ECC handbook (optional). These item can be purchased at the link above. The pre test within the textbook must be completed and your score of 70% or greater printed and brought with you to class. \nACLS Pretest:\nhttps://elearning.heart.org/course/423
URL:https://emsces911.org/event/advanced-cardiac-life-support-renewal-course-138/
LOCATION:EMSCES911\, 679 North Palora Ave #A\, Yuba City\, CA\, 95993\, United States
CATEGORIES:ACLS
END:VEVENT
BEGIN:VEVENT
DTSTART;TZID=America/Los_Angeles:20251014T080000
DTEND;TZID=America/Los_Angeles:20251014T163000
DTSTAMP:20260425T171606
CREATED:20250829T025553Z
LAST-MODIFIED:20250829T025553Z
UID:12658-1760428800-1760459400@emsces911.org
SUMMARY:AHA PALS Provider/ Renewal Course
DESCRIPTION:AHA PALS Provider/ Renewal Course. Open to the public\nFor this course you will need the NEW PALS textbook (required). These items can be purchased at the link below. Take the pre test which is on the Website within the Textbook. Complete with a score of 70% or greater and print out the score. Please bring the printed score with you to class… \nProvider Course $201/Renewal Course $151  \nPALS Pretest Link: https://elearning.heart.org/course/427 \nPALS textbook: https://shopcpr.heart.org/pals-provider-manual
URL:https://emsces911.org/event/aha-pals-provider-renewal-course-99/
LOCATION:EMSCES911\, 679 North Palora Ave #A\, Yuba City\, CA\, 95993\, United States
CATEGORIES:PALS Classes
END:VEVENT
BEGIN:VEVENT
DTSTART;TZID=America/Los_Angeles:20251012T090000
DTEND;TZID=America/Los_Angeles:20251012T200000
DTSTAMP:20260425T171606
CREATED:20250929T151208Z
LAST-MODIFIED:20250929T151208Z
UID:12851-1760259600-1760299200@emsces911.org
SUMMARY:Advanced Cardiac Life Support Provider Course
DESCRIPTION:Advanced Cardiac Life Support Provider Course \nhttps://shopcpr.heart.org/acls-provider-manual or https://shopcpr.heart.org/acls-provider-manual-ebook \nFor this course you will need to have the ACLS textbook (required) and ECC handbook (optional). These item can be purchased at the link above. The pre test within the textbook must be completed and your score of 70% or greater printed and brought with you to class. \nACLS Pretest:\nhttps://elearning.heart.org/course/423
URL:https://emsces911.org/event/advanced-cardiac-life-support-provider-course-60/
LOCATION:EMSCES911\, 679 North Palora Ave #A\, Yuba City\, CA\, 95993\, United States
CATEGORIES:ACLS
END:VEVENT
BEGIN:VEVENT
DTSTART;TZID=America/Los_Angeles:20251011T110000
DTEND;TZID=America/Los_Angeles:20251011T150000
DTSTAMP:20260425T171606
CREATED:20250829T024949Z
LAST-MODIFIED:20250829T024949Z
UID:12655-1760180400-1760194800@emsces911.org
SUMMARY:AHA Healthcare Provider BLS Course
DESCRIPTION:AHA Healthcare Provider BLS Course   \nThis is CPR for Healthcare Providers..This course is open to the public. This course is for anyone getting into the healthcare field \nTo Register Call or go to https://emsces911.org/book-now-classes/ \nBooks for this course can be purchased for $16.00. https://shopcpr.heart.org/bls-provider-manual
URL:https://emsces911.org/event/aha-healthcare-provider-bls-course-329/
LOCATION:EMSCES911\, 679 North Palora Ave #A\, Yuba City\, CA\, 95993\, United States
CATEGORIES:Health Care Provider
END:VEVENT
BEGIN:VEVENT
DTSTART;TZID=America/Los_Angeles:20251010T110000
DTEND;TZID=America/Los_Angeles:20251010T150000
DTSTAMP:20260425T171606
CREATED:20250829T024622Z
LAST-MODIFIED:20250829T024622Z
UID:12652-1760094000-1760108400@emsces911.org
SUMMARY:AHA Healthcare Provider BLS Course
DESCRIPTION:AHA Healthcare Provider BLS Course   \nThis is CPR for Healthcare Providers..This course is open to the public. This course is for anyone getting into the healthcare field \nTo Register Call or go to https://emsces911.org/book-now-classes/ \nBooks for this course can be purchased for $16.00. https://shopcpr.heart.org/bls-provider-manual
URL:https://emsces911.org/event/aha-healthcare-provider-bls-course-328/
LOCATION:EMSCES911\, 679 North Palora Ave #A\, Yuba City\, CA\, 95993\, United States
CATEGORIES:Health Care Provider
END:VEVENT
BEGIN:VEVENT
DTSTART;TZID=America/Los_Angeles:20251009T110000
DTEND;TZID=America/Los_Angeles:20251009T150000
DTSTAMP:20260425T171606
CREATED:20250829T024034Z
LAST-MODIFIED:20250829T024034Z
UID:12649-1760007600-1760022000@emsces911.org
SUMMARY:AHA Healthcare Provider BLS Course
DESCRIPTION:AHA Healthcare Provider BLS Course   \nThis is CPR for Healthcare Providers..This course is open to the public. This course is for anyone getting into the healthcare field \nTo Register Call or go to https://emsces911.org/book-now-classes/ \nBooks for this course can be purchased for $16.00. https://shopcpr.heart.org/bls-provider-manual
URL:https://emsces911.org/event/aha-healthcare-provider-bls-course-318/
LOCATION:EMSCES911\, 679 North Palora Ave #A\, Yuba City\, CA\, 95993\, United States
CATEGORIES:Health Care Provider
END:VEVENT
BEGIN:VEVENT
DTSTART;TZID=America/Los_Angeles:20251008T170000
DTEND;TZID=America/Los_Angeles:20251008T210000
DTSTAMP:20260425T171606
CREATED:20250915T233100Z
LAST-MODIFIED:20250915T233100Z
UID:12771-1759942800-1759957200@emsces911.org
SUMMARY:Heartsaver 1st. Aid/CPR with AED (ADULT ONLY) (Private class)
DESCRIPTION:Heartsaver 1st. Aid/CPR with AED (ADULT ONLY) (Private class) \nUnion hall in Marysville
URL:https://emsces911.org/event/heartsaver-1st-aid-cpr-with-aed-adult-only-private-class/
LOCATION:CA
CATEGORIES:HeartSaver
END:VEVENT
BEGIN:VEVENT
DTSTART;VALUE=DATE:20251008
DTEND;VALUE=DATE:20251009
DTSTAMP:20260425T171606
CREATED:20250829T023610Z
LAST-MODIFIED:20250829T023610Z
UID:12647-1759881600-1759967999@emsces911.org
SUMMARY:CLOSED
DESCRIPTION:CLOSED
URL:https://emsces911.org/event/closed-50/
LOCATION:CA
END:VEVENT
BEGIN:VEVENT
DTSTART;VALUE=DATE:20251007
DTEND;VALUE=DATE:20251008
DTSTAMP:20260425T171606
CREATED:20250829T023533Z
LAST-MODIFIED:20250829T023533Z
UID:12645-1759795200-1759881599@emsces911.org
SUMMARY:CLOSED
DESCRIPTION:CLOSED
URL:https://emsces911.org/event/closed-49/
LOCATION:CA
END:VEVENT
BEGIN:VEVENT
DTSTART;TZID=America/Los_Angeles:20251006T080000
DTEND;TZID=America/Los_Angeles:20251006T163000
DTSTAMP:20260425T171606
CREATED:20250811T071338Z
LAST-MODIFIED:20250811T071338Z
UID:12530-1759737600-1759768200@emsces911.org
SUMMARY:AHA PALS Provider/ Renewal Course
DESCRIPTION:AHA PALS Provider/ Renewal Course. Open to the public\nFor this course you will need the NEW PALS textbook (required). These items can be purchased at the link below. Take the pre test which is on the Website within the Textbook. Complete with a score of 70% or greater and print out the score. Please bring the printed score with you to class… \nProvider Course $201/Renewal Course $151  \nPALS Pretest Link: https://elearning.heart.org/course/427 \nPALS textbook: https://shopcpr.heart.org/pals-provider-manual
URL:https://emsces911.org/event/aha-pals-provider-renewal-course-98/
LOCATION:EMSCES911\, 679 North Palora Ave #A\, Yuba City\, CA\, 95993\, United States
CATEGORIES:PALS Classes
END:VEVENT
BEGIN:VEVENT
DTSTART;TZID=America/Los_Angeles:20251003T110000
DTEND;TZID=America/Los_Angeles:20251003T150000
DTSTAMP:20260425T171606
CREATED:20250811T063620Z
LAST-MODIFIED:20250811T063620Z
UID:12514-1759489200-1759503600@emsces911.org
SUMMARY:AHA Healthcare Provider BLS Course
DESCRIPTION:AHA Healthcare Provider BLS Course   \nThis is CPR for Healthcare Providers..This course is open to the public. This course is for anyone getting into the healthcare field \nTo Register Call or go to https://emsces911.org/book-now-classes/ \nBooks for this course can be purchased for $16.00. https://shopcpr.heart.org/bls-provider-manual
URL:https://emsces911.org/event/aha-healthcare-provider-bls-course-325/
LOCATION:EMSCES911\, 679 North Palora Ave #A\, Yuba City\, CA\, 95993\, United States
CATEGORIES:Health Care Provider
END:VEVENT
BEGIN:VEVENT
DTSTART;TZID=America/Los_Angeles:20251002T110000
DTEND;TZID=America/Los_Angeles:20251002T150000
DTSTAMP:20260425T171606
CREATED:20250811T063316Z
LAST-MODIFIED:20250811T063316Z
UID:12511-1759402800-1759417200@emsces911.org
SUMMARY:AHA Healthcare Provider BLS Course
DESCRIPTION:AHA Healthcare Provider BLS Course   \nThis is CPR for Healthcare Providers..This course is open to the public. This course is for anyone getting into the healthcare field \nTo Register Call or go to https://emsces911.org/book-now-classes/ \nBooks for this course can be purchased for $16.00. https://shopcpr.heart.org/bls-provider-manual
URL:https://emsces911.org/event/aha-healthcare-provider-bls-course-324/
LOCATION:EMSCES911\, 679 North Palora Ave #A\, Yuba City\, CA\, 95993\, United States
CATEGORIES:Health Care Provider
END:VEVENT
BEGIN:VEVENT
DTSTART;TZID=America/Los_Angeles:20251001T080000
DTEND;TZID=America/Los_Angeles:20251001T120000
DTSTAMP:20260425T171606
CREATED:20250810T210722Z
LAST-MODIFIED:20250810T210722Z
UID:12439-1759305600-1759320000@emsces911.org
SUMMARY:AHA Healthcare Provider BLS Course
DESCRIPTION:AHA Healthcare Provider BLS Course   \nThis is CPR for Healthcare Providers..This course is open to the public. This course is for anyone getting into the healthcare field \nTo Register Call or go to https://emsces911.org/book-now-classes/ \nBooks for this course can be purchased for $16.00. https://shopcpr.heart.org/bls-provider-manual
URL:https://emsces911.org/event/aha-healthcare-provider-bls-course-317/
LOCATION:EMSCES911\, 679 North Palora Ave #A\, Yuba City\, CA\, 95993\, United States
CATEGORIES:Health Care Provider
END:VEVENT
BEGIN:VEVENT
DTSTART;TZID=America/Los_Angeles:20250930T080000
DTEND;TZID=America/Los_Angeles:20250930T163000
DTSTAMP:20260425T171606
CREATED:20250811T054014Z
LAST-MODIFIED:20250811T054014Z
UID:12486-1759219200-1759249800@emsces911.org
SUMMARY:AHA PALS Provider/ Renewal Course
DESCRIPTION:AHA PALS Provider/ Renewal Course. Open to the public\nFor this course you will need the NEW PALS textbook (required). These items can be purchased at the link below. Take the pre test which is on the Website within the Textbook. Complete with a score of 70% or greater and print out the score. Please bring the printed score with you to class… \nProvider Course $201/Renewal Course $151  \nPALS Pretest Link: https://elearning.heart.org/course/427 \nPALS textbook: https://shopcpr.heart.org/pals-provider-manual
URL:https://emsces911.org/event/aha-pals-provider-renewal-course-96/
LOCATION:EMSCES911\, 679 North Palora Ave #A\, Yuba City\, CA\, 95993\, United States
CATEGORIES:PALS Classes
END:VEVENT
BEGIN:VEVENT
DTSTART;TZID=America/Los_Angeles:20250929T140000
DTEND;TZID=America/Los_Angeles:20250929T170000
DTSTAMP:20260425T171606
CREATED:20250811T052726Z
LAST-MODIFIED:20250811T052726Z
UID:12477-1759154400-1759165200@emsces911.org
SUMMARY:AHA Healthcare Renewal BLS Course
DESCRIPTION:AHA Healthcare Renewal BLS Course  \nMUST HAVE A CURRENT HCP BLS CARD  \nThis is CPR for Healthcare Providers..This course is open to the public. This course is for anyone getting into the healthcare field \nTo Register Call or go to https://emsces911.org/book-now-classes/ \nBooks for this course can be purchased for $16.00. https://shopcpr.heart.org/bls-provider-manual
URL:https://emsces911.org/event/aha-healthcare-renewal-bls-course-4/
LOCATION:EMSCES911\, 679 North Palora Ave #A\, Yuba City\, CA\, 95993\, United States
CATEGORIES:Health Care Provider
END:VEVENT
BEGIN:VEVENT
DTSTART;TZID=America/Los_Angeles:20250929T080000
DTEND;TZID=America/Los_Angeles:20250929T140000
DTSTAMP:20260425T171606
CREATED:20250811T053341Z
LAST-MODIFIED:20250811T053341Z
UID:12483-1759132800-1759154400@emsces911.org
SUMMARY:Advanced Cardiac Life Support Renewal Course
DESCRIPTION:Advanced Cardiac Life Support Renewal Course \nhttps://shopcpr.heart.org/acls-provider-manual or https://shopcpr.heart.org/acls-provider-manual-ebook \nFor this course you will need to have the ACLS textbook (required) and ECC handbook (optional). These item can be purchased at the link above. The pre test within the textbook must be completed and your score of 70% or greater printed and brought with you to class. \nACLS Pretest:\nhttps://elearning.heart.org/course/423
URL:https://emsces911.org/event/advanced-cardiac-life-support-renewal-course-135/
LOCATION:EMSCES911\, 679 North Palora Ave #A\, Yuba City\, CA\, 95993\, United States
CATEGORIES:ACLS
END:VEVENT
BEGIN:VEVENT
DTSTART;TZID=America/Los_Angeles:20250927T110000
DTEND;TZID=America/Los_Angeles:20250927T150000
DTSTAMP:20260425T171606
CREATED:20250811T051417Z
LAST-MODIFIED:20250926T152901Z
UID:12468-1758970800-1758985200@emsces911.org
SUMMARY:AHA Healthcare Provider BLS Course (Rescheduled)
DESCRIPTION:AHA Healthcare Provider BLS Course   \nThis is CPR for Healthcare Providers..This course is open to the public. This course is for anyone getting into the healthcare field \nTo Register Call or go to https://emsces911.org/book-now-classes/ \nBooks for this course can be purchased for $16.00. https://shopcpr.heart.org/bls-provider-manual \nThis class was rescheduled for 9/28
URL:https://emsces911.org/event/aha-healthcare-provider-bls-course-321/
LOCATION:EMSCES911\, 679 North Palora Ave #A\, Yuba City\, CA\, 95993\, United States
CATEGORIES:Health Care Provider
END:VEVENT
BEGIN:VEVENT
DTSTART;TZID=America/Los_Angeles:20250926T110000
DTEND;TZID=America/Los_Angeles:20250926T150000
DTSTAMP:20260425T171606
CREATED:20250811T050958Z
LAST-MODIFIED:20250811T050958Z
UID:12465-1758884400-1758898800@emsces911.org
SUMMARY:AHA Healthcare Provider BLS Course
DESCRIPTION:AHA Healthcare Provider BLS Course   \nThis is CPR for Healthcare Providers..This course is open to the public. This course is for anyone getting into the healthcare field \nTo Register Call or go to https://emsces911.org/book-now-classes/ \nBooks for this course can be purchased for $16.00. https://shopcpr.heart.org/bls-provider-manual
URL:https://emsces911.org/event/aha-healthcare-provider-bls-course-320/
LOCATION:EMSCES911\, 679 North Palora Ave #A\, Yuba City\, CA\, 95993\, United States
CATEGORIES:Health Care Provider
END:VEVENT
BEGIN:VEVENT
DTSTART;TZID=America/Los_Angeles:20250925T080000
DTEND;TZID=America/Los_Angeles:20250925T170000
DTSTAMP:20260425T171606
CREATED:20250810T214004Z
LAST-MODIFIED:20250810T214004Z
UID:12446-1758787200-1758819600@emsces911.org
SUMMARY:CLOSED
DESCRIPTION:CLOSED
URL:https://emsces911.org/event/closed-47/
LOCATION:CA
END:VEVENT
BEGIN:VEVENT
DTSTART;TZID=America/Los_Angeles:20250924T091500
DTEND;TZID=America/Los_Angeles:20250924T130000
DTSTAMP:20260425T171606
CREATED:20250811T052034Z
LAST-MODIFIED:20250921T185739Z
UID:12471-1758705300-1758718800@emsces911.org
SUMMARY:AHA Healthcare Provider BLS Course
DESCRIPTION:AHA Healthcare Provider BLS Course   \nThis is CPR for Healthcare Providers..This course is open to the public. This course is for anyone getting into the healthcare field \nTo Register Call or go to https://emsces911.org/book-now-classes/ \nBooks for this course can be purchased for $16.00. https://shopcpr.heart.org/bls-provider-manual
URL:https://emsces911.org/event/aha-healthcare-provider-bls-course-322/
LOCATION:EMSCES911\, 679 North Palora Ave #A\, Yuba City\, CA\, 95993\, United States
CATEGORIES:Health Care Provider
END:VEVENT
BEGIN:VEVENT
DTSTART;TZID=America/Los_Angeles:20250924T070000
DTEND;TZID=America/Los_Angeles:20250924T140000
DTSTAMP:20260425T171606
CREATED:20250921T185518Z
LAST-MODIFIED:20250921T185518Z
UID:12813-1758697200-1758722400@emsces911.org
SUMMARY:CODE BLUE DRILLS (SUTTER SURGICAL) DAY SHIFT
DESCRIPTION:CODE BLUE DRILLS (SUTTER SURGICAL) THE DAY SHIFT
URL:https://emsces911.org/event/code-blue-drills-sutter-surgical-day-shift/
LOCATION:CA
CATEGORIES:RQI
END:VEVENT
BEGIN:VEVENT
DTSTART;TZID=America/Los_Angeles:20250923T200000
DTEND;TZID=America/Los_Angeles:20250923T210000
DTSTAMP:20260425T171606
CREATED:20250921T185303Z
LAST-MODIFIED:20250921T185303Z
UID:12811-1758657600-1758661200@emsces911.org
SUMMARY:CODE BLUE DRILLS (SUTTER SURGICAL) THE NIGHT SHIFT EDITION
DESCRIPTION:CODE BLUE DRILLS (SUTTER SURGICAL) THE NIGHT SHIFT EDITION
URL:https://emsces911.org/event/code-blue-drills-sutter-surgical-the-night-shift-edition/
LOCATION:CA
CATEGORIES:RQI
END:VEVENT
BEGIN:VEVENT
DTSTART;VALUE=DATE:20250923
DTEND;VALUE=DATE:20250924
DTSTAMP:20260425T171606
CREATED:20250810T213934Z
LAST-MODIFIED:20250810T213934Z
UID:12444-1758585600-1758671999@emsces911.org
SUMMARY:CLOSED
DESCRIPTION:CLOSED
URL:https://emsces911.org/event/closed-46/
LOCATION:CA
END:VEVENT
BEGIN:VEVENT
DTSTART;TZID=America/Los_Angeles:20250922T160000
DTEND;TZID=America/Los_Angeles:20250922T190000
DTSTAMP:20260425T171606
CREATED:20250829T021222Z
LAST-MODIFIED:20250829T021222Z
UID:12643-1758556800-1758567600@emsces911.org
SUMMARY:Heartsaver CPR with AED
DESCRIPTION:Heartsaver CPR with AED for Plumas Lake School District.
URL:https://emsces911.org/event/heartsaver-cpr-with-aed-3/
LOCATION:CA
CATEGORIES:Health Care Provider
END:VEVENT
BEGIN:VEVENT
DTSTART;TZID=America/Los_Angeles:20250922T080000
DTEND;TZID=America/Los_Angeles:20250922T140000
DTSTAMP:20260425T171606
CREATED:20250811T053137Z
LAST-MODIFIED:20250811T053137Z
UID:12480-1758528000-1758549600@emsces911.org
SUMMARY:Advanced Cardiac Life Support Renewal Course
DESCRIPTION:Advanced Cardiac Life Support Renewal Course \nhttps://shopcpr.heart.org/acls-provider-manual or https://shopcpr.heart.org/acls-provider-manual-ebook \nFor this course you will need to have the ACLS textbook (required) and ECC handbook (optional). These item can be purchased at the link above. The pre test within the textbook must be completed and your score of 70% or greater printed and brought with you to class. \nACLS Pretest:\nhttps://elearning.heart.org/course/423
URL:https://emsces911.org/event/advanced-cardiac-life-support-renewal-course-134/
LOCATION:EMSCES911\, 679 North Palora Ave #A\, Yuba City\, CA\, 95993\, United States
END:VEVENT
BEGIN:VEVENT
DTSTART;TZID=America/Los_Angeles:20250920T151500
DTEND;TZID=America/Los_Angeles:20250920T170000
DTSTAMP:20260425T171606
CREATED:20250917T205959Z
LAST-MODIFIED:20250917T205959Z
UID:12779-1758381300-1758387600@emsces911.org
SUMMARY:EMT Skill Sign off session
DESCRIPTION:EMT Skill Sign off session
URL:https://emsces911.org/event/emt-skill-sign-off-session/
LOCATION:EMSCES911\, 679 North Palora Ave #A\, Yuba City\, CA\, 95993\, United States
CATEGORIES:EMT Refresher
END:VEVENT
BEGIN:VEVENT
DTSTART;TZID=America/Los_Angeles:20250920T110000
DTEND;TZID=America/Los_Angeles:20250920T150000
DTSTAMP:20260425T171606
CREATED:20250810T214629Z
LAST-MODIFIED:20250810T214629Z
UID:12451-1758366000-1758380400@emsces911.org
SUMMARY:AHA Healthcare Provider BLS Course
DESCRIPTION:AHA Healthcare Provider BLS Course   \nThis is CPR for Healthcare Providers..This course is open to the public. This course is for anyone getting into the healthcare field \nTo Register Call or go to https://emsces911.org/book-now-classes/ \nBooks for this course can be purchased for $16.00. https://shopcpr.heart.org/bls-provider-manual
URL:https://emsces911.org/event/aha-healthcare-provider-bls-course-319/
LOCATION:EMSCES911\, 679 North Palora Ave #A\, Yuba City\, CA\, 95993\, United States
CATEGORIES:Health Care Provider
END:VEVENT
END:VCALENDAR