BEGIN:VCALENDAR
VERSION:2.0
PRODID:-//EMSCES911 - ECPv6.15.20//NONSGML v1.0//EN
CALSCALE:GREGORIAN
METHOD:PUBLISH
X-WR-CALNAME:EMSCES911
X-ORIGINAL-URL:https://emsces911.org
X-WR-CALDESC:Events for EMSCES911
REFRESH-INTERVAL;VALUE=DURATION:PT1H
X-Robots-Tag:noindex
X-PUBLISHED-TTL:PT1H
BEGIN:VTIMEZONE
TZID:UTC
BEGIN:STANDARD
TZOFFSETFROM:+0000
TZOFFSETTO:+0000
TZNAME:UTC
DTSTART:20210101T000000
END:STANDARD
END:VTIMEZONE
BEGIN:VEVENT
DTSTART;TZID=UTC:20220801T080000
DTEND;TZID=UTC:20220801T170000
DTSTAMP:20260425T090912
CREATED:20220721T051309Z
LAST-MODIFIED:20220721T051309Z
UID:1742-1659340800-1659373200@emsces911.org
SUMMARY:Code Blue Drill
DESCRIPTION:This is a private event for Sutter Surgical.
URL:https://emsces911.org/event/code-blue-drill/
LOCATION:EMSCES911\, 679 North Palora Ave #A\, Yuba City\, CA\, 95993\, United States
CATEGORIES:RQI
END:VEVENT
BEGIN:VEVENT
DTSTART;TZID=UTC:20220503T070000
DTEND;TZID=UTC:20220503T140000
DTSTAMP:20260425T090912
CREATED:20220410T152200Z
LAST-MODIFIED:20220410T152224Z
UID:880-1651561200-1651586400@emsces911.org
SUMMARY:RQI Orchard Hospital
DESCRIPTION:RQI for Orchard Hospital.
URL:https://emsces911.org/event/rqi-orchard-hospital/
LOCATION:CA
CATEGORIES:RQI
END:VEVENT
END:VCALENDAR