BEGIN:VCALENDAR
VERSION:2.0
PRODID:-//EMSCES911 - ECPv6.15.20//NONSGML v1.0//EN
CALSCALE:GREGORIAN
METHOD:PUBLISH
X-WR-CALNAME:EMSCES911
X-ORIGINAL-URL:https://emsces911.org
X-WR-CALDESC:Events for EMSCES911
REFRESH-INTERVAL;VALUE=DURATION:PT1H
X-Robots-Tag:noindex
X-PUBLISHED-TTL:PT1H
BEGIN:VTIMEZONE
TZID:America/Los_Angeles
BEGIN:DAYLIGHT
TZOFFSETFROM:-0800
TZOFFSETTO:-0700
TZNAME:PDT
DTSTART:20220313T100000
END:DAYLIGHT
BEGIN:STANDARD
TZOFFSETFROM:-0700
TZOFFSETTO:-0800
TZNAME:PST
DTSTART:20221106T090000
END:STANDARD
BEGIN:DAYLIGHT
TZOFFSETFROM:-0800
TZOFFSETTO:-0700
TZNAME:PDT
DTSTART:20230312T100000
END:DAYLIGHT
BEGIN:STANDARD
TZOFFSETFROM:-0700
TZOFFSETTO:-0800
TZNAME:PST
DTSTART:20231105T090000
END:STANDARD
BEGIN:DAYLIGHT
TZOFFSETFROM:-0800
TZOFFSETTO:-0700
TZNAME:PDT
DTSTART:20240310T100000
END:DAYLIGHT
BEGIN:STANDARD
TZOFFSETFROM:-0700
TZOFFSETTO:-0800
TZNAME:PST
DTSTART:20241103T090000
END:STANDARD
BEGIN:DAYLIGHT
TZOFFSETFROM:-0800
TZOFFSETTO:-0700
TZNAME:PDT
DTSTART:20250309T100000
END:DAYLIGHT
BEGIN:STANDARD
TZOFFSETFROM:-0700
TZOFFSETTO:-0800
TZNAME:PST
DTSTART:20251102T090000
END:STANDARD
BEGIN:DAYLIGHT
TZOFFSETFROM:-0800
TZOFFSETTO:-0700
TZNAME:PDT
DTSTART:20260308T100000
END:DAYLIGHT
BEGIN:STANDARD
TZOFFSETFROM:-0700
TZOFFSETTO:-0800
TZNAME:PST
DTSTART:20261101T090000
END:STANDARD
END:VTIMEZONE
BEGIN:VTIMEZONE
TZID:UTC
BEGIN:STANDARD
TZOFFSETFROM:+0000
TZOFFSETTO:+0000
TZNAME:UTC
DTSTART:20210101T000000
END:STANDARD
END:VTIMEZONE
BEGIN:VEVENT
DTSTART;TZID=America/Los_Angeles:20250629T080000
DTEND;TZID=America/Los_Angeles:20250629T140000
DTSTAMP:20260425T092801
CREATED:20250604T011359Z
LAST-MODIFIED:20250604T012310Z
UID:11922-1751184000-1751205600@emsces911.org
SUMMARY:DAYCARE 1st. Aid/ CPR with AED Course
DESCRIPTION:DAYCARE 1st. Aid/ CPR with AED Course.. This class is approved by the Child Care Licensing board.
URL:https://emsces911.org/event/daycare-1st-aid-cpr-with-aed-course-2/
LOCATION:EMSCES911\, 679 North Palora Ave #A\, Yuba City\, CA\, 95993\, United States
CATEGORIES:HeartSaver
END:VEVENT
BEGIN:VEVENT
DTSTART;TZID=America/Los_Angeles:20250622T130000
DTEND;TZID=America/Los_Angeles:20250622T180000
DTSTAMP:20260425T092801
CREATED:20250618T144240Z
LAST-MODIFIED:20250618T144240Z
UID:12116-1750597200-1750615200@emsces911.org
SUMMARY:Heartsaver 1st.AID/CPR with AED Course
DESCRIPTION:Heartsaver 1st.AID/CPR with AED Course \nOpen to the public
URL:https://emsces911.org/event/heartsaver-1st-aid-cpr-with-aed-course/
LOCATION:EMSCES911\, 679 North Palora Ave #A\, Yuba City\, CA\, 95993\, United States
CATEGORIES:HeartSaver
END:VEVENT
BEGIN:VEVENT
DTSTART;TZID=America/Los_Angeles:20250519T080000
DTEND;TZID=America/Los_Angeles:20250519T170000
DTSTAMP:20260425T092801
CREATED:20250421T062152Z
LAST-MODIFIED:20250421T062152Z
UID:11571-1747641600-1747674000@emsces911.org
SUMMARY:Heartsaver 1st Aid/CPR with AED (REDDING)
DESCRIPTION:Heartsaver 1st Aid/CPR with AED
URL:https://emsces911.org/event/heartsaver-1st-aid-cpr-with-aed-redding/
CATEGORIES:HeartSaver
END:VEVENT
BEGIN:VEVENT
DTSTART;TZID=America/Los_Angeles:20250401T080000
DTEND;TZID=America/Los_Angeles:20250401T150000
DTSTAMP:20260425T092801
CREATED:20250303T022719Z
LAST-MODIFIED:20250303T022751Z
UID:11103-1743494400-1743519600@emsces911.org
SUMMARY:Heartsaver 1st. AID CPR with AED Course
DESCRIPTION:Heartsaver 1st. AID CPR with AED Course \nPrivate class for UA Local Union 228
URL:https://emsces911.org/event/11103/
CATEGORIES:HeartSaver
END:VEVENT
BEGIN:VEVENT
DTSTART;TZID=America/Los_Angeles:20250309T110000
DTEND;TZID=America/Los_Angeles:20250309T160000
DTSTAMP:20260425T092801
CREATED:20250303T173856Z
LAST-MODIFIED:20250303T173856Z
UID:11117-1741518000-1741536000@emsces911.org
SUMMARY:DAYCARE 1st. AID/CPR with AED Course
DESCRIPTION:DAYCARE 1st. Aid/ CPR with AED.. This class is approved by the Child Care Licensing board.
URL:https://emsces911.org/event/daycare-1st-aid-cpr-with-aed-course/
LOCATION:EMSCES911\, 679 North Palora Ave #A\, Yuba City\, CA\, 95993\, United States
CATEGORIES:HeartSaver
END:VEVENT
BEGIN:VEVENT
DTSTART;VALUE=DATE:20250125
DTEND;VALUE=DATE:20250126
DTSTAMP:20260425T092801
CREATED:20241203T224447Z
LAST-MODIFIED:20241203T224447Z
UID:10328-1737763200-1737849599@emsces911.org
SUMMARY:COMMUNITY CPR AND STOP THE BLEED COURSE  ( OREGON HOUSE) FREE COURSE
DESCRIPTION:THIS COURSE IS FOR THE COMMUNITY OF OREGON HOUSE AND DOBBINS. THIS IS A FREE COURSE. EACH STUDENT WILL LEARN HOW TO DO HAND ONLY CPR AND USE OF A AED. STUDENT WILL ALSO LEARN HOW TO STOP BLEEDING.
URL:https://emsces911.org/event/community-cpr-and-stop-the-bleed-course-oregon-house-free-course/
CATEGORIES:HeartSaver
END:VEVENT
BEGIN:VEVENT
DTSTART;TZID=America/Los_Angeles:20240819T150000
DTEND;TZID=America/Los_Angeles:20240819T180000
DTSTAMP:20260425T092801
CREATED:20240814T152548Z
LAST-MODIFIED:20240814T152548Z
UID:9149-1724079600-1724090400@emsces911.org
SUMMARY:Heartsaver CPR with AED ( Private Class)
DESCRIPTION:Heartsaver CPR with AED for Plumas Lake School District.
URL:https://emsces911.org/event/heartsaver-cpr-with-aed-private-class/
CATEGORIES:HeartSaver
END:VEVENT
BEGIN:VEVENT
DTSTART;TZID=America/Los_Angeles:20240420T100000
DTEND;TZID=America/Los_Angeles:20240420T150000
DTSTAMP:20260425T092801
CREATED:20240403T155457Z
LAST-MODIFIED:20240403T155457Z
UID:7819-1713607200-1713625200@emsces911.org
SUMMARY:Heartsaver 1st. Aid/CPR with AED
DESCRIPTION:Heartsaver 1st. Aid/ CPR with AED
URL:https://emsces911.org/event/heartsaver-1st-aid-cpr-with-aed/
LOCATION:EMSCES911\, 679 North Palora Ave #A\, Yuba City\, CA\, 95993\, United States
CATEGORIES:HeartSaver
END:VEVENT
BEGIN:VEVENT
DTSTART;TZID=America/Los_Angeles:20240403T080000
DTEND;TZID=America/Los_Angeles:20240403T140000
DTSTAMP:20260425T092801
CREATED:20240327T061830Z
LAST-MODIFIED:20240327T061830Z
UID:7778-1712131200-1712152800@emsces911.org
SUMMARY:AHA Heartsaver 1st. AID/ CPR with AED
DESCRIPTION:AHA Heartsaver 1st. AID/ CPR with AED.. This course is open to the public
URL:https://emsces911.org/event/aha-heartsaver-1st-aid-cpr-with-aed-2/
LOCATION:EMSCES911\, 679 North Palora Ave #A\, Yuba City\, CA\, 95993\, United States
CATEGORIES:HeartSaver
END:VEVENT
BEGIN:VEVENT
DTSTART;TZID=America/Los_Angeles:20240206T080000
DTEND;TZID=America/Los_Angeles:20240206T170000
DTSTAMP:20260425T092801
CREATED:20240129T064812Z
LAST-MODIFIED:20240129T064812Z
UID:7257-1707206400-1707238800@emsces911.org
SUMMARY:Heartsaver 1st.AidCPR with AED and bloodborne Pathogens ( Kingsberry Company)
DESCRIPTION:Heartsaver 1st.Aid/CPR with AED and bloodborne Pathogens ( Kingsberry Company)
URL:https://emsces911.org/event/heartsaver-1st-aidcpr-with-aed-and-bloodborne-pathogens-kingsberry-company/
CATEGORIES:HeartSaver
END:VEVENT
BEGIN:VEVENT
DTSTART;TZID=America/Los_Angeles:20240123T180000
DTEND;TZID=America/Los_Angeles:20240123T210000
DTSTAMP:20260425T092801
CREATED:20231217T223800Z
LAST-MODIFIED:20231217T223800Z
UID:6769-1706032800-1706043600@emsces911.org
SUMMARY:Heartsaver 1st. Aid Course ( for YCUSD sport staff)
DESCRIPTION:Heartsaver 1st. Aid course is for YCUSD sport staff.  \nThis is a private class.
URL:https://emsces911.org/event/heartsaver-1st-aid-course-for-ycusd-sport-staff/
CATEGORIES:HeartSaver
END:VEVENT
BEGIN:VEVENT
DTSTART;TZID=America/Los_Angeles:20240116T180000
DTEND;TZID=America/Los_Angeles:20240116T200000
DTSTAMP:20260425T092801
CREATED:20231217T223401Z
LAST-MODIFIED:20231217T223401Z
UID:6762-1705428000-1705435200@emsces911.org
SUMMARY:Heartsaver CPR with AED ( For YCUSD Sport Staff)
DESCRIPTION:Heartsaver CPR with AED Course for the YCUSD Sport Staff.  \nThis is a private class
URL:https://emsces911.org/event/heartsaver-cpr-with-aed-for-ycusd-sport-staff/
CATEGORIES:HeartSaver
END:VEVENT
BEGIN:VEVENT
DTSTART;TZID=America/Los_Angeles:20231030T160000
DTEND;TZID=America/Los_Angeles:20231030T210000
DTSTAMP:20260425T092801
CREATED:20230913T011156Z
LAST-MODIFIED:20230913T011156Z
UID:5897-1698681600-1698699600@emsces911.org
SUMMARY:First Aid/CPR
DESCRIPTION:Private Class
URL:https://emsces911.org/event/first-aid-cpr-2/
CATEGORIES:HeartSaver
END:VEVENT
BEGIN:VEVENT
DTSTART;TZID=America/Los_Angeles:20231023T160000
DTEND;TZID=America/Los_Angeles:20231023T210000
DTSTAMP:20260425T092801
CREATED:20230913T011104Z
LAST-MODIFIED:20230913T011104Z
UID:5894-1698076800-1698094800@emsces911.org
SUMMARY:First Aid/CPR
DESCRIPTION:Private Class
URL:https://emsces911.org/event/first-aid-cpr/
CATEGORIES:HeartSaver
END:VEVENT
BEGIN:VEVENT
DTSTART;TZID=America/Los_Angeles:20231004T080000
DTEND;TZID=America/Los_Angeles:20231004T120000
DTSTAMP:20260425T092801
CREATED:20230913T010626Z
LAST-MODIFIED:20230913T010626Z
UID:5884-1696406400-1696420800@emsces911.org
SUMMARY:First Aid
DESCRIPTION:Private Class – California Resource
URL:https://emsces911.org/event/first-aid/
CATEGORIES:HeartSaver
END:VEVENT
BEGIN:VEVENT
DTSTART;TZID=America/Los_Angeles:20231002T170000
DTEND;TZID=America/Los_Angeles:20231002T210000
DTSTAMP:20260425T092801
CREATED:20230913T010445Z
LAST-MODIFIED:20230913T010445Z
UID:5881-1696266000-1696280400@emsces911.org
SUMMARY:CPR/First Aid
DESCRIPTION:Private Class
URL:https://emsces911.org/event/cpr-first-aid/
CATEGORIES:HeartSaver
END:VEVENT
BEGIN:VEVENT
DTSTART;VALUE=DATE:20230911
DTEND;VALUE=DATE:20230912
DTSTAMP:20260425T092801
CREATED:20230809T214018Z
LAST-MODIFIED:20230809T214018Z
UID:5726-1694390400-1694476799@emsces911.org
SUMMARY:Heartsaver First Aid/CPR - Private Class
DESCRIPTION:Private Class
URL:https://emsces911.org/event/heartsaver-first-aid-cpr-private-class/
CATEGORIES:HeartSaver
END:VEVENT
BEGIN:VEVENT
DTSTART;TZID=America/Los_Angeles:20230823T130000
DTEND;TZID=America/Los_Angeles:20230823T150000
DTSTAMP:20260425T092801
CREATED:20230711T035416Z
LAST-MODIFIED:20230711T035416Z
UID:5257-1692795600-1692802800@emsces911.org
SUMMARY:CPR - Sutter County School District
DESCRIPTION:Private contract class.
URL:https://emsces911.org/event/cpr-sutter-county-school-district/
CATEGORIES:HeartSaver
END:VEVENT
BEGIN:VEVENT
DTSTART;TZID=America/Los_Angeles:20230725T180000
DTEND;TZID=America/Los_Angeles:20230725T210000
DTSTAMP:20260425T092801
CREATED:20230628T050858Z
LAST-MODIFIED:20230724T222147Z
UID:5148-1690308000-1690318800@emsces911.org
SUMMARY:AHA Heartsaver 1st. Aid
DESCRIPTION:AHA Heartsaver 1st. Aid for the Sutter Unified School District
URL:https://emsces911.org/event/aha-heartsaver-1st-aid/
CATEGORIES:HeartSaver
END:VEVENT
BEGIN:VEVENT
DTSTART;TZID=America/Los_Angeles:20230724T170000
DTEND;TZID=America/Los_Angeles:20230724T200000
DTSTAMP:20260425T092801
CREATED:20230628T050705Z
LAST-MODIFIED:20230724T222238Z
UID:5144-1690218000-1690228800@emsces911.org
SUMMARY:AHA Heartsaver CPR with AED
DESCRIPTION:AHA Heartsaver CPR with AED for the Sutter Unified school district.
URL:https://emsces911.org/event/aha-heartsaver-cpr-with-aed-2/
CATEGORIES:HeartSaver
END:VEVENT
BEGIN:VEVENT
DTSTART;TZID=America/Los_Angeles:20230627T080000
DTEND;TZID=America/Los_Angeles:20230627T140000
DTSTAMP:20260425T092801
CREATED:20230605T215642Z
LAST-MODIFIED:20230605T215642Z
UID:4915-1687852800-1687874400@emsces911.org
SUMMARY:AHA Heartsaver CPR with AED course
DESCRIPTION:This class is a private contracted class.
URL:https://emsces911.org/event/aha-heartsaver-cpr-with-aed-course/
CATEGORIES:HeartSaver
END:VEVENT
BEGIN:VEVENT
DTSTART;VALUE=DATE:20230527
DTEND;VALUE=DATE:20230528
DTSTAMP:20260425T092801
CREATED:20230403T212914Z
LAST-MODIFIED:20230403T212914Z
UID:4413-1685145600-1685231999@emsces911.org
SUMMARY:Heartsaver CPR - Auburn
DESCRIPTION:Private Class
URL:https://emsces911.org/event/heartsaver-cpr-auburn/
CATEGORIES:HeartSaver
END:VEVENT
BEGIN:VEVENT
DTSTART;TZID=America/Los_Angeles:20230526T090000
DTEND;TZID=America/Los_Angeles:20230526T140000
DTSTAMP:20260425T092801
CREATED:20230527T032811Z
LAST-MODIFIED:20230527T032811Z
UID:4873-1685091600-1685109600@emsces911.org
SUMMARY:AHA Heartsaver CPR with AED and 1st. Aid (Private Class)
DESCRIPTION:This course is a Private Class. This class is for the pipe fitters union.
URL:https://emsces911.org/event/aha-heartsaver-cpr-with-aed-and-1st-aid-private-class/
CATEGORIES:HeartSaver
END:VEVENT
BEGIN:VEVENT
DTSTART;TZID=America/Los_Angeles:20230319T090000
DTEND;TZID=America/Los_Angeles:20230319T150000
DTSTAMP:20260425T092801
CREATED:20230218T171842Z
LAST-MODIFIED:20230218T171842Z
UID:3922-1679216400-1679238000@emsces911.org
SUMMARY:Daycare Provider 1st.Aid/CPR with AED Course
DESCRIPTION:This Course is the Heartsaver Pediatric 1st. Aid/CPR with AED course with that mandated Asthma training. This course is approved for California Daycare Licensing.
URL:https://emsces911.org/event/daycare-provider-1st-aid-cpr-with-aed-course/
LOCATION:EMSCES911\, 679 North Palora Ave #A\, Yuba City\, CA\, 95993\, United States
CATEGORIES:HeartSaver
END:VEVENT
BEGIN:VEVENT
DTSTART;TZID=America/Los_Angeles:20230301T080000
DTEND;TZID=America/Los_Angeles:20230301T140000
DTSTAMP:20260425T092801
CREATED:20230220T182702Z
LAST-MODIFIED:20230220T182702Z
UID:3939-1677657600-1677679200@emsces911.org
SUMMARY:Private Class - Redding
DESCRIPTION:First Aid/CPR Private class in Redding\, CA.
URL:https://emsces911.org/event/private-class-redding/
CATEGORIES:HeartSaver
END:VEVENT
BEGIN:VEVENT
DTSTART;TZID=America/Los_Angeles:20230220T080000
DTEND;TZID=America/Los_Angeles:20230220T150000
DTSTAMP:20260425T092801
CREATED:20230220T190820Z
LAST-MODIFIED:20230220T190820Z
UID:3968-1676880000-1676905200@emsces911.org
SUMMARY:Private Class
DESCRIPTION:First Aid/CPR – Private Class
URL:https://emsces911.org/event/private-class-5/
CATEGORIES:HeartSaver
END:VEVENT
BEGIN:VEVENT
DTSTART;TZID=America/Los_Angeles:20230215T133000
DTEND;TZID=America/Los_Angeles:20230215T173000
DTSTAMP:20260425T092801
CREATED:20230220T185236Z
LAST-MODIFIED:20230220T185236Z
UID:3946-1676467800-1676482200@emsces911.org
SUMMARY:Private Class
DESCRIPTION:Private Class-Yuba City School District
URL:https://emsces911.org/event/private-class-4/
CATEGORIES:HeartSaver
END:VEVENT
BEGIN:VEVENT
DTSTART;TZID=UTC:20221106T080000
DTEND;TZID=UTC:20221106T100000
DTSTAMP:20260425T092801
CREATED:20221103T063715Z
LAST-MODIFIED:20221103T063715Z
UID:2809-1667721600-1667728800@emsces911.org
SUMMARY:AHA Heartsaver CPR with AED
DESCRIPTION:AHA Heartsaver CPR with AED. This class is open to the public
URL:https://emsces911.org/event/aha-heartsaver-cpr-with-aed/
LOCATION:EMSCES911\, 679 North Palora Ave #A\, Yuba City\, CA\, 95993\, United States
CATEGORIES:HeartSaver
END:VEVENT
BEGIN:VEVENT
DTSTART;TZID=UTC:20221105T100000
DTEND;TZID=UTC:20221105T120000
DTSTAMP:20260425T092801
CREATED:20221018T061124Z
LAST-MODIFIED:20221018T061226Z
UID:2612-1667642400-1667649600@emsces911.org
SUMMARY:AHA Heartsaver and CPR
DESCRIPTION:AHA Pediatric 1st. Aid with CPR/AED Course. DayCare Approved. \nThis class is designed for Daycare Provider. This class with go over CPR for all ages\, AED use\, Chocking and all things 1st. Aid as well as the mandated asthma training.
URL:https://emsces911.org/event/aha-heartsaver-and-cpr/
LOCATION:EMSCES911\, 679 North Palora Ave #A\, Yuba City\, CA\, 95993\, United States
CATEGORIES:HeartSaver
END:VEVENT
BEGIN:VEVENT
DTSTART;TZID=UTC:20221004T180000
DTEND;TZID=UTC:20221004T210000
DTSTAMP:20260425T092801
CREATED:20220922T231406Z
LAST-MODIFIED:20220922T231406Z
UID:2470-1664906400-1664917200@emsces911.org
SUMMARY:AHA Heartsaver 1st. Aid (Private Class)
DESCRIPTION:AHA Heartsaver 1st. Aid. this class is a private class. This class is for staff of the yuba city unified school district.
URL:https://emsces911.org/event/aha-heartsaver-1st-aid-private-class/
CATEGORIES:HeartSaver
END:VEVENT
END:VCALENDAR