BEGIN:VCALENDAR
VERSION:2.0
PRODID:-//EMSCES911 - ECPv6.15.20//NONSGML v1.0//EN
CALSCALE:GREGORIAN
METHOD:PUBLISH
X-WR-CALNAME:EMSCES911
X-ORIGINAL-URL:https://emsces911.org
X-WR-CALDESC:Events for EMSCES911
REFRESH-INTERVAL;VALUE=DURATION:PT1H
X-Robots-Tag:noindex
X-PUBLISHED-TTL:PT1H
BEGIN:VTIMEZONE
TZID:America/Los_Angeles
BEGIN:DAYLIGHT
TZOFFSETFROM:-0800
TZOFFSETTO:-0700
TZNAME:PDT
DTSTART:20240310T100000
END:DAYLIGHT
BEGIN:STANDARD
TZOFFSETFROM:-0700
TZOFFSETTO:-0800
TZNAME:PST
DTSTART:20241103T090000
END:STANDARD
BEGIN:DAYLIGHT
TZOFFSETFROM:-0800
TZOFFSETTO:-0700
TZNAME:PDT
DTSTART:20250309T100000
END:DAYLIGHT
BEGIN:STANDARD
TZOFFSETFROM:-0700
TZOFFSETTO:-0800
TZNAME:PST
DTSTART:20251102T090000
END:STANDARD
BEGIN:DAYLIGHT
TZOFFSETFROM:-0800
TZOFFSETTO:-0700
TZNAME:PDT
DTSTART:20260308T100000
END:DAYLIGHT
BEGIN:STANDARD
TZOFFSETFROM:-0700
TZOFFSETTO:-0800
TZNAME:PST
DTSTART:20261101T090000
END:STANDARD
END:VTIMEZONE
BEGIN:VEVENT
DTSTART;TZID=America/Los_Angeles:20250717T110000
DTEND;TZID=America/Los_Angeles:20250717T150000
DTSTAMP:20260425T213242
CREATED:20250617T012200Z
LAST-MODIFIED:20250717T160628Z
UID:12038-1752750000-1752764400@emsces911.org
SUMMARY:AHA Healthcare Provider BLS Course (Canceled)
DESCRIPTION:AHA Healthcare Provider BLS Course   \nThis is CPR for Healthcare Providers..This course is open to the public. This course is for anyone getting into the healthcare field \nTo Register Call or go to https://emsces911.org/book-now-classes/ \nBooks for this course can be purchased for $16.00. https://shopcpr.heart.org/bls-provider-manual
URL:https://emsces911.org/event/aha-healthcare-provider-bls-course-296/
LOCATION:EMSCES911\, 679 North Palora Ave #A\, Yuba City\, CA\, 95993\, United States
CATEGORIES:Health Care Provider
END:VEVENT
BEGIN:VEVENT
DTSTART;TZID=America/Los_Angeles:20250712T110000
DTEND;TZID=America/Los_Angeles:20250712T150000
DTSTAMP:20260425T213242
CREATED:20250617T005753Z
LAST-MODIFIED:20250617T005753Z
UID:12024-1752318000-1752332400@emsces911.org
SUMMARY:AHA Healthcare Provider BLS Course
DESCRIPTION:AHA Healthcare Provider BLS Course   \nThis is CPR for Healthcare Providers..This course is open to the public. This course is for anyone getting into the healthcare field \nTo Register Call or go to https://emsces911.org/book-now-classes/ \nBooks for this course can be purchased for $16.00. https://shopcpr.heart.org/bls-provider-manual
URL:https://emsces911.org/event/aha-healthcare-provider-bls-course-294/
LOCATION:EMSCES911\, 679 North Palora Ave #A\, Yuba City\, CA\, 95993\, United States
CATEGORIES:Health Care Provider
END:VEVENT
BEGIN:VEVENT
DTSTART;TZID=America/Los_Angeles:20250711T110000
DTEND;TZID=America/Los_Angeles:20250711T150000
DTSTAMP:20260425T213242
CREATED:20250617T005135Z
LAST-MODIFIED:20250617T005135Z
UID:12021-1752231600-1752246000@emsces911.org
SUMMARY:AHA Healthcare Provider BLS Course
DESCRIPTION:AHA Healthcare Provider BLS Course   \nThis is CPR for Healthcare Providers..This course is open to the public. This course is for anyone getting into the healthcare field \nTo Register Call or go to https://emsces911.org/book-now-classes/ \nBooks for this course can be purchased for $16.00. https://shopcpr.heart.org/bls-provider-manual
URL:https://emsces911.org/event/aha-healthcare-provider-bls-course-293/
LOCATION:EMSCES911\, 679 North Palora Ave #A\, Yuba City\, CA\, 95993\, United States
CATEGORIES:Health Care Provider
END:VEVENT
BEGIN:VEVENT
DTSTART;TZID=America/Los_Angeles:20250710T110000
DTEND;TZID=America/Los_Angeles:20250710T150000
DTSTAMP:20260425T213242
CREATED:20250617T004905Z
LAST-MODIFIED:20250710T205632Z
UID:12018-1752145200-1752159600@emsces911.org
SUMMARY:AHA Healthcare Provider BLS Course
DESCRIPTION:AHA Healthcare Provider BLS Course   \nThis is CPR for Healthcare Providers..This course is open to the public. This course is for anyone getting into the healthcare field \nTo Register Call or go to https://emsces911.org/book-now-classes/ \nBooks for this course can be purchased for $16.00. https://shopcpr.heart.org/bls-provider-manual
URL:https://emsces911.org/event/aha-healthcare-provider-bls-course-290/
LOCATION:EMSCES911\, 679 North Palora Ave #A\, Yuba City\, CA\, 95993\, United States
CATEGORIES:Health Care Provider
END:VEVENT
BEGIN:VEVENT
DTSTART;TZID=America/Los_Angeles:20250705T110000
DTEND;TZID=America/Los_Angeles:20250705T150000
DTSTAMP:20260425T213242
CREATED:20250617T004133Z
LAST-MODIFIED:20250617T004133Z
UID:12012-1751713200-1751727600@emsces911.org
SUMMARY:AHA Healthcare Provider BLS Course
DESCRIPTION:AHA Healthcare Provider BLS Course   \nThis is CPR for Healthcare Providers..This course is open to the public. This course is for anyone getting into the healthcare field \nTo Register Call or go to https://emsces911.org/book-now-classes/ \nBooks for this course can be purchased for $16.00. https://shopcpr.heart.org/bls-provider-manual
URL:https://emsces911.org/event/aha-healthcare-provider-bls-course-288/
LOCATION:EMSCES911\, 679 North Palora Ave #A\, Yuba City\, CA\, 95993\, United States
CATEGORIES:Health Care Provider
END:VEVENT
BEGIN:VEVENT
DTSTART;TZID=America/Los_Angeles:20250703T110000
DTEND;TZID=America/Los_Angeles:20250703T150000
DTSTAMP:20260425T213242
CREATED:20250617T003521Z
LAST-MODIFIED:20250617T003521Z
UID:12009-1751540400-1751554800@emsces911.org
SUMMARY:AHA Healthcare Provider BLS Course
DESCRIPTION:AHA Healthcare Provider BLS Course   \nThis is CPR for Healthcare Providers..This course is open to the public. This course is for anyone getting into the healthcare field \nTo Register Call or go to https://emsces911.org/book-now-classes/ \nBooks for this course can be purchased for $16.00. https://shopcpr.heart.org/bls-provider-manual
URL:https://emsces911.org/event/aha-healthcare-provider-bls-course-283/
LOCATION:EMSCES911\, 679 North Palora Ave #A\, Yuba City\, CA\, 95993\, United States
CATEGORIES:Health Care Provider
END:VEVENT
BEGIN:VEVENT
DTSTART;TZID=America/Los_Angeles:20250702T080000
DTEND;TZID=America/Los_Angeles:20250702T120000
DTSTAMP:20260425T213242
CREATED:20250617T003058Z
LAST-MODIFIED:20250617T003058Z
UID:12006-1751443200-1751457600@emsces911.org
SUMMARY:AHA Healthcare Provider BLS Course
DESCRIPTION:AHA Healthcare Provider BLS Course   \nThis is CPR for Healthcare Providers..This course is open to the public. This course is for anyone getting into the healthcare field \nTo Register Call or go to https://emsces911.org/book-now-classes/ \nBooks for this course can be purchased for $16.00. https://shopcpr.heart.org/bls-provider-manual
URL:https://emsces911.org/event/aha-healthcare-provider-bls-course-278/
LOCATION:EMSCES911\, 679 North Palora Ave #A\, Yuba City\, CA\, 95993\, United States
CATEGORIES:Health Care Provider
END:VEVENT
BEGIN:VEVENT
DTSTART;TZID=America/Los_Angeles:20250630T140000
DTEND;TZID=America/Los_Angeles:20250630T170000
DTSTAMP:20260425T213242
CREATED:20250618T143412Z
LAST-MODIFIED:20250618T143412Z
UID:11548-1751292000-1751302800@emsces911.org
SUMMARY:AHA Healthcare Renewal BLS Course
DESCRIPTION:AHA Healthcare Renewal BLS Course  \nMUST HAVE A CURRENT HCP BLS CARD  \nThis is CPR for Healthcare Providers..This course is open to the public. This course is for anyone getting into the healthcare field \nTo Register Call or go to https://emsces911.org/book-now-classes/ \nBooks for this course can be purchased for $16.00. https://shopcpr.heart.org/bls-provider-manual
URL:https://emsces911.org/event/aha-healthcare-renewal-bls-course/
LOCATION:EMSCES911\, 679 North Palora Ave #A\, Yuba City\, CA\, 95993\, United States
CATEGORIES:Health Care Provider
END:VEVENT
BEGIN:VEVENT
DTSTART;TZID=America/Los_Angeles:20250628T110000
DTEND;TZID=America/Los_Angeles:20250628T150000
DTSTAMP:20260425T213242
CREATED:20250430T065329Z
LAST-MODIFIED:20250430T065329Z
UID:11704-1751108400-1751122800@emsces911.org
SUMMARY:AHA Healthcare Provider BLS Course
DESCRIPTION:AHA Healthcare Provider BLS Course   \nThis is CPR for Healthcare Providers..This course is open to the public. This course is for anyone getting into the healthcare field \nTo Register Call or go to https://emsces911.org/book-now-classes/ \nBooks for this course can be purchased for $16.00. https://shopcpr.heart.org/bls-provider-manual
URL:https://emsces911.org/event/aha-healthcare-provider-bls-course-292/
LOCATION:EMSCES911\, 679 North Palora Ave #A\, Yuba City\, CA\, 95993\, United States
CATEGORIES:Health Care Provider
END:VEVENT
BEGIN:VEVENT
DTSTART;TZID=America/Los_Angeles:20250627T110000
DTEND;TZID=America/Los_Angeles:20250627T150000
DTSTAMP:20260425T213242
CREATED:20250430T064848Z
LAST-MODIFIED:20250430T064848Z
UID:11701-1751022000-1751036400@emsces911.org
SUMMARY:AHA Healthcare Provider BLS Course
DESCRIPTION:AHA Healthcare Provider BLS Course   \nThis is CPR for Healthcare Providers..This course is open to the public. This course is for anyone getting into the healthcare field \nTo Register Call or go to https://emsces911.org/book-now-classes/ \nBooks for this course can be purchased for $16.00. https://shopcpr.heart.org/bls-provider-manual
URL:https://emsces911.org/event/aha-healthcare-provider-bls-course-291/
LOCATION:EMSCES911\, 679 North Palora Ave #A\, Yuba City\, CA\, 95993\, United States
CATEGORIES:Health Care Provider
END:VEVENT
BEGIN:VEVENT
DTSTART;TZID=America/Los_Angeles:20250620T110000
DTEND;TZID=America/Los_Angeles:20250620T150000
DTSTAMP:20260425T213242
CREATED:20250430T064236Z
LAST-MODIFIED:20250430T064236Z
UID:11695-1750417200-1750431600@emsces911.org
SUMMARY:AHA Healthcare Provider BLS Course
DESCRIPTION:AHA Healthcare Provider BLS Course   \nThis is CPR for Healthcare Providers..This course is open to the public. This course is for anyone getting into the healthcare field \nTo Register Call or go to https://emsces911.org/book-now-classes/ \nBooks for this course can be purchased for $16.00. https://shopcpr.heart.org/bls-provider-manual
URL:https://emsces911.org/event/aha-healthcare-provider-bls-course-289/
LOCATION:EMSCES911\, 679 North Palora Ave #A\, Yuba City\, CA\, 95993\, United States
CATEGORIES:Health Care Provider
END:VEVENT
BEGIN:VEVENT
DTSTART;TZID=America/Los_Angeles:20250614T110000
DTEND;TZID=America/Los_Angeles:20250614T150000
DTSTAMP:20260425T213242
CREATED:20250430T063548Z
LAST-MODIFIED:20250610T200716Z
UID:11689-1749898800-1749913200@emsces911.org
SUMMARY:AHA Healthcare Provider BLS Course (CANCELED)
DESCRIPTION:AHA Healthcare Provider BLS Course   \nThis is CPR for Healthcare Providers..This course is open to the public. This course is for anyone getting into the healthcare field \nTo Register Call or go to https://emsces911.org/book-now-classes/ \nBooks for this course can be purchased for $16.00. https://shopcpr.heart.org/bls-provider-manual
URL:https://emsces911.org/event/aha-healthcare-provider-bls-course-287/
LOCATION:EMSCES911\, 679 North Palora Ave #A\, Yuba City\, CA\, 95993\, United States
CATEGORIES:Health Care Provider
END:VEVENT
BEGIN:VEVENT
DTSTART;TZID=America/Los_Angeles:20250613T110000
DTEND;TZID=America/Los_Angeles:20250613T150000
DTSTAMP:20260425T213242
CREATED:20250430T063338Z
LAST-MODIFIED:20250430T063338Z
UID:11686-1749812400-1749826800@emsces911.org
SUMMARY:AHA Healthcare Provider BLS Course
DESCRIPTION:AHA Healthcare Provider BLS Course   \nThis is CPR for Healthcare Providers..This course is open to the public. This course is for anyone getting into the healthcare field \nTo Register Call or go to https://emsces911.org/book-now-classes/ \nBooks for this course can be purchased for $16.00. https://shopcpr.heart.org/bls-provider-manual
URL:https://emsces911.org/event/aha-healthcare-provider-bls-course-286/
LOCATION:EMSCES911\, 679 North Palora Ave #A\, Yuba City\, CA\, 95993\, United States
CATEGORIES:Health Care Provider
END:VEVENT
BEGIN:VEVENT
DTSTART;TZID=America/Los_Angeles:20250606T110000
DTEND;TZID=America/Los_Angeles:20250606T150000
DTSTAMP:20260425T213242
CREATED:20250508T181032Z
LAST-MODIFIED:20250508T181032Z
UID:11792-1749207600-1749222000@emsces911.org
SUMMARY:AHA Healthcare Provider BLS Course
DESCRIPTION:AHA Healthcare Provider BLS Course \nThis is CPR for Healthcare Providers..This course is open to the public. This course is for anyone getting into the healthcare field \nTo Register Call or go to https://emsces911.org/book-now-classes/ \nBooks for this course can be purchased for $16.00. https://shopcpr.heart.org/bls-provider-manual
URL:https://emsces911.org/event/aha-healthcare-provider-bls-course-282/
LOCATION:EMSCES911\, 679 North Palora Ave #A\, Yuba City\, CA\, 95993\, United States
CATEGORIES:Health Care Provider
END:VEVENT
BEGIN:VEVENT
DTSTART;TZID=America/Los_Angeles:20250531T110000
DTEND;TZID=America/Los_Angeles:20250531T153000
DTSTAMP:20260425T213242
CREATED:20250508T180722Z
LAST-MODIFIED:20250508T180722Z
UID:11789-1748689200-1748705400@emsces911.org
SUMMARY:AHA Healthcare Provider BLS Course
DESCRIPTION:AHA Healthcare Provider BLS Course \nThis is CPR for Healthcare Providers..This course is open to the public. This course is for anyone getting into the healthcare field \nTo Register Call or go to https://emsces911.org/book-now-classes/ \nBooks for this course can be purchased for $16.00. https://shopcpr.heart.org/bls-provider-manual
URL:https://emsces911.org/event/aha-healthcare-provider-bls-course-280/
LOCATION:EMSCES911\, 679 North Palora Ave #A\, Yuba City\, CA\, 95993\, United States
CATEGORIES:Health Care Provider
END:VEVENT
BEGIN:VEVENT
DTSTART;TZID=America/Los_Angeles:20250530T110000
DTEND;TZID=America/Los_Angeles:20250530T150000
DTSTAMP:20260425T213242
CREATED:20250421T062519Z
LAST-MODIFIED:20250508T151332Z
UID:11573-1748602800-1748617200@emsces911.org
SUMMARY:AHA Healthcare Provider BLS Course
DESCRIPTION:AHA Healthcare Provider BLS Course   \nThis is CPR for Healthcare Providers..This course is open to the public. This course is for anyone getting into the healthcare field \nTo Register Call or go to https://emsces911.org/book-now-classes/ \nBooks for this course can be purchased for $16.00. https://shopcpr.heart.org/bls-provider-manual
URL:https://emsces911.org/event/aha-healthcare-provider-bls-course-281/
LOCATION:EMSCES911\, 679 North Palora Ave #A\, Yuba City\, CA\, 95993\, United States
CATEGORIES:Health Care Provider
END:VEVENT
BEGIN:VEVENT
DTSTART;TZID=America/Los_Angeles:20250522T110000
DTEND;TZID=America/Los_Angeles:20250522T150000
DTSTAMP:20260425T213242
CREATED:20250421T061703Z
LAST-MODIFIED:20250508T151541Z
UID:11565-1747911600-1747926000@emsces911.org
SUMMARY:AHA Healthcare Provider BLS Course
DESCRIPTION:AHA Healthcare Provider BLS Course   \nThis is CPR for Healthcare Providers..This course is open to the public. This course is for anyone getting into the healthcare field \nTo Register Call or go to https://emsces911.org/book-now-classes/ \nBooks for this course can be purchased for $16.00. https://shopcpr.heart.org/bls-provider-manual
URL:https://emsces911.org/event/aha-healthcare-provider-bls-course-279/
LOCATION:EMSCES911\, 679 North Palora Ave #A\, Yuba City\, CA\, 95993\, United States
CATEGORIES:Health Care Provider
END:VEVENT
BEGIN:VEVENT
DTSTART;TZID=America/Los_Angeles:20250517T110000
DTEND;TZID=America/Los_Angeles:20250517T150000
DTSTAMP:20260425T213242
CREATED:20250508T171657Z
LAST-MODIFIED:20250508T171706Z
UID:11772-1747479600-1747494000@emsces911.org
SUMMARY:AHA Healthcare Provider BLS Course
DESCRIPTION:AHA Healthcare Provider BLS Course \nThis is CPR for Healthcare Providers..This course is open to the public. This course is for anyone getting into the healthcare field \nTo Register Call or go to https://emsces911.org/book-now-classes/ \nBooks for this course can be purchased for $16.00. https://shopcpr.heart.org/bls-provider-manual
URL:https://emsces911.org/event/aha-healthcare-provider-bls-course-284/
LOCATION:EMSCES911\, 679 North Palora Ave #A\, Yuba City\, CA\, 95993\, United States
CATEGORIES:Health Care Provider
END:VEVENT
BEGIN:VEVENT
DTSTART;TZID=America/Los_Angeles:20250516T110000
DTEND;TZID=America/Los_Angeles:20250516T150000
DTSTAMP:20260425T213242
CREATED:20250421T054701Z
LAST-MODIFIED:20250506T173703Z
UID:11552-1747393200-1747407600@emsces911.org
SUMMARY:AHA Healthcare Provider BLS Course
DESCRIPTION:AHA Healthcare Provider BLS Course   \nThis is CPR for Healthcare Providers..This course is open to the public. This course is for anyone getting into the healthcare field \nTo Register Call or go to https://emsces911.org/book-now-classes/ \nBooks for this course can be purchased for $16.00. https://shopcpr.heart.org/bls-provider-manual
URL:https://emsces911.org/event/aha-healthcare-provider-bls-course-277/
LOCATION:EMSCES911\, 679 North Palora Ave #A\, Yuba City\, CA\, 95993\, United States
CATEGORIES:Health Care Provider
END:VEVENT
BEGIN:VEVENT
DTSTART;TZID=America/Los_Angeles:20250515T110000
DTEND;TZID=America/Los_Angeles:20250515T150000
DTSTAMP:20260425T213242
CREATED:20250508T171318Z
LAST-MODIFIED:20250508T171318Z
UID:11769-1747306800-1747321200@emsces911.org
SUMMARY:AHA Healthcare Provider BLS Course
DESCRIPTION:AHA Healthcare Provider BLS Course \nThis is CPR for Healthcare Providers..This course is open to the public. This course is for anyone getting into the healthcare field \nTo Register Call or go to https://emsces911.org/book-now-classes/ \nBooks for this course can be purchased for $16.00. https://shopcpr.heart.org/bls-provider-manual
URL:https://emsces911.org/event/aha-healthcare-provider-bls-course-274/
LOCATION:EMSCES911\, 679 North Palora Ave #A\, Yuba City\, CA\, 95993\, United States
CATEGORIES:Health Care Provider
END:VEVENT
BEGIN:VEVENT
DTSTART;TZID=America/Los_Angeles:20250510T110000
DTEND;TZID=America/Los_Angeles:20250510T150000
DTSTAMP:20260425T213242
CREATED:20250319T171836Z
LAST-MODIFIED:20250319T171836Z
UID:11361-1746874800-1746889200@emsces911.org
SUMMARY:AHA Healthcare Provider BLS Course
DESCRIPTION:AHA Healthcare Provider BLS Course   \nThis is CPR for Healthcare Providers..This course is open to the public. This course is for anyone getting into the healthcare field \nTo Register Call or go to https://emsces911.org/book-now-classes/ \nBooks for this course can be purchased for $16.00. https://shopcpr.heart.org/bls-provider-manual
URL:https://emsces911.org/event/aha-healthcare-provider-bls-course-273/
LOCATION:EMSCES911\, 679 North Palora Ave #A\, Yuba City\, CA\, 95993\, United States
CATEGORIES:Health Care Provider
END:VEVENT
BEGIN:VEVENT
DTSTART;TZID=America/Los_Angeles:20250509T110000
DTEND;TZID=America/Los_Angeles:20250509T150000
DTSTAMP:20260425T213242
CREATED:20250319T171605Z
LAST-MODIFIED:20250319T171605Z
UID:11356-1746788400-1746802800@emsces911.org
SUMMARY:AHA Healthcare Provider BLS Course
DESCRIPTION:AHA Healthcare Provider BLS Course   \nThis is CPR for Healthcare Providers..This course is open to the public. This course is for anyone getting into the healthcare field \nTo Register Call or go to https://emsces911.org/book-now-classes/ \nBooks for this course can be purchased for $16.00. https://shopcpr.heart.org/bls-provider-manual
URL:https://emsces911.org/event/aha-healthcare-provider-bls-course-272/
LOCATION:EMSCES911\, 679 North Palora Ave #A\, Yuba City\, CA\, 95993\, United States
CATEGORIES:Health Care Provider
END:VEVENT
BEGIN:VEVENT
DTSTART;TZID=America/Los_Angeles:20250503T110000
DTEND;TZID=America/Los_Angeles:20250503T150000
DTSTAMP:20260425T213242
CREATED:20250319T172508Z
LAST-MODIFIED:20250319T172508Z
UID:11373-1746270000-1746284400@emsces911.org
SUMMARY:AHA Healthcare Provider BLS Course
DESCRIPTION:AHA Healthcare Provider BLS Course   \nThis is CPR for Healthcare Providers..This course is open to the public. This course is for anyone getting into the healthcare field \nTo Register Call or go to https://emsces911.org/book-now-classes/ \nBooks for this course can be purchased for $16.00. https://shopcpr.heart.org/bls-provider-manual
URL:https://emsces911.org/event/aha-healthcare-provider-bls-course-275/
LOCATION:EMSCES911\, 679 North Palora Ave #A\, Yuba City\, CA\, 95993\, United States
CATEGORIES:Health Care Provider
END:VEVENT
BEGIN:VEVENT
DTSTART;TZID=America/Los_Angeles:20250502T110000
DTEND;TZID=America/Los_Angeles:20250502T150000
DTSTAMP:20260425T213242
CREATED:20250409T150223Z
LAST-MODIFIED:20250429T151901Z
UID:11495-1746183600-1746198000@emsces911.org
SUMMARY:AHA Healthcare Provider BLS Course
DESCRIPTION:AHA Healthcare Provider BLS Course \nThis is CPR for Healthcare Providers..This course is open to the public. This course is for anyone getting into the healthcare field \nTo Register Call or go to https://emsces911.org/book-now-classes/ \nBooks for this course can be purchased for $16.00. https://shopcpr.heart.org/bls-provider-manual
URL:https://emsces911.org/event/aha-healthcare-provider-bls-course-276/
LOCATION:EMSCES911\, 679 North Palora Ave #A\, Yuba City\, CA\, 95993\, United States
CATEGORIES:Health Care Provider
END:VEVENT
BEGIN:VEVENT
DTSTART;TZID=America/Los_Angeles:20250428T170000
DTEND;TZID=America/Los_Angeles:20250428T200000
DTSTAMP:20260425T213242
CREATED:20250319T174625Z
LAST-MODIFIED:20250319T174648Z
UID:11392-1745859600-1745870400@emsces911.org
SUMMARY:AHA Healthcare Renewal BLS Course
DESCRIPTION:AHA Healthcare Renewal BLS Course  \nMUST HAVE A CURRENT HCP BLS CARD  \nThis is CPR for Healthcare Providers..This course is open to the public. This course is for anyone getting into the healthcare field \nTo Register Call or go to https://emsces911.org/book-now-classes/ \nBooks for this course can be purchased for $16.00. https://shopcpr.heart.org/bls-provider-manual
URL:https://emsces911.org/event/11392/
LOCATION:EMSCES911\, 679 North Palora Ave #A\, Yuba City\, CA\, 95993\, United States
CATEGORIES:Health Care Provider
END:VEVENT
BEGIN:VEVENT
DTSTART;TZID=America/Los_Angeles:20250426T110000
DTEND;TZID=America/Los_Angeles:20250426T150000
DTSTAMP:20260425T213242
CREATED:20250319T163041Z
LAST-MODIFIED:20250319T163041Z
UID:11324-1745665200-1745679600@emsces911.org
SUMMARY:AHA Healthcare Provider BLS Course
DESCRIPTION:AHA Healthcare Provider BLS Course   \nThis is CPR for Healthcare Providers..This course is open to the public. This course is for anyone getting into the healthcare field \nTo Register Call or go to https://emsces911.org/book-now-classes/ \nBooks for this course can be purchased for $16.00. https://shopcpr.heart.org/bls-provider-manual
URL:https://emsces911.org/event/aha-healthcare-provider-bls-course-270/
LOCATION:EMSCES911\, 679 North Palora Ave #A\, Yuba City\, CA\, 95993\, United States
CATEGORIES:Health Care Provider
END:VEVENT
BEGIN:VEVENT
DTSTART;TZID=America/Los_Angeles:20250425T110000
DTEND;TZID=America/Los_Angeles:20250425T150000
DTSTAMP:20260425T213242
CREATED:20250319T162845Z
LAST-MODIFIED:20250319T162845Z
UID:11319-1745578800-1745593200@emsces911.org
SUMMARY:AHA Healthcare Provider BLS Course
DESCRIPTION:AHA Healthcare Provider BLS Course   \nThis is CPR for Healthcare Providers..This course is open to the public. This course is for anyone getting into the healthcare field \nTo Register Call or go to https://emsces911.org/book-now-classes/ \nBooks for this course can be purchased for $16.00. https://shopcpr.heart.org/bls-provider-manual
URL:https://emsces911.org/event/aha-healthcare-provider-bls-course-269/
LOCATION:EMSCES911\, 679 North Palora Ave #A\, Yuba City\, CA\, 95993\, United States
CATEGORIES:Health Care Provider
END:VEVENT
BEGIN:VEVENT
DTSTART;TZID=America/Los_Angeles:20250418T110000
DTEND;TZID=America/Los_Angeles:20250418T150000
DTSTAMP:20260425T213242
CREATED:20250319T162621Z
LAST-MODIFIED:20250319T162621Z
UID:11314-1744974000-1744988400@emsces911.org
SUMMARY:AHA Healthcare Provider BLS Course
DESCRIPTION:AHA Healthcare Provider BLS Course   \nThis is CPR for Healthcare Providers..This course is open to the public. This course is for anyone getting into the healthcare field \nTo Register Call or go to https://emsces911.org/book-now-classes/ \nBooks for this course can be purchased for $16.00. https://shopcpr.heart.org/bls-provider-manual
URL:https://emsces911.org/event/aha-healthcare-provider-bls-course-268/
LOCATION:EMSCES911\, 679 North Palora Ave #A\, Yuba City\, CA\, 95993\, United States
CATEGORIES:Health Care Provider
END:VEVENT
BEGIN:VEVENT
DTSTART;TZID=America/Los_Angeles:20250417T110000
DTEND;TZID=America/Los_Angeles:20250417T150000
DTSTAMP:20260425T213242
CREATED:20250319T162343Z
LAST-MODIFIED:20250319T162343Z
UID:11304-1744887600-1744902000@emsces911.org
SUMMARY:AHA Healthcare Provider BLS Course
DESCRIPTION:AHA Healthcare Provider BLS Course   \nThis is CPR for Healthcare Providers..This course is open to the public. This course is for anyone getting into the healthcare field \nTo Register Call or go to https://emsces911.org/book-now-classes/ \nBooks for this course can be purchased for $16.00. https://shopcpr.heart.org/bls-provider-manual
URL:https://emsces911.org/event/aha-healthcare-provider-bls-course-267/
LOCATION:EMSCES911\, 679 North Palora Ave #A\, Yuba City\, CA\, 95993\, United States
CATEGORIES:Health Care Provider
END:VEVENT
BEGIN:VEVENT
DTSTART;TZID=America/Los_Angeles:20250412T110000
DTEND;TZID=America/Los_Angeles:20250412T150000
DTSTAMP:20260425T213242
CREATED:20250319T155640Z
LAST-MODIFIED:20250319T155640Z
UID:11279-1744455600-1744470000@emsces911.org
SUMMARY:AHA Healthcare Provider BLS Course
DESCRIPTION:AHA Healthcare Provider BLS Course   \nThis is CPR for Healthcare Providers..This course is open to the public. This course is for anyone getting into the healthcare field \nTo Register Call or go to https://emsces911.org/book-now-classes/ \nBooks for this course can be purchased for $16.00. https://shopcpr.heart.org/bls-provider-manual
URL:https://emsces911.org/event/aha-healthcare-provider-bls-course-266/
LOCATION:EMSCES911\, 679 North Palora Ave #A\, Yuba City\, CA\, 95993\, United States
CATEGORIES:Health Care Provider
END:VEVENT
END:VCALENDAR