BEGIN:VCALENDAR
VERSION:2.0
PRODID:-//EMSCES911 - ECPv6.15.20//NONSGML v1.0//EN
CALSCALE:GREGORIAN
METHOD:PUBLISH
X-WR-CALNAME:EMSCES911
X-ORIGINAL-URL:https://emsces911.org
X-WR-CALDESC:Events for EMSCES911
REFRESH-INTERVAL;VALUE=DURATION:PT1H
X-Robots-Tag:noindex
X-PUBLISHED-TTL:PT1H
BEGIN:VTIMEZONE
TZID:UTC
BEGIN:STANDARD
TZOFFSETFROM:+0000
TZOFFSETTO:+0000
TZNAME:UTC
DTSTART:20210101T000000
END:STANDARD
END:VTIMEZONE
BEGIN:VEVENT
DTSTART;VALUE=DATE:20220520
DTEND;VALUE=DATE:20220521
DTSTAMP:20260425T135718
CREATED:20220410T151540Z
LAST-MODIFIED:20220507T044147Z
UID:878-1653004800-1653091199@emsces911.org
SUMMARY:Advanced EMT Training and more
DESCRIPTION:This Course is a contracted class for Sierra County EMTs and AEMTs. this class will go over MCI\, Start Triage\, Bleeding control and all scope of practice skills for AEMT with MOCK Emergency calls.  \nWe have a few spot for AEMT ONLY
URL:https://emsces911.org/event/advanced-emt-training-and-more/
LOCATION:CA
CATEGORIES:EMT Refresher
END:VEVENT
END:VCALENDAR