BEGIN:VCALENDAR
VERSION:2.0
PRODID:-//EMSCES911 - ECPv6.15.20//NONSGML v1.0//EN
CALSCALE:GREGORIAN
METHOD:PUBLISH
X-ORIGINAL-URL:https://emsces911.org
X-WR-CALDESC:Events for EMSCES911
REFRESH-INTERVAL;VALUE=DURATION:PT1H
X-Robots-Tag:noindex
X-PUBLISHED-TTL:PT1H
BEGIN:VTIMEZONE
TZID:America/Los_Angeles
BEGIN:DAYLIGHT
TZOFFSETFROM:-0800
TZOFFSETTO:-0700
TZNAME:PDT
DTSTART:20230312T100000
END:DAYLIGHT
BEGIN:STANDARD
TZOFFSETFROM:-0700
TZOFFSETTO:-0800
TZNAME:PST
DTSTART:20231105T090000
END:STANDARD
BEGIN:DAYLIGHT
TZOFFSETFROM:-0800
TZOFFSETTO:-0700
TZNAME:PDT
DTSTART:20240310T100000
END:DAYLIGHT
BEGIN:STANDARD
TZOFFSETFROM:-0700
TZOFFSETTO:-0800
TZNAME:PST
DTSTART:20241103T090000
END:STANDARD
BEGIN:DAYLIGHT
TZOFFSETFROM:-0800
TZOFFSETTO:-0700
TZNAME:PDT
DTSTART:20250309T100000
END:DAYLIGHT
BEGIN:STANDARD
TZOFFSETFROM:-0700
TZOFFSETTO:-0800
TZNAME:PST
DTSTART:20251102T090000
END:STANDARD
BEGIN:DAYLIGHT
TZOFFSETFROM:-0800
TZOFFSETTO:-0700
TZNAME:PDT
DTSTART:20260308T100000
END:DAYLIGHT
BEGIN:STANDARD
TZOFFSETFROM:-0700
TZOFFSETTO:-0800
TZNAME:PST
DTSTART:20261101T090000
END:STANDARD
BEGIN:DAYLIGHT
TZOFFSETFROM:-0800
TZOFFSETTO:-0700
TZNAME:PDT
DTSTART:20270314T100000
END:DAYLIGHT
BEGIN:STANDARD
TZOFFSETFROM:-0700
TZOFFSETTO:-0800
TZNAME:PST
DTSTART:20271107T090000
END:STANDARD
END:VTIMEZONE
BEGIN:VEVENT
DTSTART;TZID=America/Los_Angeles:20260220T180000
DTEND;TZID=America/Los_Angeles:20260222T180000
DTSTAMP:20260425T075127
CREATED:20250922T190853Z
LAST-MODIFIED:20250922T190853Z
UID:12819-1771610400-1771783200@emsces911.org
SUMMARY:EMT Refresher
DESCRIPTION:EMT Refresher\nThis course is limited seating for the public.  \nThis course will give you 24 hours of CEUs and your California EMT skill sign off completed.
URL:https://emsces911.org/event/emt-refresher-5/
LOCATION:Arbuckle Fire Department\, 506 Lucas Street\, Arbuckle\, 95912\, United States
CATEGORIES:EMT Refresher
END:VEVENT
BEGIN:VEVENT
DTSTART;TZID=America/Los_Angeles:20251216T180000
DTEND;TZID=America/Los_Angeles:20251216T210000
DTSTAMP:20260425T075127
CREATED:20250921T183156Z
LAST-MODIFIED:20251015T033125Z
UID:12807-1765908000-1765918800@emsces911.org
SUMMARY:EMR Training (SAC. RIVER FIRE)
DESCRIPTION:EMR Training (SAC. RIVER FIRE)
URL:https://emsces911.org/event/emr-training-sac-river-fire-5/
CATEGORIES:EMT Refresher
END:VEVENT
BEGIN:VEVENT
DTSTART;TZID=America/Los_Angeles:20251215T180000
DTEND;TZID=America/Los_Angeles:20251215T220000
DTSTAMP:20260425T075127
CREATED:20250921T180828Z
LAST-MODIFIED:20251015T032951Z
UID:12786-1765821600-1765836000@emsces911.org
SUMMARY:EMR Training (Princeton Fire)
DESCRIPTION:EMR Training (Princeton Fire)
URL:https://emsces911.org/event/emr-training-princeton-fire/
CATEGORIES:EMT Refresher
END:VEVENT
BEGIN:VEVENT
DTSTART;TZID=America/Los_Angeles:20251213T090000
DTEND;TZID=America/Los_Angeles:20251214T193000
DTSTAMP:20260425T075127
CREATED:20251013T185405Z
LAST-MODIFIED:20251013T185405Z
UID:12933-1765616400-1765740600@emsces911.org
SUMMARY:Title 22 Public safety first aid (PSFA)
DESCRIPTION:This course is for people getting into public safety. Open to the public but fire academy and working personnel have priority. Healthcare Provider is not included in this course but we do offer this course seperatly \ngoes over \npatient assessment\nairway management\nEpi by auto injectors\nNaloxone\nStop the bleed and Resuscitation acedemy \nand more
URL:https://emsces911.org/event/title-22-public-safety-first-aid-psfa/
LOCATION:EMSCES911\, 679 North Palora Ave #A\, Yuba City\, CA\, 95993\, United States
CATEGORIES:EMT Refresher
END:VEVENT
BEGIN:VEVENT
DTSTART;TZID=America/Los_Angeles:20251209T180000
DTEND;TZID=America/Los_Angeles:20251209T210000
DTSTAMP:20260425T075127
CREATED:20250921T183103Z
LAST-MODIFIED:20250921T183103Z
UID:12805-1765303200-1765314000@emsces911.org
SUMMARY:EMR Training (SAC. RIVER FIRE)
DESCRIPTION:EMR Training (SAC. RIVER FIRE)
URL:https://emsces911.org/event/emr-training-sac-river-fire-4/
CATEGORIES:EMT Refresher
END:VEVENT
BEGIN:VEVENT
DTSTART;TZID=America/Los_Angeles:20251208T180000
DTEND;TZID=America/Los_Angeles:20251208T210000
DTSTAMP:20260425T075127
CREATED:20250921T184249Z
LAST-MODIFIED:20250921T184249Z
UID:12809-1765216800-1765227600@emsces911.org
SUMMARY:EMR Training (Princeton Fire)
DESCRIPTION:EMR Training (Princeton Fire)
URL:https://emsces911.org/event/emr-training-princeton-fire-7/
CATEGORIES:EMT Refresher
END:VEVENT
BEGIN:VEVENT
DTSTART;TZID=America/Los_Angeles:20251202T180000
DTEND;TZID=America/Los_Angeles:20251202T210000
DTSTAMP:20260425T075127
CREATED:20250921T182820Z
LAST-MODIFIED:20250921T182958Z
UID:12803-1764698400-1764709200@emsces911.org
SUMMARY:EMR Training (SAC. RIVER FIRE)
DESCRIPTION:EMR Training (SAC. RIVER FIRE)
URL:https://emsces911.org/event/emr-training-sac-river-fire-3/
CATEGORIES:EMT Refresher
END:VEVENT
BEGIN:VEVENT
DTSTART;TZID=America/Los_Angeles:20251201T180000
DTEND;TZID=America/Los_Angeles:20251201T210000
DTSTAMP:20260425T075127
CREATED:20250921T181438Z
LAST-MODIFIED:20250921T182047Z
UID:12794-1764612000-1764622800@emsces911.org
SUMMARY:EMR Training (Princeton Fire)
DESCRIPTION:EMR Training (Princeton Fire)
URL:https://emsces911.org/event/emr-training-princeton-fire-5/
CATEGORIES:EMT Refresher
END:VEVENT
BEGIN:VEVENT
DTSTART;TZID=America/Los_Angeles:20251125T180000
DTEND;TZID=America/Los_Angeles:20251125T210000
DTSTAMP:20260425T075127
CREATED:20250921T182559Z
LAST-MODIFIED:20250921T182559Z
UID:12801-1764093600-1764104400@emsces911.org
SUMMARY:EMR Training (SAC. RIVER FIRE)
DESCRIPTION:EMR Training (SAC. RIVER FIRE)
URL:https://emsces911.org/event/emr-training-sac-river-fire-2/
CATEGORIES:EMT Refresher
END:VEVENT
BEGIN:VEVENT
DTSTART;TZID=America/Los_Angeles:20251124T180000
DTEND;TZID=America/Los_Angeles:20251124T210000
DTSTAMP:20260425T075127
CREATED:20250921T181252Z
LAST-MODIFIED:20250921T181252Z
UID:12792-1764007200-1764018000@emsces911.org
SUMMARY:EMR Training (Princeton Fire)
DESCRIPTION:EMR Training (Princeton Fire)
URL:https://emsces911.org/event/emr-training-princeton-fire-4/
CATEGORIES:EMT Refresher
END:VEVENT
BEGIN:VEVENT
DTSTART;TZID=America/Los_Angeles:20251118T180000
DTEND;TZID=America/Los_Angeles:20251118T220000
DTSTAMP:20260425T075127
CREATED:20250921T182436Z
LAST-MODIFIED:20250921T182436Z
UID:12799-1763488800-1763503200@emsces911.org
SUMMARY:EMR Training (SAC. RIVER FIRE)
DESCRIPTION:EMR Training (SAC. RIVER FIRE)
URL:https://emsces911.org/event/emr-training-sac-river-fire/
CATEGORIES:EMT Refresher
END:VEVENT
BEGIN:VEVENT
DTSTART;TZID=America/Los_Angeles:20251117T180000
DTEND;TZID=America/Los_Angeles:20251117T210000
DTSTAMP:20260425T075127
CREATED:20250921T181151Z
LAST-MODIFIED:20250921T181151Z
UID:12790-1763402400-1763413200@emsces911.org
SUMMARY:EMR Training (Princeton Fire)
DESCRIPTION:EMR Training (Princeton Fire)
URL:https://emsces911.org/event/emr-training-princeton-fire-3/
CATEGORIES:EMT Refresher
END:VEVENT
BEGIN:VEVENT
DTSTART;TZID=America/Los_Angeles:20251117T080000
DTEND;TZID=America/Los_Angeles:20251118T170000
DTSTAMP:20260425T075127
CREATED:20250829T170155Z
LAST-MODIFIED:20251028T175825Z
UID:12686-1763366400-1763485200@emsces911.org
SUMMARY:Title 22 Course (Yountville\, CA)
DESCRIPTION:Title 22 Course  for staff of the Veteran’s Home Yountville\, CA
URL:https://emsces911.org/event/title-22-course-yountville-ca/
CATEGORIES:EMT Refresher
END:VEVENT
BEGIN:VEVENT
DTSTART;TZID=America/Los_Angeles:20251110T180000
DTEND;TZID=America/Los_Angeles:20251110T210000
DTSTAMP:20260425T075127
CREATED:20250921T181036Z
LAST-MODIFIED:20250921T181036Z
UID:12788-1762797600-1762808400@emsces911.org
SUMMARY:EMR Training (Princeton Fire)
DESCRIPTION:EMR Training (Princeton Fire)
URL:https://emsces911.org/event/emr-training-princeton-fire-2/
CATEGORIES:EMT Refresher
END:VEVENT
BEGIN:VEVENT
DTSTART;TZID=America/Los_Angeles:20251104T180000
DTEND;TZID=America/Los_Angeles:20251104T210000
DTSTAMP:20260425T075127
CREATED:20250921T182151Z
LAST-MODIFIED:20250921T182315Z
UID:12796-1762279200-1762290000@emsces911.org
SUMMARY:EMR Training (SAC. RIVER FIRE)
DESCRIPTION:EMR Training (SAC. RIVER FIRE)
URL:https://emsces911.org/event/emr-training-princeton-fire-6/
CATEGORIES:EMT Refresher
END:VEVENT
BEGIN:VEVENT
DTSTART;TZID=America/Los_Angeles:20250920T151500
DTEND;TZID=America/Los_Angeles:20250920T170000
DTSTAMP:20260425T075127
CREATED:20250917T205959Z
LAST-MODIFIED:20250917T205959Z
UID:12779-1758381300-1758387600@emsces911.org
SUMMARY:EMT Skill Sign off session
DESCRIPTION:EMT Skill Sign off session
URL:https://emsces911.org/event/emt-skill-sign-off-session/
LOCATION:EMSCES911\, 679 North Palora Ave #A\, Yuba City\, CA\, 95993\, United States
CATEGORIES:EMT Refresher
END:VEVENT
BEGIN:VEVENT
DTSTART;TZID=America/Los_Angeles:20250822T160000
DTEND;TZID=America/Los_Angeles:20250822T180000
DTSTAMP:20260425T075127
CREATED:20250811T060111Z
LAST-MODIFIED:20250811T060111Z
UID:12502-1755878400-1755885600@emsces911.org
SUMMARY:Bleeding control event (SNMH Ambulance)
DESCRIPTION:Bleeding control event (SNMH Ambulance)
URL:https://emsces911.org/event/bleeding-control-event-snmh-ambulance/
CATEGORIES:EMT Refresher
END:VEVENT
BEGIN:VEVENT
DTSTART;TZID=America/Los_Angeles:20250819T160000
DTEND;TZID=America/Los_Angeles:20250819T180000
DTSTAMP:20260425T075127
CREATED:20250811T060243Z
LAST-MODIFIED:20250811T060243Z
UID:12504-1755619200-1755626400@emsces911.org
SUMMARY:Bleeding control event (SNMH Ambulance)
DESCRIPTION:Bleeding control event (SNMH Ambulance)
URL:https://emsces911.org/event/bleeding-control-event-snmh-ambulance-2/
CATEGORIES:EMT Refresher
END:VEVENT
BEGIN:VEVENT
DTSTART;VALUE=DATE:20250607
DTEND;VALUE=DATE:20250608
DTSTAMP:20260425T075127
CREATED:20250507T030050Z
LAST-MODIFIED:20250507T030050Z
UID:11743-1749254400-1749340799@emsces911.org
SUMMARY:Bleeding control training West Point Fire
DESCRIPTION:Bleeding control training West Point Fire
URL:https://emsces911.org/event/bleeding-control-training-west-point-fire/
CATEGORIES:EMT Refresher
END:VEVENT
BEGIN:VEVENT
DTSTART;TZID=America/Los_Angeles:20250427T100000
DTEND;TZID=America/Los_Angeles:20250427T200000
DTSTAMP:20260425T075127
CREATED:20250319T154745Z
LAST-MODIFIED:20250319T154745Z
UID:11265-1745748000-1745784000@emsces911.org
SUMMARY:Emergency Medical Responder (EMR) Day 5
DESCRIPTION:Emergency Medical Responder (EMR) Day 5
URL:https://emsces911.org/event/emergency-medical-responder-emr-day-5/
CATEGORIES:EMT Refresher
END:VEVENT
BEGIN:VEVENT
DTSTART;TZID=America/Los_Angeles:20250419T100000
DTEND;TZID=America/Los_Angeles:20250419T200000
DTSTAMP:20260425T075127
CREATED:20250319T154632Z
LAST-MODIFIED:20250319T154632Z
UID:11261-1745056800-1745092800@emsces911.org
SUMMARY:Emergency Medical Responder (EMR) Day 4
DESCRIPTION:Emergency Medical Responder (EMR) Day 4
URL:https://emsces911.org/event/emergency-medical-responder-emr-day-4/
CATEGORIES:EMT Refresher
END:VEVENT
BEGIN:VEVENT
DTSTART;TZID=America/Los_Angeles:20250413T100000
DTEND;TZID=America/Los_Angeles:20250413T200000
DTSTAMP:20260425T075127
CREATED:20250319T154518Z
LAST-MODIFIED:20250319T154518Z
UID:11257-1744538400-1744574400@emsces911.org
SUMMARY:Emergency Medical Responder (EMR) Day 3
DESCRIPTION:Emergency Medical Responder (EMR) Day 3
URL:https://emsces911.org/event/emergency-medical-responder-emr-day-3/
CATEGORIES:EMT Refresher
END:VEVENT
BEGIN:VEVENT
DTSTART;TZID=America/Los_Angeles:20250408T180000
DTEND;TZID=America/Los_Angeles:20250408T220000
DTSTAMP:20260425T075127
CREATED:20250319T173445Z
LAST-MODIFIED:20250319T173445Z
UID:11382-1744135200-1744149600@emsces911.org
SUMMARY:EMR CEUs for Williams Fire
DESCRIPTION:EMR CEUs for Williams Fire. contracted class
URL:https://emsces911.org/event/emr-ceus-for-williams-fire-2/
CATEGORIES:EMT Refresher
END:VEVENT
BEGIN:VEVENT
DTSTART;TZID=America/Los_Angeles:20250406T080000
DTEND;TZID=America/Los_Angeles:20250406T180000
DTSTAMP:20260425T075127
CREATED:20250319T154339Z
LAST-MODIFIED:20250319T154339Z
UID:11253-1743926400-1743962400@emsces911.org
SUMMARY:Emergency Medical Responder (EMR) Day 2
DESCRIPTION:Emergency Medical Responder (EMR) Day 2. This is a contracted class.
URL:https://emsces911.org/event/emergency-medical-responder-emr-day-2/
CATEGORIES:EMT Refresher
END:VEVENT
BEGIN:VEVENT
DTSTART;TZID=America/Los_Angeles:20250405T100000
DTEND;TZID=America/Los_Angeles:20250405T200000
DTSTAMP:20260425T075127
CREATED:20250319T154223Z
LAST-MODIFIED:20250319T154223Z
UID:11249-1743847200-1743883200@emsces911.org
SUMMARY:Emergency Medical Responder (EMR)
DESCRIPTION:Emergency Medical Responder (EMR).. This is a contracted class.
URL:https://emsces911.org/event/emergency-medical-responder-emr/
CATEGORIES:EMT Refresher
END:VEVENT
BEGIN:VEVENT
DTSTART;TZID=America/Los_Angeles:20250401T180000
DTEND;TZID=America/Los_Angeles:20250401T220000
DTSTAMP:20260425T075127
CREATED:20250319T173344Z
LAST-MODIFIED:20250319T173344Z
UID:11378-1743530400-1743544800@emsces911.org
SUMMARY:EMR CEUs for Williams Fire
DESCRIPTION:EMR CEUs for Williams Fire contracted class
URL:https://emsces911.org/event/emr-ceus-for-williams-fire/
CATEGORIES:EMT Refresher
END:VEVENT
BEGIN:VEVENT
DTSTART;TZID=America/Los_Angeles:20250321T180000
DTEND;TZID=America/Los_Angeles:20250323T180000
DTSTAMP:20260425T075127
CREATED:20250210T181113Z
LAST-MODIFIED:20250303T020829Z
UID:10852-1742580000-1742752800@emsces911.org
SUMMARY:EMT Refresher
DESCRIPTION:EMT Refresher Day 1.  \nIn this course we will go over  \nResuscitation Academy\nNaloxone use\nEpi use\nAirway management\nTrauma and medical Assessment\nBleeding control\nand much more \nAt the end of this class you will have the most up to date info out there. 24 hours of CEUs and your skills signed off.
URL:https://emsces911.org/event/10852/
LOCATION:EMSCES911\, 679 North Palora Ave #A\, Yuba City\, CA\, 95993\, United States
CATEGORIES:EMT Refresher
END:VEVENT
BEGIN:VEVENT
DTSTART;TZID=America/Los_Angeles:20250207T180000
DTEND;TZID=America/Los_Angeles:20250209T180000
DTSTAMP:20260425T075127
CREATED:20241127T001310Z
LAST-MODIFIED:20241127T001310Z
UID:10158-1738951200-1739124000@emsces911.org
SUMMARY:EMT Refresher
DESCRIPTION:EMT Refresher Day 1.  \nIn this course we will go over  \nResuscitation Academy\nNaloxone use\nEpi use\nAirway management\nTrauma and medical Assessment\nBleeding control\nand much more \nAt the end of this class you will have the most up to date info out there. 24 hours of CEUs and your skills signed off.  \nThis class will be at the Wheatland Community Center\naddress 101 C street in Wheatland\, CA. 95692
URL:https://emsces911.org/event/emt-refresher-4/
CATEGORIES:EMT Refresher
END:VEVENT
BEGIN:VEVENT
DTSTART;TZID=America/Los_Angeles:20250113T080000
DTEND;TZID=America/Los_Angeles:20250114T180000
DTSTAMP:20260425T075127
CREATED:20241009T024007Z
LAST-MODIFIED:20241009T024007Z
UID:9795-1736755200-1736877600@emsces911.org
SUMMARY:Title 22 Refresher/ EMS Training
DESCRIPTION:This Course is a private course for Veteran’s Home Napa\, CA. (CONTRACTED)  \n100 California Drive \nYountville\, CA. 94599
URL:https://emsces911.org/event/title-22-refresher-ems-training/
CATEGORIES:EMT Refresher
END:VEVENT
BEGIN:VEVENT
DTSTART;VALUE=DATE:20241123
DTEND;VALUE=DATE:20241125
DTSTAMP:20260425T075127
CREATED:20241008T041155Z
LAST-MODIFIED:20241115T000226Z
UID:9660-1732320000-1732492799@emsces911.org
SUMMARY:TCCC Columbia College
DESCRIPTION:TCCC Columbia College
URL:https://emsces911.org/event/tccc-columbia-college/
CATEGORIES:EMT Refresher
END:VEVENT
END:VCALENDAR