BEGIN:VCALENDAR
VERSION:2.0
PRODID:-//EMSCES911 - ECPv6.15.20//NONSGML v1.0//EN
CALSCALE:GREGORIAN
METHOD:PUBLISH
X-ORIGINAL-URL:https://emsces911.org
X-WR-CALDESC:Events for EMSCES911
REFRESH-INTERVAL;VALUE=DURATION:PT1H
X-Robots-Tag:noindex
X-PUBLISHED-TTL:PT1H
BEGIN:VTIMEZONE
TZID:America/Los_Angeles
BEGIN:DAYLIGHT
TZOFFSETFROM:-0800
TZOFFSETTO:-0700
TZNAME:PDT
DTSTART:20220313T100000
END:DAYLIGHT
BEGIN:STANDARD
TZOFFSETFROM:-0700
TZOFFSETTO:-0800
TZNAME:PST
DTSTART:20221106T090000
END:STANDARD
BEGIN:DAYLIGHT
TZOFFSETFROM:-0800
TZOFFSETTO:-0700
TZNAME:PDT
DTSTART:20230312T100000
END:DAYLIGHT
BEGIN:STANDARD
TZOFFSETFROM:-0700
TZOFFSETTO:-0800
TZNAME:PST
DTSTART:20231105T090000
END:STANDARD
BEGIN:DAYLIGHT
TZOFFSETFROM:-0800
TZOFFSETTO:-0700
TZNAME:PDT
DTSTART:20240310T100000
END:DAYLIGHT
BEGIN:STANDARD
TZOFFSETFROM:-0700
TZOFFSETTO:-0800
TZNAME:PST
DTSTART:20241103T090000
END:STANDARD
BEGIN:DAYLIGHT
TZOFFSETFROM:-0800
TZOFFSETTO:-0700
TZNAME:PDT
DTSTART:20250309T100000
END:DAYLIGHT
BEGIN:STANDARD
TZOFFSETFROM:-0700
TZOFFSETTO:-0800
TZNAME:PST
DTSTART:20251102T090000
END:STANDARD
END:VTIMEZONE
BEGIN:VTIMEZONE
TZID:UTC
BEGIN:STANDARD
TZOFFSETFROM:+0000
TZOFFSETTO:+0000
TZNAME:UTC
DTSTART:20210101T000000
END:STANDARD
END:VTIMEZONE
BEGIN:VEVENT
DTSTART;TZID=America/Los_Angeles:20240528T173000
DTEND;TZID=America/Los_Angeles:20240528T210000
DTSTAMP:20260425T135735
CREATED:20240408T171831Z
LAST-MODIFIED:20240408T171831Z
UID:7859-1716917400-1716930000@emsces911.org
SUMMARY:BASIC EKG Day 4 final day
DESCRIPTION:Basic EKG Day 4 Final Day … MUST ATTEND ALL 4 DAYS TO SUCCESSFULLY PASS and PASS THE WRITTEN FINAL.  \nThis class is open to the public.  \nThis class will teach you how to read EKG strips. This class will set you up to become a Cardiac Monitor tech. or just to increase your knowledge on EKG \nYou will need to purchase a textbook for this class or use one from someone.  \nBasic Arrhythmias 8th edition\n ISBN: 0134380991
URL:https://emsces911.org/event/basic-ekg-day-4-final-day/
LOCATION:EMSCES911\, 679 North Palora Ave #A\, Yuba City\, CA\, 95993\, United States
CATEGORIES:EKG
END:VEVENT
BEGIN:VEVENT
DTSTART;TZID=America/Los_Angeles:20240521T173000
DTEND;TZID=America/Los_Angeles:20240521T210000
DTSTAMP:20260425T135735
CREATED:20240408T171640Z
LAST-MODIFIED:20240408T171640Z
UID:7854-1716312600-1716325200@emsces911.org
SUMMARY:BASIC EKG Day 3
DESCRIPTION:Basic EKG Day 3 … MUST ATTEND ALL 4 DAYS TO SUCCESSFULLY PASS and PASS THE WRITTEN FINAL.  \nThis class is open to the public.  \nThis class will teach you how to read EKG strips. This class will set you up to become a Cardiac Monitor tech. or just to increase your knowledge on EKG \nYou will need to purchase a textbook for this class or use one from someone.  \nBasic Arrhythmias 8th edition\n ISBN: 0134380991
URL:https://emsces911.org/event/basic-ekg-day-3/
LOCATION:EMSCES911\, 679 North Palora Ave #A\, Yuba City\, CA\, 95993\, United States
CATEGORIES:EKG
END:VEVENT
BEGIN:VEVENT
DTSTART;TZID=America/Los_Angeles:20240514T173000
DTEND;TZID=America/Los_Angeles:20240514T210000
DTSTAMP:20260425T135735
CREATED:20240408T171518Z
LAST-MODIFIED:20240408T171933Z
UID:7851-1715707800-1715720400@emsces911.org
SUMMARY:Basic EKG day 2
DESCRIPTION:Basic EKG Day 2 … MUST ATTEND ALL 4 DAYS TO SUCCESSFULLY PASS and PASS THE WRITTEN FINAL.  \nThis class is open to the public.  \nThis class will teach you how to read EKG strips. This class will set you up to become a Cardiac Monitor tech. or just to increase your knowledge on EKG \nYou will need to purchase a textbook for this class or use one from someone.  \nBasic Arrhythmias 8th edition\n ISBN: 0134380991
URL:https://emsces911.org/event/basic-ekg-day-2/
LOCATION:EMSCES911\, 679 North Palora Ave #A\, Yuba City\, CA\, 95993\, United States
CATEGORIES:EKG
END:VEVENT
BEGIN:VEVENT
DTSTART;TZID=America/Los_Angeles:20240507T173000
DTEND;TZID=America/Los_Angeles:20240507T210000
DTSTAMP:20260425T135735
CREATED:20240408T171053Z
LAST-MODIFIED:20240427T211248Z
UID:7846-1715103000-1715115600@emsces911.org
SUMMARY:Basic EKG Day 1
DESCRIPTION:Basic EKG … \nThis class is open to the public.  \nThis class will teach you how to read EKG strips. This class will set you up to become a Cardiac Monitor tech. or just to increase your knowledge on EKG \nYou will need to purchase a textbook for this class or use one from someone.  \nBasic Arrhythmias 8th edition\n ISBN: 0134380991
URL:https://emsces911.org/event/basic-ekg-day-1/
LOCATION:EMSCES911\, 679 North Palora Ave #A\, Yuba City\, CA\, 95993\, United States
CATEGORIES:EKG
END:VEVENT
BEGIN:VEVENT
DTSTART;TZID=America/Los_Angeles:20230328T173000
DTEND;TZID=America/Los_Angeles:20230328T213000
DTSTAMP:20260425T135735
CREATED:20230120T095238Z
LAST-MODIFIED:20230120T095238Z
UID:3615-1680024600-1680039000@emsces911.org
SUMMARY:EKG Class
DESCRIPTION:EKG CLASS \nLearn how to read EKG rhythms affectively.\nBe able to place a cardiac monitor on a patient.\nIdentify life threatening rhythms.\nBe able to function as a cardiac monitor technician.
URL:https://emsces911.org/event/ekg-class-7/
LOCATION:EMSCES911\, 679 North Palora Ave #A\, Yuba City\, CA\, 95993\, United States
CATEGORIES:EKG
END:VEVENT
BEGIN:VEVENT
DTSTART;TZID=America/Los_Angeles:20230321T173000
DTEND;TZID=America/Los_Angeles:20230321T213000
DTSTAMP:20260425T135735
CREATED:20230120T095152Z
LAST-MODIFIED:20230120T095152Z
UID:3612-1679419800-1679434200@emsces911.org
SUMMARY:EKG Class
DESCRIPTION:EKG CLASS \nLearn how to read EKG rhythms affectively.\nBe able to place a cardiac monitor on a patient.\nIdentify life threatening rhythms.\nBe able to function as a cardiac monitor technician.
URL:https://emsces911.org/event/ekg-class-6/
LOCATION:EMSCES911\, 679 North Palora Ave #A\, Yuba City\, CA\, 95993\, United States
CATEGORIES:EKG
END:VEVENT
BEGIN:VEVENT
DTSTART;TZID=America/Los_Angeles:20230314T173000
DTEND;TZID=America/Los_Angeles:20230314T213000
DTSTAMP:20260425T135735
CREATED:20230120T095105Z
LAST-MODIFIED:20230120T095105Z
UID:3609-1678815000-1678829400@emsces911.org
SUMMARY:EKG Class
DESCRIPTION:EKG CLASS \nLearn how to read EKG rhythms affectively.\nBe able to place a cardiac monitor on a patient.\nIdentify life threatening rhythms.\nBe able to function as a cardiac monitor technician.
URL:https://emsces911.org/event/ekg-class-5/
LOCATION:EMSCES911\, 679 North Palora Ave #A\, Yuba City\, CA\, 95993\, United States
CATEGORIES:EKG
END:VEVENT
BEGIN:VEVENT
DTSTART;TZID=America/Los_Angeles:20230307T173000
DTEND;TZID=America/Los_Angeles:20230307T213000
DTSTAMP:20260425T135735
CREATED:20230120T095014Z
LAST-MODIFIED:20230120T095014Z
UID:3605-1678210200-1678224600@emsces911.org
SUMMARY:EKG CLASS
DESCRIPTION:EKG CLASS \nLearn how to read EKG rhythms affectively.\nBe able to place a cardiac monitor on a patient.\nIdentify life threatening rhythms.\nBe able to function as a cardiac monitor technician.
URL:https://emsces911.org/event/ekg-class-4/
LOCATION:EMSCES911\, 679 North Palora Ave #A\, Yuba City\, CA\, 95993\, United States
CATEGORIES:EKG
END:VEVENT
BEGIN:VEVENT
DTSTART;TZID=UTC:20220425T173000
DTEND;TZID=UTC:20220425T213000
DTSTAMP:20260425T135735
CREATED:20220408T071651Z
LAST-MODIFIED:20220408T071651Z
UID:662-1650907800-1650922200@emsces911.org
SUMMARY:EKG CLASS
DESCRIPTION:This is an EKG Class open to the public.   Must attend all 4 classes\, dated April 5\, 12\, 19\, and 25.  5:30pm-9:30pm
URL:https://emsces911.org/event/ekg-class-3/
LOCATION:EMSCES911\, 679 North Palora Ave #A\, Yuba City\, CA\, 95993\, United States
CATEGORIES:EKG,ITLS
END:VEVENT
BEGIN:VEVENT
DTSTART;TZID=UTC:20220419T173000
DTEND;TZID=UTC:20220419T213000
DTSTAMP:20260425T135735
CREATED:20220408T071553Z
LAST-MODIFIED:20220408T071553Z
UID:660-1650389400-1650403800@emsces911.org
SUMMARY:EKG CLASS
DESCRIPTION:This is an EKG Class open to the public.   Must attend all 4 classes\, dated April 5\, 12\, 19\, and 25.  5:30pm-9:30pm
URL:https://emsces911.org/event/ekg-class-2/
LOCATION:EMSCES911\, 679 North Palora Ave #A\, Yuba City\, CA\, 95993\, United States
CATEGORIES:EKG,ITLS
END:VEVENT
BEGIN:VEVENT
DTSTART;TZID=UTC:20220412T173000
DTEND;TZID=UTC:20220412T213000
DTSTAMP:20260425T135735
CREATED:20220408T071424Z
LAST-MODIFIED:20220408T071424Z
UID:658-1649784600-1649799000@emsces911.org
SUMMARY:EKG CLASS
DESCRIPTION:This is an EKG Class open to the public.   Must attend all 4 classes\, dated April 5\, 12\, 19\, and 25.  5:30pm-9:30pm
URL:https://emsces911.org/event/ekg-class/
LOCATION:EMSCES911\, 679 North Palora Ave #A\, Yuba City\, CA\, 95993\, United States
CATEGORIES:EKG,ITLS
END:VEVENT
END:VCALENDAR