BEGIN:VCALENDAR
VERSION:2.0
PRODID:-//EMSCES911 - ECPv6.15.20//NONSGML v1.0//EN
CALSCALE:GREGORIAN
METHOD:PUBLISH
X-ORIGINAL-URL:https://emsces911.org
X-WR-CALDESC:Events for EMSCES911
REFRESH-INTERVAL;VALUE=DURATION:PT1H
X-Robots-Tag:noindex
X-PUBLISHED-TTL:PT1H
BEGIN:VTIMEZONE
TZID:America/Los_Angeles
BEGIN:DAYLIGHT
TZOFFSETFROM:-0800
TZOFFSETTO:-0700
TZNAME:PDT
DTSTART:20240310T100000
END:DAYLIGHT
BEGIN:STANDARD
TZOFFSETFROM:-0700
TZOFFSETTO:-0800
TZNAME:PST
DTSTART:20241103T090000
END:STANDARD
BEGIN:DAYLIGHT
TZOFFSETFROM:-0800
TZOFFSETTO:-0700
TZNAME:PDT
DTSTART:20250309T100000
END:DAYLIGHT
BEGIN:STANDARD
TZOFFSETFROM:-0700
TZOFFSETTO:-0800
TZNAME:PST
DTSTART:20251102T090000
END:STANDARD
BEGIN:DAYLIGHT
TZOFFSETFROM:-0800
TZOFFSETTO:-0700
TZNAME:PDT
DTSTART:20260308T100000
END:DAYLIGHT
BEGIN:STANDARD
TZOFFSETFROM:-0700
TZOFFSETTO:-0800
TZNAME:PST
DTSTART:20261101T090000
END:STANDARD
END:VTIMEZONE
BEGIN:VEVENT
DTSTART;TZID=America/Los_Angeles:20250602T080000
DTEND;TZID=America/Los_Angeles:20250602T200000
DTSTAMP:20260425T213143
CREATED:20250430T052536Z
LAST-MODIFIED:20250430T052536Z
UID:11643-1748851200-1748894400@emsces911.org
SUMMARY:Advanced Cardiac Life Support Provider Course
DESCRIPTION:Advanced Cardiac Life Support Provider Course \nhttps://shopcpr.heart.org/acls-provider-manual or https://shopcpr.heart.org/acls-provider-manual-ebook \nFor this course you will need to have the ACLS textbook (required) and ECC handbook (optional). These item can be purchased at the link above. The pre test within the textbook must be completed and your score of 70% or greater printed and brought with you to class. \nACLS Pretest:\nhttps://elearning.heart.org/course/423
URL:https://emsces911.org/event/advanced-cardiac-life-support-provider-course-55/
LOCATION:EMSCES911\, 679 North Palora Ave #A\, Yuba City\, CA\, 95993\, United States
CATEGORIES:ACLS
END:VEVENT
BEGIN:VEVENT
DTSTART;TZID=America/Los_Angeles:20250604T080000
DTEND;TZID=America/Los_Angeles:20250604T140000
DTSTAMP:20260425T213143
CREATED:20250430T052832Z
LAST-MODIFIED:20250602T034610Z
UID:11646-1749024000-1749045600@emsces911.org
SUMMARY:Advanced Cardiac Life Support Renewal Course
DESCRIPTION:Advanced Cardiac Life Support Renewal Course \nhttps://shopcpr.heart.org/acls-provider-manual or https://shopcpr.heart.org/acls-provider-manual-ebook \nFor this course you will need to have the ACLS textbook (required) and ECC handbook (optional). These item can be purchased at the link above. The pre test within the textbook must be completed and your score of 70% or greater printed and brought with you to class. \nACLS Pretest:\nhttps://elearning.heart.org/course/423
URL:https://emsces911.org/event/advanced-cardiac-life-support-renewal-course-121/
LOCATION:EMSCES911\, 679 North Palora Ave #A\, Yuba City\, CA\, 95993\, United States
CATEGORIES:ACLS
END:VEVENT
BEGIN:VEVENT
DTSTART;TZID=America/Los_Angeles:20250611T080000
DTEND;TZID=America/Los_Angeles:20250611T140000
DTSTAMP:20260425T213143
CREATED:20250430T053116Z
LAST-MODIFIED:20250430T053116Z
UID:11649-1749628800-1749650400@emsces911.org
SUMMARY:Advanced Cardiac Life Support Renewal Course
DESCRIPTION:Advanced Cardiac Life Support Renewal Course \nhttps://shopcpr.heart.org/acls-provider-manual or https://shopcpr.heart.org/acls-provider-manual-ebook \nFor this course you will need to have the ACLS textbook (required) and ECC handbook (optional). These item can be purchased at the link above. The pre test within the textbook must be completed and your score of 70% or greater printed and brought with you to class. \nACLS Pretest:\nhttps://elearning.heart.org/course/423
URL:https://emsces911.org/event/advanced-cardiac-life-support-renewal-course-122/
LOCATION:EMSCES911\, 679 North Palora Ave #A\, Yuba City\, CA\, 95993\, United States
CATEGORIES:ACLS
END:VEVENT
BEGIN:VEVENT
DTSTART;TZID=America/Los_Angeles:20250625T080000
DTEND;TZID=America/Los_Angeles:20250625T140000
DTSTAMP:20260425T213143
CREATED:20250430T054303Z
LAST-MODIFIED:20250430T054303Z
UID:11652-1750838400-1750860000@emsces911.org
SUMMARY:Advanced Cardiac Life Support Renewal Course
DESCRIPTION:Advanced Cardiac Life Support Renewal Course \nhttps://shopcpr.heart.org/acls-provider-manual or https://shopcpr.heart.org/acls-provider-manual-ebook \nFor this course you will need to have the ACLS textbook (required) and ECC handbook (optional). These item can be purchased at the link above. The pre test within the textbook must be completed and your score of 70% or greater printed and brought with you to class. \nACLS Pretest:\nhttps://elearning.heart.org/course/423
URL:https://emsces911.org/event/advanced-cardiac-life-support-renewal-course-123/
LOCATION:EMSCES911\, 679 North Palora Ave #A\, Yuba City\, CA\, 95993\, United States
CATEGORIES:ACLS
END:VEVENT
BEGIN:VEVENT
DTSTART;TZID=America/Los_Angeles:20250630T080000
DTEND;TZID=America/Los_Angeles:20250630T140000
DTSTAMP:20260425T213143
CREATED:20250618T143121Z
LAST-MODIFIED:20250618T143121Z
UID:12109-1751270400-1751292000@emsces911.org
SUMMARY:Advanced Cardiac Life Support Renewal Course
DESCRIPTION:Advanced Cardiac Life Support Renewal Course \nhttps://shopcpr.heart.org/acls-provider-manual or https://shopcpr.heart.org/acls-provider-manual-ebook \nFor this course you will need to have the ACLS textbook (required) and ECC handbook (optional). These item can be purchased at the link above. The pre test within the textbook must be completed and your score of 70% or greater printed and brought with you to class. \nACLS Pretest:\nhttps://elearning.heart.org/course/423
URL:https://emsces911.org/event/advanced-cardiac-life-support-renewal-course-128/
LOCATION:EMSCES911\, 679 North Palora Ave #A\, Yuba City\, CA\, 95993\, United States
CATEGORIES:ACLS
END:VEVENT
END:VCALENDAR