BEGIN:VCALENDAR
VERSION:2.0
PRODID:-//EMSCES911 - ECPv6.15.20//NONSGML v1.0//EN
CALSCALE:GREGORIAN
METHOD:PUBLISH
X-WR-CALNAME:EMSCES911
X-ORIGINAL-URL:https://emsces911.org
X-WR-CALDESC:Events for EMSCES911
REFRESH-INTERVAL;VALUE=DURATION:PT1H
X-Robots-Tag:noindex
X-PUBLISHED-TTL:PT1H
BEGIN:VTIMEZONE
TZID:America/Los_Angeles
BEGIN:DAYLIGHT
TZOFFSETFROM:-0800
TZOFFSETTO:-0700
TZNAME:PDT
DTSTART:20240310T100000
END:DAYLIGHT
BEGIN:STANDARD
TZOFFSETFROM:-0700
TZOFFSETTO:-0800
TZNAME:PST
DTSTART:20241103T090000
END:STANDARD
BEGIN:DAYLIGHT
TZOFFSETFROM:-0800
TZOFFSETTO:-0700
TZNAME:PDT
DTSTART:20250309T100000
END:DAYLIGHT
BEGIN:STANDARD
TZOFFSETFROM:-0700
TZOFFSETTO:-0800
TZNAME:PST
DTSTART:20251102T090000
END:STANDARD
BEGIN:DAYLIGHT
TZOFFSETFROM:-0800
TZOFFSETTO:-0700
TZNAME:PDT
DTSTART:20260308T100000
END:DAYLIGHT
BEGIN:STANDARD
TZOFFSETFROM:-0700
TZOFFSETTO:-0800
TZNAME:PST
DTSTART:20261101T090000
END:STANDARD
END:VTIMEZONE
BEGIN:VEVENT
DTSTART;TZID=America/Los_Angeles:20251213T090000
DTEND;TZID=America/Los_Angeles:20251214T193000
DTSTAMP:20260425T105231
CREATED:20251013T185405Z
LAST-MODIFIED:20251013T185405Z
UID:12933-1765616400-1765740600@emsces911.org
SUMMARY:Title 22 Public safety first aid (PSFA)
DESCRIPTION:This course is for people getting into public safety. Open to the public but fire academy and working personnel have priority. Healthcare Provider is not included in this course but we do offer this course seperatly \ngoes over \npatient assessment\nairway management\nEpi by auto injectors\nNaloxone\nStop the bleed and Resuscitation acedemy \nand more
URL:https://emsces911.org/event/title-22-public-safety-first-aid-psfa/
LOCATION:EMSCES911\, 679 North Palora Ave #A\, Yuba City\, CA\, 95993\, United States
CATEGORIES:EMT Refresher
END:VEVENT
END:VCALENDAR