BEGIN:VCALENDAR
VERSION:2.0
PRODID:-//EMSCES911 - ECPv6.15.20//NONSGML v1.0//EN
CALSCALE:GREGORIAN
METHOD:PUBLISH
X-ORIGINAL-URL:https://emsces911.org
X-WR-CALDESC:Events for EMSCES911
REFRESH-INTERVAL;VALUE=DURATION:PT1H
X-Robots-Tag:noindex
X-PUBLISHED-TTL:PT1H
BEGIN:VTIMEZONE
TZID:America/Los_Angeles
BEGIN:DAYLIGHT
TZOFFSETFROM:-0800
TZOFFSETTO:-0700
TZNAME:PDT
DTSTART:20240310T100000
END:DAYLIGHT
BEGIN:STANDARD
TZOFFSETFROM:-0700
TZOFFSETTO:-0800
TZNAME:PST
DTSTART:20241103T090000
END:STANDARD
BEGIN:DAYLIGHT
TZOFFSETFROM:-0800
TZOFFSETTO:-0700
TZNAME:PDT
DTSTART:20250309T100000
END:DAYLIGHT
BEGIN:STANDARD
TZOFFSETFROM:-0700
TZOFFSETTO:-0800
TZNAME:PST
DTSTART:20251102T090000
END:STANDARD
BEGIN:DAYLIGHT
TZOFFSETFROM:-0800
TZOFFSETTO:-0700
TZNAME:PDT
DTSTART:20260308T100000
END:DAYLIGHT
BEGIN:STANDARD
TZOFFSETFROM:-0700
TZOFFSETTO:-0800
TZNAME:PST
DTSTART:20261101T090000
END:STANDARD
END:VTIMEZONE
BEGIN:VEVENT
DTSTART;TZID=America/Los_Angeles:20251117T080000
DTEND;TZID=America/Los_Angeles:20251118T170000
DTSTAMP:20260425T121852
CREATED:20250829T170155Z
LAST-MODIFIED:20251028T175825Z
UID:12686-1763366400-1763485200@emsces911.org
SUMMARY:Title 22 Course (Yountville\, CA)
DESCRIPTION:Title 22 Course  for staff of the Veteran’s Home Yountville\, CA
URL:https://emsces911.org/event/title-22-course-yountville-ca/
LOCATION:CA
CATEGORIES:EMT Refresher
END:VEVENT
BEGIN:VEVENT
DTSTART;TZID=America/Los_Angeles:20251118T180000
DTEND;TZID=America/Los_Angeles:20251118T220000
DTSTAMP:20260425T121852
CREATED:20250921T182436Z
LAST-MODIFIED:20250921T182436Z
UID:12799-1763488800-1763503200@emsces911.org
SUMMARY:EMR Training (SAC. RIVER FIRE)
DESCRIPTION:EMR Training (SAC. RIVER FIRE)
URL:https://emsces911.org/event/emr-training-sac-river-fire/
LOCATION:CA
CATEGORIES:EMT Refresher
END:VEVENT
END:VCALENDAR